Back to Multiple platform build/check report for BioC 3.17: simplified long |
|
This page was generated on 2023-03-23 11:05:05 -0400 (Thu, 23 Mar 2023).
Hostname | OS | Arch (*) | R version | Installed pkgs |
---|---|---|---|---|
nebbiolo1 | Linux (Ubuntu 22.04.1 LTS) | x86_64 | R Under development (unstable) (2023-03-16 r83996) -- "Unsuffered Consequences" | 4536 |
palomino3 | Windows Server 2022 Datacenter | x64 | R Under development (unstable) (2023-03-15 r83984 ucrt) -- "Unsuffered Consequences" | 4298 |
merida1 | macOS 10.14.6 Mojave | x86_64 | R Under development (unstable) (2023-03-16 r83985) -- "Unsuffered Consequences" | 4290 |
Click on any hostname to see more info about the system (e.g. compilers) (*) as reported by 'uname -p', except on Windows and Mac OS X |
To the developers/maintainers of the crisprDesign package: - Please allow up to 24 hours (and sometimes 48 hours) for your latest push to git@git.bioconductor.org:packages/crisprDesign.git to reflect on this report. See How and When does the builder pull? When will my changes propagate? for more information. - Make sure to use the following settings in order to reproduce any error or warning you see on this page. |
Package 445/2189 | Hostname | OS / Arch | INSTALL | BUILD | CHECK | BUILD BIN | ||||||||
crisprDesign 1.1.24 (landing page) Jean-Philippe Fortin
| nebbiolo1 | Linux (Ubuntu 22.04.1 LTS) / x86_64 | OK | OK | OK | ![]() | ||||||||
palomino3 | Windows Server 2022 Datacenter / x64 | OK | OK | OK | OK | ![]() | ||||||||
merida1 | macOS 10.14.6 Mojave / x86_64 | OK | OK | OK | OK | ![]() | ||||||||
Package: crisprDesign |
Version: 1.1.24 |
Command: /home/biocbuild/bbs-3.17-bioc/R/bin/R CMD check --install=check:crisprDesign.install-out.txt --library=/home/biocbuild/bbs-3.17-bioc/R/site-library --timings crisprDesign_1.1.24.tar.gz |
StartedAt: 2023-03-22 20:01:25 -0400 (Wed, 22 Mar 2023) |
EndedAt: 2023-03-22 20:11:14 -0400 (Wed, 22 Mar 2023) |
EllapsedTime: 589.0 seconds |
RetCode: 0 |
Status: OK |
CheckDir: crisprDesign.Rcheck |
Warnings: 0 |
############################################################################## ############################################################################## ### ### Running command: ### ### /home/biocbuild/bbs-3.17-bioc/R/bin/R CMD check --install=check:crisprDesign.install-out.txt --library=/home/biocbuild/bbs-3.17-bioc/R/site-library --timings crisprDesign_1.1.24.tar.gz ### ############################################################################## ############################################################################## * using log directory ‘/home/biocbuild/bbs-3.17-bioc/meat/crisprDesign.Rcheck’ * using R Under development (unstable) (2023-03-16 r83996) * using platform: x86_64-pc-linux-gnu (64-bit) * R was compiled by gcc (Ubuntu 11.3.0-1ubuntu1~22.04) 11.3.0 GNU Fortran (Ubuntu 11.3.0-1ubuntu1~22.04) 11.3.0 * running under: Ubuntu 22.04.2 LTS * using session charset: UTF-8 * checking for file ‘crisprDesign/DESCRIPTION’ ... OK * this is package ‘crisprDesign’ version ‘1.1.24’ * package encoding: UTF-8 * checking package namespace information ... OK * checking package dependencies ... OK * checking if this is a source package ... OK * checking if there is a namespace ... OK * checking for hidden files and directories ... NOTE Found the following hidden files and directories: .BBSoptions These were most likely included in error. See section ‘Package structure’ in the ‘Writing R Extensions’ manual. * checking for portable file names ... OK * checking for sufficient/correct file permissions ... OK * checking whether package ‘crisprDesign’ can be installed ... OK * checking installed package size ... OK * checking package directory ... OK * checking ‘build’ directory ... OK * checking DESCRIPTION meta-information ... OK * checking top-level files ... OK * checking for left-over files ... OK * checking index information ... OK * checking package subdirectories ... OK * checking R files for non-ASCII characters ... OK * checking R files for syntax errors ... OK * checking whether the package can be loaded ... OK * checking whether the package can be loaded with stated dependencies ... OK * checking whether the package can be unloaded cleanly ... OK * checking whether the namespace can be loaded with stated dependencies ... OK * checking whether the namespace can be unloaded cleanly ... OK * checking loading without being on the library search path ... OK * checking dependencies in R code ... OK * checking S3 generic/method consistency ... OK * checking replacement functions ... OK * checking foreign function calls ... OK * checking R code for possible problems ... OK * checking Rd files ... OK * checking Rd metadata ... OK * checking Rd cross-references ... OK * checking for missing documentation entries ... OK * checking for code/documentation mismatches ... OK * checking Rd \usage sections ... OK * checking Rd contents ... OK * checking for unstated dependencies in examples ... OK * checking contents of ‘data’ directory ... OK * checking data for non-ASCII characters ... OK * checking LazyData ... OK * checking data for ASCII and uncompressed saves ... OK * checking files in ‘vignettes’ ... OK * checking examples ... OK Examples with CPU (user + system) or elapsed time > 5s user system elapsed addEditedAlleles 11.679 1.164 12.844 addSNPAnnotation 11.373 0.267 11.642 * checking for unstated dependencies in ‘tests’ ... OK * checking tests ... Running ‘testthat.R’ OK * checking for unstated dependencies in vignettes ... OK * checking package vignettes in ‘inst/doc’ ... OK * checking running R code from vignettes ... ‘intro.Rmd’ using ‘UTF-8’... OK NONE * checking re-building of vignette outputs ... OK * checking PDF version of manual ... OK * DONE Status: 1 NOTE See ‘/home/biocbuild/bbs-3.17-bioc/meat/crisprDesign.Rcheck/00check.log’ for details.
crisprDesign.Rcheck/00install.out
############################################################################## ############################################################################## ### ### Running command: ### ### /home/biocbuild/bbs-3.17-bioc/R/bin/R CMD INSTALL crisprDesign ### ############################################################################## ############################################################################## * installing to library ‘/home/biocbuild/bbs-3.17-bioc/R/site-library’ * installing *source* package ‘crisprDesign’ ... ** using staged installation ** R ** data *** moving datasets to lazyload DB ** inst ** byte-compile and prepare package for lazy loading ** help *** installing help indices ** building package indices ** installing vignettes ** testing if installed package can be loaded from temporary location ** testing if installed package can be loaded from final location ** testing if installed package keeps a record of temporary installation path * DONE (crisprDesign)
crisprDesign.Rcheck/tests/testthat.Rout
R Under development (unstable) (2023-03-16 r83996) -- "Unsuffered Consequences" Copyright (C) 2023 The R Foundation for Statistical Computing Platform: x86_64-pc-linux-gnu (64-bit) R is free software and comes with ABSOLUTELY NO WARRANTY. You are welcome to redistribute it under certain conditions. Type 'license()' or 'licence()' for distribution details. R is a collaborative project with many contributors. Type 'contributors()' for more information and 'citation()' on how to cite R or R packages in publications. Type 'demo()' for some demos, 'help()' for on-line help, or 'help.start()' for an HTML browser interface to help. Type 'q()' to quit R. > library(testthat) > library(crisprDesign) Loading required package: crisprBase > > test_check("crisprDesign") [runCrisprBowtie] Using BSgenome.Hsapiens.UCSC.hg38 [runCrisprBowtie] Searching for SpCas9 protospacers # reads processed: 7 # reads with at least one alignment: 6 (85.71%) # reads that failed to align: 1 (14.29%) Reported 6 alignments [runCrisprBowtie] Using BSgenome.Hsapiens.UCSC.hg38 [runCrisprBowtie] Searching for SpCas9 protospacers # reads processed: 7 # reads with at least one alignment: 6 (85.71%) # reads that failed to align: 1 (14.29%) Reported 6 alignments [runCrisprBowtie] Using BSgenome.Hsapiens.UCSC.hg38 [runCrisprBowtie] Searching for SpCas9 protospacers # reads processed: 6 # reads with at least one alignment: 6 (100.00%) # reads that failed to align: 0 (0.00%) Reported 6 alignments [runCrisprBowtie] Using BSgenome.Hsapiens.UCSC.hg38 [runCrisprBowtie] Searching for SpCas9 protospacers # reads processed: 6 # reads with at least one alignment: 6 (100.00%) # reads that failed to align: 0 (0.00%) Reported 6 alignments [runCrisprBowtie] Using BSgenome.Hsapiens.UCSC.hg38 [runCrisprBowtie] Searching for SpCas9 protospacers # reads processed: 6 # reads with at least one alignment: 6 (100.00%) # reads that failed to align: 0 (0.00%) Reported 6 alignments [runCrisprBowtie] Using BSgenome.Hsapiens.UCSC.hg38 [runCrisprBowtie] Searching for SpCas9 protospacers # reads processed: 6 # reads with at least one alignment: 6 (100.00%) # reads that failed to align: 0 (0.00%) Reported 6 alignments [runCrisprBowtie] Using BSgenome.Hsapiens.UCSC.hg38 [runCrisprBowtie] Searching for SpCas9 protospacers # reads processed: 6 # reads with at least one alignment: 6 (100.00%) # reads that failed to align: 0 (0.00%) Reported 6 alignments [runCrisprBowtie] Using BSgenome.Hsapiens.UCSC.hg38 [runCrisprBowtie] Searching for SpCas9 protospacers # reads processed: 6 # reads with at least one alignment: 6 (100.00%) # reads that failed to align: 0 (0.00%) Reported 6 alignments [runCrisprBowtie] Using BSgenome.Hsapiens.UCSC.hg38 [runCrisprBowtie] Searching for SpCas9 protospacers # reads processed: 6 # reads with at least one alignment: 6 (100.00%) # reads that failed to align: 0 (0.00%) Reported 6 alignments [runCrisprBowtie] Using BSgenome.Hsapiens.UCSC.hg38 [runCrisprBowtie] Searching for SpCas9 protospacers # reads processed: 6 # reads with at least one alignment: 6 (100.00%) # reads that failed to align: 0 (0.00%) Reported 6 alignments [runCrisprBowtie] Using BSgenome.Hsapiens.UCSC.hg38 [runCrisprBowtie] Searching for SpCas9 protospacers # reads processed: 6 # reads with at least one alignment: 6 (100.00%) # reads that failed to align: 0 (0.00%) Reported 6 alignments [runCrisprBowtie] Using BSgenome.Hsapiens.UCSC.hg38 [runCrisprBowtie] Searching for SpCas9 protospacers # reads processed: 6 # reads with at least one alignment: 6 (100.00%) # reads that failed to align: 0 (0.00%) Reported 6 alignments [ FAIL 0 | WARN 0 | SKIP 78 | PASS 1018 ] ══ Skipped tests ═══════════════════════════════════════════════════════════════ • empty test (69) • long run time (8) • no del for guideSetExample (1) [ FAIL 0 | WARN 0 | SKIP 78 | PASS 1018 ] > > proc.time() user system elapsed 172.458 5.932 178.757
crisprDesign.Rcheck/crisprDesign-Ex.timings
name | user | system | elapsed | |
GuideSet-class | 0.144 | 0.000 | 0.144 | |
GuideSet2DataFrames | 0.873 | 0.059 | 0.933 | |
PairedGuideSet-class | 0.385 | 0.007 | 0.393 | |
TxDb2GRangesList | 0.000 | 0.000 | 0.001 | |
addCompositeScores | 1.220 | 0.064 | 1.285 | |
addDistanceToTss | 0.041 | 0.001 | 0.041 | |
addEditedAlleles | 11.679 | 1.164 | 12.844 | |
addExonTable | 0 | 0 | 0 | |
addGeneAnnotation | 1.355 | 0.068 | 1.423 | |
addIsoformAnnotation | 0.142 | 0.000 | 0.142 | |
addNtcs | 0.319 | 0.011 | 0.331 | |
addOffTargetScores | 0.276 | 0.016 | 0.291 | |
addOnTargetScores | 0 | 0 | 0 | |
addOpsBarcodes | 0.036 | 0.001 | 0.036 | |
addPamScores | 0.474 | 0.031 | 0.505 | |
addRepeats | 0.234 | 0.017 | 0.250 | |
addRestrictionEnzymes | 0.752 | 0.024 | 0.777 | |
addSNPAnnotation | 11.373 | 0.267 | 11.642 | |
addSequenceFeatures | 0.428 | 0.012 | 0.441 | |
addSpacerAlignments | 0.001 | 0.001 | 0.001 | |
addTssAnnotation | 0.212 | 0.012 | 0.223 | |
addTxTable | 0.000 | 0.001 | 0.001 | |
completeSpacers | 0.353 | 0.030 | 0.383 | |
convertToMinMaxGRanges | 0.06 | 0.00 | 0.06 | |
convertToProtospacerGRanges | 0.208 | 0.004 | 0.212 | |
designOpsLibrary | 0.124 | 0.000 | 0.124 | |
findSpacerPairs | 1.982 | 0.059 | 2.042 | |
findSpacers | 1.319 | 0.028 | 1.347 | |
getBarcodeDistanceMatrix | 1.736 | 0.067 | 1.804 | |
getConsensusIsoform | 0.072 | 0.000 | 0.072 | |
getMrnaSequences | 1.350 | 0.165 | 1.515 | |
getPreMrnaSequences | 0.208 | 0.011 | 0.219 | |
getTssObjectFromTxObject | 0.050 | 0.001 | 0.049 | |
getTxDb | 0.001 | 0.000 | 0.001 | |
getTxInfoDataFrame | 0.565 | 0.087 | 0.653 | |
preparePfamTable | 0.001 | 0.000 | 0.002 | |
queryTss | 0.028 | 0.004 | 0.032 | |
queryTxObject | 0.024 | 0.004 | 0.028 | |
rankSpacers | 1.729 | 0.071 | 1.800 | |
removeRepeats | 0.251 | 0.017 | 0.268 | |
updateOpsLibrary | 0.175 | 0.007 | 0.183 | |
validateOpsLibrary | 0.168 | 0.015 | 0.184 | |