Back to Multiple platform build/check report for BioC 3.17:   simplified   long
ABCDEFG[H]IJKLMNOPQRSTUVWXYZ

This page was generated on 2023-03-22 11:06:43 -0400 (Wed, 22 Mar 2023).

HostnameOSArch (*)R versionInstalled pkgs
nebbiolo1Linux (Ubuntu 22.04.1 LTS)x86_64R Under development (unstable) (2023-03-16 r83996) -- "Unsuffered Consequences" 4508
palomino3Windows Server 2022 Datacenterx64R Under development (unstable) (2023-03-15 r83984 ucrt) -- "Unsuffered Consequences" 4293
merida1macOS 10.14.6 Mojavex86_64R Under development (unstable) (2023-03-16 r83985) -- "Unsuffered Consequences" 4290
Click on any hostname to see more info about the system (e.g. compilers)      (*) as reported by 'uname -p', except on Windows and Mac OS X

CHECK results for HiContacts on merida1


To the developers/maintainers of the HiContacts package:
- Please allow up to 24 hours (and sometimes 48 hours) for your latest push to git@git.bioconductor.org:packages/HiContacts.git to
reflect on this report. See How and When does the builder pull? When will my changes propagate? for more information.
- Make sure to use the following settings in order to reproduce any error or warning you see on this page.

raw results

Package 913/2189HostnameOS / ArchINSTALLBUILDCHECKBUILD BIN
HiContacts 1.1.2  (landing page)
Jacques Serizay
Snapshot Date: 2023-03-21 14:00:22 -0400 (Tue, 21 Mar 2023)
git_url: https://git.bioconductor.org/packages/HiContacts
git_branch: master
git_last_commit: f9cca25
git_last_commit_date: 2023-03-12 16:56:27 -0400 (Sun, 12 Mar 2023)
nebbiolo1Linux (Ubuntu 22.04.1 LTS) / x86_64  OK    OK    OK  UNNEEDED, same version is already published
palomino3Windows Server 2022 Datacenter / x64  OK    ERROR  skippedskipped
merida1macOS 10.14.6 Mojave / x86_64  OK    OK    OK    OK  UNNEEDED, same version is already published

Summary

Package: HiContacts
Version: 1.1.2
Command: /Library/Frameworks/R.framework/Resources/bin/R CMD check --install=check:HiContacts.install-out.txt --library=/Library/Frameworks/R.framework/Resources/library --no-vignettes --timings HiContacts_1.1.2.tar.gz
StartedAt: 2023-03-22 02:25:22 -0400 (Wed, 22 Mar 2023)
EndedAt: 2023-03-22 02:45:27 -0400 (Wed, 22 Mar 2023)
EllapsedTime: 1205.2 seconds
RetCode: 0
Status:   OK  
CheckDir: HiContacts.Rcheck
Warnings: 0

Command output

##############################################################################
##############################################################################
###
### Running command:
###
###   /Library/Frameworks/R.framework/Resources/bin/R CMD check --install=check:HiContacts.install-out.txt --library=/Library/Frameworks/R.framework/Resources/library --no-vignettes --timings HiContacts_1.1.2.tar.gz
###
##############################################################################
##############################################################################


* using log directory ‘/Users/biocbuild/bbs-3.17-bioc/meat/HiContacts.Rcheck’
* using R Under development (unstable) (2023-03-16 r83985)
* using platform: x86_64-apple-darwin17.0 (64-bit)
* R was compiled by
    Apple clang version 12.0.0 (clang-1200.0.32.29)
    GNU Fortran (GCC) 8.2.0
* running under: macOS Mojave 10.14.6
* using session charset: UTF-8
* using option ‘--no-vignettes’
* checking for file ‘HiContacts/DESCRIPTION’ ... OK
* this is package ‘HiContacts’ version ‘1.1.2’
* package encoding: UTF-8
* checking package namespace information ... OK
* checking package dependencies ... OK
* checking if this is a source package ... OK
* checking if there is a namespace ... OK
* checking for hidden files and directories ... OK
* checking for portable file names ... OK
* checking for sufficient/correct file permissions ... OK
* checking whether package ‘HiContacts’ can be installed ... OK
* checking installed package size ... OK
* checking package directory ... OK
* checking ‘build’ directory ... OK
* checking DESCRIPTION meta-information ... OK
* checking top-level files ... OK
* checking for left-over files ... OK
* checking index information ... OK
* checking package subdirectories ... OK
* checking R files for non-ASCII characters ... OK
* checking R files for syntax errors ... OK
* checking whether the package can be loaded ... OK
* checking whether the package can be loaded with stated dependencies ... OK
* checking whether the package can be unloaded cleanly ... OK
* checking whether the namespace can be loaded with stated dependencies ... OK
* checking whether the namespace can be unloaded cleanly ... OK
* checking dependencies in R code ... OK
* checking S3 generic/method consistency ... OK
* checking replacement functions ... OK
* checking foreign function calls ... OK
* checking R code for possible problems ... OK
* checking Rd files ... OK
* checking Rd metadata ... OK
* checking Rd cross-references ... OK
* checking for missing documentation entries ... OK
* checking for code/documentation mismatches ... OK
* checking Rd \usage sections ... OK
* checking Rd contents ... OK
* checking for unstated dependencies in examples ... OK
* checking files in ‘vignettes’ ... OK
* checking examples ... OK
Examples with CPU (user + system) or elapsed time > 5s
                       user system elapsed
arithmetics          88.038  7.759 127.751
getCompartments      34.174  5.684  37.640
Contacts             26.326  1.910  41.533
plotMatrix           17.657  1.185  25.154
plotPs               16.722  0.914  23.916
plotScalogram        14.052  1.473  20.703
scalogram            13.475  1.616  19.830
getDiamondInsulation 11.077  3.061  14.180
Ps                    7.829  0.598  12.111
plot4C                6.507  0.705   9.429
cisTransRatio         5.915  0.457   8.474
virtual4C             5.053  0.254   7.247
* checking for unstated dependencies in ‘tests’ ... OK
* checking tests ...
  Running ‘testthat.R’
 OK
* checking for unstated dependencies in vignettes ... OK
* checking package vignettes in ‘inst/doc’ ... OK
* checking running R code from vignettes ... SKIPPED
* checking re-building of vignette outputs ... SKIPPED
* checking PDF version of manual ... OK
* DONE

Status: OK


Installation output

HiContacts.Rcheck/00install.out

##############################################################################
##############################################################################
###
### Running command:
###
###   /Library/Frameworks/R.framework/Resources/bin/R CMD INSTALL HiContacts
###
##############################################################################
##############################################################################


* installing to library ‘/Library/Frameworks/R.framework/Versions/4.3/Resources/library’
* installing *source* package ‘HiContacts’ ...
** using staged installation
** R
** inst
** byte-compile and prepare package for lazy loading
** help
*** installing help indices
** building package indices
** installing vignettes
** testing if installed package can be loaded from temporary location
** testing if installed package can be loaded from final location
** testing if installed package keeps a record of temporary installation path
* DONE (HiContacts)

Tests output

HiContacts.Rcheck/tests/testthat.Rout


R Under development (unstable) (2023-03-16 r83985) -- "Unsuffered Consequences"
Copyright (C) 2023 The R Foundation for Statistical Computing
Platform: x86_64-apple-darwin17.0 (64-bit)

R is free software and comes with ABSOLUTELY NO WARRANTY.
You are welcome to redistribute it under certain conditions.
Type 'license()' or 'licence()' for distribution details.

R is a collaborative project with many contributors.
Type 'contributors()' for more information and
'citation()' on how to cite R or R packages in publications.

Type 'demo()' for some demos, 'help()' for on-line help, or
'help.start()' for an HTML browser interface to help.
Type 'q()' to quit R.

> # This file is part of the standard setup for testthat.
> # It is recommended that you do not modify it.
> #
> # Where should you do additional test configuration?
> # Learn more about the roles of various files in:
> # * https://r-pkgs.org/tests.html
> # * https://testthat.r-lib.org/reference/test_package.html#special-files
> 
> library(testthat)
> library(HiContacts)
Loading required package: HiCExperiment

Attaching package: 'HiContacts'

The following object is masked from 'package:base':

    merge

> 
> test_check("HiContacts")


  |                                                                            
  |                                                                      |   0%
  |                                                                            
  |====                                                                  |   6%
  |                                                                            
  |=========                                                             |  12%
  |                                                                            
  |=============                                                         |  19%
  |                                                                            
  |==================                                                    |  25%
  |                                                                            
  |======================                                                |  31%
  |                                                                            
  |==========================                                            |  38%
  |                                                                            
  |===============================                                       |  44%
  |                                                                            
  |===================================                                   |  50%
  |                                                                            
  |=======================================                               |  56%
  |                                                                            
  |============================================                          |  62%
  |                                                                            
  |================================================                      |  69%
  |                                                                            
  |====================================================                  |  75%
  |                                                                            
  |=========================================================             |  81%
  |                                                                            
  |=============================================================         |  88%
  |                                                                            
  |==================================================================    |  94%
  |                                                                            
  |======================================================================| 100%


  |                                                                            
  |                                                                      |   0%
  |                                                                            
  |======================================================================| 100%


  |                                                                            
  |                                                                      |   0%
  |                                                                            
  |======================================================================| 100%


  |                                                                            
  |                                                                      |   0%
  |                                                                            
  |======================================================================| 100%


  |                                                                            
  |                                                                      |   0%
  |                                                                            
  |==================                                                    |  25%
  |                                                                            
  |===================================                                   |  50%
  |                                                                            
  |=====================================================                 |  75%
  |                                                                            
  |======================================================================| 100%


  |                                                                            
  |                                                                      |   0%
  |                                                                            
  |==================                                                    |  25%
  |                                                                            
  |===================================                                   |  50%
  |                                                                            
  |=====================================================                 |  75%
  |                                                                            
  |======================================================================| 100%

[ FAIL 0 | WARN 1 | SKIP 0 | PASS 51 ]

[ FAIL 0 | WARN 1 | SKIP 0 | PASS 51 ]
> 
> proc.time()
   user  system elapsed 
290.467  31.309 396.474 

Example timings

HiContacts.Rcheck/HiContacts-Ex.timings

nameusersystemelapsed
Contacts26.326 1.91041.533
Ps 7.829 0.59812.111
arithmetics 88.038 7.759127.751
cisTransRatio5.9150.4578.474
getCompartments34.174 5.68437.640
getDiamondInsulation11.077 3.06114.180
palettes0.0020.0000.002
plot4C6.5070.7059.429
plotMatrix17.657 1.18525.154
plotPs16.722 0.91423.916
plotScalogram14.052 1.47320.703
scalogram13.475 1.61619.830
virtual4C5.0530.2547.247