Back to Multiple platform build/check report for BioC 3.17:   simplified   long
ABCDEFGHIJKLMNOPQR[S]TUVWXYZ

This page was generated on 2023-05-29 11:05:06 -0400 (Mon, 29 May 2023).

HostnameOSArch (*)R versionInstalled pkgs
nebbiolo1Linux (Ubuntu 22.04.2 LTS)x86_644.3.0 RC (2023-04-13 r84269) -- "Already Tomorrow" 4617
palomino3Windows Server 2022 Datacenterx644.3.0 RC (2023-04-13 r84269 ucrt) -- "Already Tomorrow" 4368
merida1macOS 12.6.4 Montereyx86_644.3.0 RC (2023-04-13 r84257) -- "Already Tomorrow" 4326
Click on any hostname to see more info about the system (e.g. compilers)      (*) as reported by 'uname -p', except on Windows and Mac OS X

All results for package sva


To the developers/maintainers of the sva package:
- Allow up to 24 hours (and sometimes 48 hours) for your latest push to git@git.bioconductor.org:packages/sva.git to reflect on this report. See Troubleshooting Build Report for more information.

- Use the following Renviron settings to reproduce errors and warnings.

Note: If "R CMD check" recently failed on the Linux builder over a missing dependency, add the missing dependency to "Suggests" in your DESCRIPTION file. See the Renviron.bioc for details.

raw results

Package 2046/2229HostnameOS / ArchINSTALLBUILDCHECKBUILD BIN
sva 3.48.0  (landing page)
Jeffrey T. Leek , John D. Storey
Snapshot Date: 2023-05-28 14:00:13 -0400 (Sun, 28 May 2023)
git_url: https://git.bioconductor.org/packages/sva
git_branch: RELEASE_3_17
git_last_commit: f1657af
git_last_commit_date: 2023-04-25 10:21:22 -0400 (Tue, 25 Apr 2023)
nebbiolo1Linux (Ubuntu 22.04.2 LTS) / x86_64  OK    OK    OK  UNNEEDED, same version is already published
palomino3Windows Server 2022 Datacenter / x64  OK    OK    OK    OK  UNNEEDED, same version is already published
merida1macOS 12.6.4 Monterey / x86_64  OK    OK    OK    OK  UNNEEDED, same version is already published

Results for Bioconductor software packages that depend directly on package sva

QUICK STATSOS / ArchINSTALLBUILDCHECKBUILD BIN
nebbiolo1Linux (Ubuntu 22.04.2 LTS) / x86_64
0029
0128
04519
palomino3Windows Server 2022 Datacenter / x64
0029
0128
03520
0028
merida1macOS 12.6.4 Monterey / x86_64
0029
0128
03520
0028
Package 1/29HostnameOS / ArchINSTALLBUILDCHECKBUILD BIN
ASSIGN 1.36.0  (landing page)
Ying Shen , W. Evan Johnson
git_last_commit: 5e923d6
git_last_commit_date: 2023-04-25 10:31:13 -0400
nebbiolo1Linux (Ubuntu 22.04.2 LTS) / x86_64  OK    OK    OK  UNNEEDED, same version is already published
palomino3Windows Server 2022 Datacenter / x64  OK    OK    OK    OK  UNNEEDED, same version is already published
merida1macOS 12.6.4 Monterey / x86_64  OK    OK    OK    OK  UNNEEDED, same version is already published
Package 2/29HostnameOS / ArchINSTALLBUILDCHECKBUILD BIN
ballgown 2.32.0  (landing page)
Jack Fu
git_last_commit: c0fc299
git_last_commit_date: 2023-04-25 10:33:25 -0400
nebbiolo1Linux (Ubuntu 22.04.2 LTS) / x86_64  OK    OK    OK  UNNEEDED, same version is already published
palomino3Windows Server 2022 Datacenter / x64  OK    OK    OK    OK  UNNEEDED, same version is already published
merida1macOS 12.6.4 Monterey / x86_64  OK    OK    OK    OK  UNNEEDED, same version is already published
Package 3/29HostnameOS / ArchINSTALLBUILDCHECKBUILD BIN
BatchQC 1.28.0  (landing page)
Solaiappan Manimaran
git_last_commit: d0af9be
git_last_commit_date: 2023-04-25 10:46:13 -0400
nebbiolo1Linux (Ubuntu 22.04.2 LTS) / x86_64  OK    OK    OK  UNNEEDED, same version is already published
palomino3Windows Server 2022 Datacenter / x64  OK    OK    OK    OK  UNNEEDED, same version is already published
merida1macOS 12.6.4 Monterey / x86_64  OK    OK    OK    OK  UNNEEDED, same version is already published
Package 4/29HostnameOS / ArchINSTALLBUILDCHECKBUILD BIN
BioNERO 1.8.0  (landing page)
Fabricio Almeida-Silva
git_last_commit: 97be4f9
git_last_commit_date: 2023-04-25 11:27:54 -0400
nebbiolo1Linux (Ubuntu 22.04.2 LTS) / x86_64  OK    OK    OK  UNNEEDED, same version is already published
palomino3Windows Server 2022 Datacenter / x64  OK    OK    OK    OK  UNNEEDED, same version is already published
merida1macOS 12.6.4 Monterey / x86_64  OK    OK    OK    OK  UNNEEDED, same version is already published
Package 5/29HostnameOS / ArchINSTALLBUILDCHECKBUILD BIN
bnbc 1.22.0  (landing page)
Kipper Fletez-Brant
git_last_commit: 4afeeae
git_last_commit_date: 2023-04-25 10:57:18 -0400
nebbiolo1Linux (Ubuntu 22.04.2 LTS) / x86_64  OK    OK    WARNINGS  UNNEEDED, same version is already published
palomino3Windows Server 2022 Datacenter / x64  OK    OK    WARNINGS    OK  UNNEEDED, same version is already published
merida1macOS 12.6.4 Monterey / x86_64  OK    OK    WARNINGS    OK  UNNEEDED, same version is already published
Package 6/29HostnameOS / ArchINSTALLBUILDCHECKBUILD BIN
bnem 1.8.0  (landing page)
Martin Pirkl
git_last_commit: 7315914
git_last_commit_date: 2023-05-23 04:35:29 -0400
nebbiolo1Linux (Ubuntu 22.04.2 LTS) / x86_64  OK    OK    OK  UNNEEDED, same version is already published
palomino3Windows Server 2022 Datacenter / x64  OK    OK    OK    OK  UNNEEDED, same version is already published
merida1macOS 12.6.4 Monterey / x86_64  OK    OK    OK    OK  UNNEEDED, same version is already published
Package 7/29HostnameOS / ArchINSTALLBUILDCHECKBUILD BIN
ChAMP 2.30.0  (landing page)
Yuan Tian
git_last_commit: b6ff667
git_last_commit_date: 2023-04-25 10:29:24 -0400
nebbiolo1Linux (Ubuntu 22.04.2 LTS) / x86_64  OK    OK    WARNINGS  UNNEEDED, same version is already published
palomino3Windows Server 2022 Datacenter / x64  OK    OK    WARNINGS    OK  UNNEEDED, same version is already published
merida1macOS 12.6.4 Monterey / x86_64  OK    OK    WARNINGS    OK  NO, package depends on 'DMRcate' which is not available
Package 8/29HostnameOS / ArchINSTALLBUILDCHECKBUILD BIN
crossmeta 1.26.0  (landing page)
Alex Pickering
git_last_commit: b7438d5
git_last_commit_date: 2023-04-25 10:47:37 -0400
nebbiolo1Linux (Ubuntu 22.04.2 LTS) / x86_64  OK    OK    ERROR  
palomino3Windows Server 2022 Datacenter / x64  OK    OK    OK    OK  UNNEEDED, same version is already published
merida1macOS 12.6.4 Monterey / x86_64  OK    OK    OK    OK  UNNEEDED, same version is already published
Package 9/29HostnameOS / ArchINSTALLBUILDCHECKBUILD BIN
DaMiRseq 2.12.0  (landing page)
Mattia Chiesa
git_last_commit: 804cce9
git_last_commit_date: 2023-04-25 10:53:00 -0400
nebbiolo1Linux (Ubuntu 22.04.2 LTS) / x86_64  OK    OK    OK  UNNEEDED, same version is already published
palomino3Windows Server 2022 Datacenter / x64  OK    OK    OK    OK  UNNEEDED, same version is already published
merida1macOS 12.6.4 Monterey / x86_64  OK    OK    OK    OK  UNNEEDED, same version is already published
Package 10/29HostnameOS / ArchINSTALLBUILDCHECKBUILD BIN
debrowser 1.28.0  (landing page)
Alper Kucukural
git_last_commit: 7f39983
git_last_commit_date: 2023-04-25 10:45:24 -0400
nebbiolo1Linux (Ubuntu 22.04.2 LTS) / x86_64  OK    ERROR  skipped
palomino3Windows Server 2022 Datacenter / x64  OK    ERROR  skippedskipped
merida1macOS 12.6.4 Monterey / x86_64  OK    ERROR  skippedskipped
Package 11/29HostnameOS / ArchINSTALLBUILDCHECKBUILD BIN
DeMixT 1.16.0  (landing page)
Shuai Guo
git_last_commit: 419f21b
git_last_commit_date: 2023-04-25 11:08:56 -0400
nebbiolo1Linux (Ubuntu 22.04.2 LTS) / x86_64  OK    OK    WARNINGS  UNNEEDED, same version is already published
palomino3Windows Server 2022 Datacenter / x64  OK    OK    WARNINGS    OK  UNNEEDED, same version is already published
merida1macOS 12.6.4 Monterey / x86_64  OK    OK    WARNINGS    OK  UNNEEDED, same version is already published
Package 12/29HostnameOS / ArchINSTALLBUILDCHECKBUILD BIN
DExMA 1.8.0  (landing page)
Juan Antonio Villatoro-García
git_last_commit: f837994
git_last_commit_date: 2023-04-25 11:29:25 -0400
nebbiolo1Linux (Ubuntu 22.04.2 LTS) / x86_64  OK    OK    OK  UNNEEDED, same version is already published
palomino3Windows Server 2022 Datacenter / x64  OK    OK    OK    OK  UNNEEDED, same version is already published
merida1macOS 12.6.4 Monterey / x86_64  OK    OK    OK    OK  UNNEEDED, same version is already published
Package 13/29HostnameOS / ArchINSTALLBUILDCHECKBUILD BIN
doppelgangR 1.28.0  (landing page)
Levi Waldron
git_last_commit: bd5e77e
git_last_commit_date: 2023-04-25 10:45:03 -0400
nebbiolo1Linux (Ubuntu 22.04.2 LTS) / x86_64  OK    OK    ERROR  
palomino3Windows Server 2022 Datacenter / x64  OK    OK    ERROR    OK  
merida1macOS 12.6.4 Monterey / x86_64  OK    OK    ERROR    OK  
Package 14/29HostnameOS / ArchINSTALLBUILDCHECKBUILD BIN
edge 2.32.0  (landing page)
John D. Storey , Andrew J. Bass
git_last_commit: 2518cd9
git_last_commit_date: 2023-04-25 10:39:41 -0400
nebbiolo1Linux (Ubuntu 22.04.2 LTS) / x86_64  OK    OK    WARNINGS  UNNEEDED, same version is already published
palomino3Windows Server 2022 Datacenter / x64  OK    OK    WARNINGS    OK  UNNEEDED, same version is already published
merida1macOS 12.6.4 Monterey / x86_64  OK    OK    WARNINGS    OK  UNNEEDED, same version is already published
Package 15/29HostnameOS / ArchINSTALLBUILDCHECKBUILD BIN
IsoformSwitchAnalyzeR 2.0.0  (landing page)
Kristoffer Vitting-Seerup
git_last_commit: b91e5de
git_last_commit_date: 2023-04-25 10:54:37 -0400
nebbiolo1Linux (Ubuntu 22.04.2 LTS) / x86_64  OK    OK    ERROR  
palomino3Windows Server 2022 Datacenter / x64  OK    OK    ERROR    OK  
merida1macOS 12.6.4 Monterey / x86_64  OK    OK    ERROR    OK  
Package 16/29HostnameOS / ArchINSTALLBUILDCHECKBUILD BIN
KnowSeq 1.14.0  (landing page)
Daniel Castillo-Secilla
git_last_commit: cd48ab9
git_last_commit_date: 2023-04-25 11:10:59 -0400
nebbiolo1Linux (Ubuntu 22.04.2 LTS) / x86_64  OK    OK    OK  UNNEEDED, same version is already published
palomino3Windows Server 2022 Datacenter / x64  OK    OK    OK    OK  UNNEEDED, same version is already published
merida1macOS 12.6.4 Monterey / x86_64  OK    OK    OK    OK  UNNEEDED, same version is already published
Package 17/29HostnameOS / ArchINSTALLBUILDCHECKBUILD BIN
MBECS 1.4.0  (landing page)
Michael Olbrich
git_last_commit: 2b7aed2
git_last_commit_date: 2023-04-25 11:36:23 -0400
nebbiolo1Linux (Ubuntu 22.04.2 LTS) / x86_64  OK    OK    OK  UNNEEDED, same version is already published
palomino3Windows Server 2022 Datacenter / x64  OK    OK    OK    OK  UNNEEDED, same version is already published
merida1macOS 12.6.4 Monterey / x86_64  OK    OK    OK    OK  UNNEEDED, same version is already published
Package 18/29HostnameOS / ArchINSTALLBUILDCHECKBUILD BIN
MSPrep 1.10.0  (landing page)
Max McGrath
git_last_commit: 924227c
git_last_commit_date: 2023-04-25 11:23:17 -0400
nebbiolo1Linux (Ubuntu 22.04.2 LTS) / x86_64  OK    OK    OK  UNNEEDED, same version is already published
palomino3Windows Server 2022 Datacenter / x64  OK    OK    OK    OK  UNNEEDED, same version is already published
merida1macOS 12.6.4 Monterey / x86_64  OK    OK    OK    OK  UNNEEDED, same version is already published
Package 19/29HostnameOS / ArchINSTALLBUILDCHECKBUILD BIN
omicRexposome 1.22.0  (landing page)
Xavier Escribà Montagut
git_last_commit: 1f75c6b
git_last_commit_date: 2023-04-25 10:57:01 -0400
nebbiolo1Linux (Ubuntu 22.04.2 LTS) / x86_64  OK    OK    OK  UNNEEDED, same version is already published
palomino3Windows Server 2022 Datacenter / x64  OK    OK    OK    OK  UNNEEDED, same version is already published
merida1macOS 12.6.4 Monterey / x86_64  OK    OK    OK    OK  UNNEEDED, same version is already published
Package 20/29HostnameOS / ArchINSTALLBUILDCHECKBUILD BIN
PAA 1.34.0  (landing page)
Michael Turewicz , Martin Eisenacher
git_last_commit: 96ceada
git_last_commit_date: 2023-04-25 10:35:23 -0400
nebbiolo1Linux (Ubuntu 22.04.2 LTS) / x86_64  OK    OK    OK  UNNEEDED, same version is already published
palomino3Windows Server 2022 Datacenter / x64  OK    OK    OK    OK  UNNEEDED, same version is already published
merida1macOS 12.6.4 Monterey / x86_64  OK    OK    OK    OK  UNNEEDED, same version is already published
Package 21/29HostnameOS / ArchINSTALLBUILDCHECKBUILD BIN
pairedGSEA 1.0.0  (landing page)
Søren Helweg Dam
git_last_commit: dde6282
git_last_commit_date: 2023-04-25 11:44:31 -0400
nebbiolo1Linux (Ubuntu 22.04.2 LTS) / x86_64  OK    OK    OK  UNNEEDED, same version is already published
palomino3Windows Server 2022 Datacenter / x64  OK    OK    OK    OK  UNNEEDED, same version is already published
merida1macOS 12.6.4 Monterey / x86_64  OK    OK    OK    OK  UNNEEDED, same version is already published
Package 22/29HostnameOS / ArchINSTALLBUILDCHECKBUILD BIN
proBatch 1.16.0  (landing page)
Chloe H. Lee
git_last_commit: 4de7ad4
git_last_commit_date: 2023-04-25 11:08:46 -0400
nebbiolo1Linux (Ubuntu 22.04.2 LTS) / x86_64  OK    OK    ERROR  
palomino3Windows Server 2022 Datacenter / x64  OK    OK    ERROR    OK  
merida1macOS 12.6.4 Monterey / x86_64  OK    OK    ERROR    OK  
Package 23/29HostnameOS / ArchINSTALLBUILDCHECKBUILD BIN
PROPS 1.22.0  (landing page)
Lichy Han
git_last_commit: 212a743
git_last_commit_date: 2023-04-25 10:57:52 -0400
nebbiolo1Linux (Ubuntu 22.04.2 LTS) / x86_64  OK    OK    OK  UNNEEDED, same version is already published
palomino3Windows Server 2022 Datacenter / x64  OK    OK    OK    OK  UNNEEDED, same version is already published
merida1macOS 12.6.4 Monterey / x86_64  OK    OK    OK    OK  UNNEEDED, same version is already published
Package 24/29HostnameOS / ArchINSTALLBUILDCHECKBUILD BIN
qsmooth 1.16.0  (landing page)
Stephanie C. Hicks
git_last_commit: 91901b3
git_last_commit_date: 2023-04-25 11:08:51 -0400
nebbiolo1Linux (Ubuntu 22.04.2 LTS) / x86_64  OK    OK    WARNINGS  UNNEEDED, same version is already published
palomino3Windows Server 2022 Datacenter / x64  OK    OK    WARNINGS    OK  UNNEEDED, same version is already published
merida1macOS 12.6.4 Monterey / x86_64  OK    OK    WARNINGS    OK  UNNEEDED, same version is already published
Package 25/29HostnameOS / ArchINSTALLBUILDCHECKBUILD BIN
qsvaR 1.4.0  (landing page)
Joshua Stolz
git_last_commit: 32b0813
git_last_commit_date: 2023-04-25 11:37:00 -0400
nebbiolo1Linux (Ubuntu 22.04.2 LTS) / x86_64  OK    OK    OK  UNNEEDED, same version is already published
palomino3Windows Server 2022 Datacenter / x64  OK    OK    OK    OK  UNNEEDED, same version is already published
merida1macOS 12.6.4 Monterey / x86_64  OK    OK    OK    OK  UNNEEDED, same version is already published
Package 26/29HostnameOS / ArchINSTALLBUILDCHECKBUILD BIN
SCAN.UPC 2.42.0  (landing page)
Stephen R. Piccolo
git_last_commit: b8b96b6
git_last_commit_date: 2023-04-25 10:24:16 -0400
nebbiolo1Linux (Ubuntu 22.04.2 LTS) / x86_64  OK    OK    OK  UNNEEDED, same version is already published
palomino3Windows Server 2022 Datacenter / x64  OK    OK    OK    OK  UNNEEDED, same version is already published
merida1macOS 12.6.4 Monterey / x86_64  OK    OK    OK    OK  UNNEEDED, same version is already published
Package 27/29HostnameOS / ArchINSTALLBUILDCHECKBUILD BIN
SEtools 1.14.0  (landing page)
Pierre-Luc Germain
git_last_commit: 30eae17
git_last_commit_date: 2023-04-25 11:12:18 -0400
nebbiolo1Linux (Ubuntu 22.04.2 LTS) / x86_64  OK    OK    OK  UNNEEDED, same version is already published
palomino3Windows Server 2022 Datacenter / x64  OK    OK    OK    OK  UNNEEDED, same version is already published
merida1macOS 12.6.4 Monterey / x86_64  OK    OK    OK    OK  UNNEEDED, same version is already published
Package 28/29HostnameOS / ArchINSTALLBUILDCHECKBUILD BIN
singleCellTK 2.10.0  (landing page)
Yichen Wang
git_last_commit: 277e675
git_last_commit_date: 2023-04-25 11:01:21 -0400
nebbiolo1Linux (Ubuntu 22.04.2 LTS) / x86_64  OK    OK    OK  UNNEEDED, same version is already published
palomino3Windows Server 2022 Datacenter / x64  OK    OK    OK    OK  UNNEEDED, same version is already published
merida1macOS 12.6.4 Monterey / x86_64  OK    OK    OK    OK  NO, package depends on 'scater' which is not available
Package 29/29HostnameOS / ArchINSTALLBUILDCHECKBUILD BIN
trigger 1.46.0  (landing page)
John D. Storey
git_last_commit: 9571324
git_last_commit_date: 2023-04-25 10:21:49 -0400
nebbiolo1Linux (Ubuntu 22.04.2 LTS) / x86_64  OK    OK    OK  UNNEEDED, same version is already published
palomino3Windows Server 2022 Datacenter / x64  OK    OK    OK    OK  UNNEEDED, same version is already published
merida1macOS 12.6.4 Monterey / x86_64  OK    OK    OK    OK  UNNEEDED, same version is already published