Back to Multiple platform build/check report for BioC 3.17: simplified long |
|
This page was generated on 2023-03-24 11:06:02 -0400 (Fri, 24 Mar 2023).
Hostname | OS | Arch (*) | R version | Installed pkgs |
---|---|---|---|---|
nebbiolo1 | Linux (Ubuntu 22.04.1 LTS) | x86_64 | R Under development (unstable) (2023-03-16 r83996) -- "Unsuffered Consequences" | 4546 |
palomino3 | Windows Server 2022 Datacenter | x64 | R Under development (unstable) (2023-03-15 r83984 ucrt) -- "Unsuffered Consequences" | 4307 |
merida1 | macOS 10.14.6 Mojave | x86_64 | R Under development (unstable) (2023-03-16 r83985) -- "Unsuffered Consequences" | 4299 |
Click on any hostname to see more info about the system (e.g. compilers) (*) as reported by 'uname -p', except on Windows and Mac OS X |
To the developers/maintainers of the IntEREst package: - Please allow up to 24 hours (and sometimes 48 hours) for your latest push to git@git.bioconductor.org:packages/IntEREst.git to reflect on this report. See How and When does the builder pull? When will my changes propagate? for more information. - Make sure to use the following settings in order to reproduce any error or warning you see on this page. |
Package 996/2195 | Hostname | OS / Arch | INSTALL | BUILD | CHECK | BUILD BIN | ||||||||
IntEREst 1.23.9 (landing page) Ali Oghabian
| nebbiolo1 | Linux (Ubuntu 22.04.1 LTS) / x86_64 | OK | OK | OK | ![]() | ||||||||
palomino3 | Windows Server 2022 Datacenter / x64 | OK | OK | OK | OK | ![]() | ||||||||
merida1 | macOS 10.14.6 Mojave / x86_64 | OK | OK | OK | OK | ![]() | ||||||||
Package: IntEREst |
Version: 1.23.9 |
Command: F:\biocbuild\bbs-3.17-bioc\R\bin\R.exe CMD check --no-multiarch --install=check:IntEREst.install-out.txt --library=F:\biocbuild\bbs-3.17-bioc\R\library --no-vignettes --timings IntEREst_1.23.9.tar.gz |
StartedAt: 2023-03-24 03:01:46 -0400 (Fri, 24 Mar 2023) |
EndedAt: 2023-03-24 03:07:54 -0400 (Fri, 24 Mar 2023) |
EllapsedTime: 368.0 seconds |
RetCode: 0 |
Status: OK |
CheckDir: IntEREst.Rcheck |
Warnings: 0 |
############################################################################## ############################################################################## ### ### Running command: ### ### F:\biocbuild\bbs-3.17-bioc\R\bin\R.exe CMD check --no-multiarch --install=check:IntEREst.install-out.txt --library=F:\biocbuild\bbs-3.17-bioc\R\library --no-vignettes --timings IntEREst_1.23.9.tar.gz ### ############################################################################## ############################################################################## * using log directory 'F:/biocbuild/bbs-3.17-bioc/meat/IntEREst.Rcheck' * using R Under development (unstable) (2023-03-15 r83984 ucrt) * using platform: x86_64-w64-mingw32 (64-bit) * R was compiled by gcc.exe (GCC) 12.2.0 GNU Fortran (GCC) 12.2.0 * running under: Windows Server 2022 x64 (build 20348) * using session charset: UTF-8 * using option '--no-vignettes' * checking for file 'IntEREst/DESCRIPTION' ... OK * this is package 'IntEREst' version '1.23.9' * checking package namespace information ... OK * checking package dependencies ... NOTE Depends: includes the non-default packages: 'GenomicRanges', 'Rsamtools', 'SummarizedExperiment', 'edgeR', 'S4Vectors', 'GenomicFiles' Adding so many packages to the search path is excessive and importing selectively is preferable. * checking if this is a source package ... OK * checking if there is a namespace ... OK * checking for hidden files and directories ... OK * checking for portable file names ... OK * checking whether package 'IntEREst' can be installed ... OK * checking installed package size ... OK * checking package directory ... OK * checking 'build' directory ... OK * checking DESCRIPTION meta-information ... OK * checking top-level files ... OK * checking for left-over files ... OK * checking index information ... OK * checking package subdirectories ... OK * checking R files for non-ASCII characters ... OK * checking R files for syntax errors ... OK * checking whether the package can be loaded ... OK * checking whether the package can be loaded with stated dependencies ... OK * checking whether the package can be unloaded cleanly ... OK * checking whether the namespace can be loaded with stated dependencies ... OK * checking whether the namespace can be unloaded cleanly ... OK * checking dependencies in R code ... OK * checking S3 generic/method consistency ... OK * checking replacement functions ... OK * checking foreign function calls ... OK * checking R code for possible problems ... NOTE interestIntExAnalysePairStranded: no visible binding for global variable 'readGRangesM2' interestIntExAnalyseSingleStranded: no visible global function definition for 'bamFlagAsBitMatrix' Undefined global functions or variables: bamFlagAsBitMatrix readGRangesM2 * checking Rd files ... OK * checking Rd metadata ... OK * checking Rd cross-references ... OK * checking for missing documentation entries ... OK * checking for code/documentation mismatches ... OK * checking Rd \usage sections ... OK * checking Rd contents ... OK * checking for unstated dependencies in examples ... OK * checking contents of 'data' directory ... OK * checking data for non-ASCII characters ... OK * checking LazyData ... OK * checking data for ASCII and uncompressed saves ... OK * checking files in 'vignettes' ... OK * checking examples ... OK Examples with CPU (user + system) or elapsed time > 5s user system elapsed DEXSeqIntEREst 20.5 0.14 20.65 * checking for unstated dependencies in vignettes ... OK * checking package vignettes in 'inst/doc' ... OK * checking running R code from vignettes ... SKIPPED * checking re-building of vignette outputs ... SKIPPED * checking PDF version of manual ... OK * DONE Status: 2 NOTEs See 'F:/biocbuild/bbs-3.17-bioc/meat/IntEREst.Rcheck/00check.log' for details.
IntEREst.Rcheck/00install.out
############################################################################## ############################################################################## ### ### Running command: ### ### F:\biocbuild\bbs-3.17-bioc\R\bin\R.exe CMD INSTALL IntEREst ### ############################################################################## ############################################################################## * installing to library 'F:/biocbuild/bbs-3.17-bioc/R/library' * installing *source* package 'IntEREst' ... ** using staged installation ** R ** data *** moving datasets to lazyload DB ** inst ** byte-compile and prepare package for lazy loading ** help *** installing help indices ** building package indices ** installing vignettes ** testing if installed package can be loaded from temporary location ** testing if installed package can be loaded from final location ** testing if installed package keeps a record of temporary installation path * DONE (IntEREst)
IntEREst.Rcheck/IntEREst-Ex.timings
name | user | system | elapsed | |
DEXSeqIntEREst | 20.50 | 0.14 | 20.65 | |
addAnnotation | 0.03 | 0.00 | 0.03 | |
annotateU12 | 2.08 | 0.14 | 2.22 | |
applyOverlap | 0.17 | 0.00 | 0.17 | |
attributes | 0.04 | 0.00 | 0.03 | |
boxplot-method | 0.04 | 0.00 | 0.05 | |
buildSsTypePwms | 0 | 0 | 0 | |
counts-method | 0.03 | 0.00 | 0.03 | |
deseqInterest | 4.50 | 0.02 | 4.52 | |
exactTestInterest | 0.07 | 0.00 | 0.07 | |
getRepeatTable | 0 | 0 | 0 | |
glmInterest | 0.15 | 0.02 | 0.17 | |
interest | 1.36 | 0.05 | 1.41 | |
interest.sequential | 1.14 | 0.04 | 1.18 | |
interestResult | 0.03 | 0.00 | 0.04 | |
interestResultIntEx | 0.19 | 0.00 | 0.18 | |
intexIndex | 0 | 0 | 0 | |
lfc | 0.22 | 0.02 | 0.24 | |
mergeInterestResult | 0.07 | 0.00 | 0.08 | |
plot-method | 0.37 | 0.00 | 0.37 | |
psi | 0.68 | 0.01 | 0.69 | |
qlfInterest | 0.21 | 0.00 | 0.22 | |
readInterestResults | 0.05 | 0.00 | 0.05 | |
referencePrepare | 1.08 | 0.02 | 1.09 | |
subInterestResult | 0.03 | 0.00 | 0.03 | |
treatInterest | 0.17 | 0.00 | 0.17 | |
u12Boxplot | 0.07 | 0.00 | 0.06 | |
u12BoxplotNb | 0.06 | 0.00 | 0.07 | |
u12DensityPlot | 0.33 | 0.00 | 0.33 | |
u12Index | 0 | 0 | 0 | |
u12NbIndex | 0.04 | 0.00 | 0.04 | |
unionRefTr | 0.02 | 0.00 | 0.02 | |
updateRowDataCol | 0.05 | 0.00 | 0.04 | |