Back to Multiple platform build/check report for BioC 3.17:   simplified   long
ABCDEF[G]HIJKLMNOPQRSTUVWXYZ

This page was generated on 2023-10-16 11:34:35 -0400 (Mon, 16 Oct 2023).

HostnameOSArch (*)R versionInstalled pkgs
nebbiolo1Linux (Ubuntu 22.04.2 LTS)x86_644.3.1 (2023-06-16) -- "Beagle Scouts" 4626
palomino3Windows Server 2022 Datacenterx644.3.1 (2023-06-16 ucrt) -- "Beagle Scouts" 4379
merida1macOS 12.6.4 Montereyx86_644.3.1 (2023-06-16) -- "Beagle Scouts" 4395
Click on any hostname to see more info about the system (e.g. compilers)      (*) as reported by 'uname -p', except on Windows and Mac OS X

All results for package GenomicRanges


To the developers/maintainers of the GenomicRanges package:
- Allow up to 24 hours (and sometimes 48 hours) for your latest push to git@git.bioconductor.org:packages/GenomicRanges.git to reflect on this report. See Troubleshooting Build Report for more information.
- Use the following Renviron settings to reproduce errors and warnings.
- If 'R CMD check' started to fail recently on the Linux builder(s) over a missing dependency, add the missing dependency to 'Suggests:' in your DESCRIPTION file. See Renviron.bioc for more information.

raw results

Package 812/2230HostnameOS / ArchINSTALLBUILDCHECKBUILD BIN
GenomicRanges 1.52.1  (landing page)
Hervé Pagès
Snapshot Date: 2023-10-15 14:00:13 -0400 (Sun, 15 Oct 2023)
git_url: https://git.bioconductor.org/packages/GenomicRanges
git_branch: RELEASE_3_17
git_last_commit: 9e58f81
git_last_commit_date: 2023-10-06 16:38:35 -0400 (Fri, 06 Oct 2023)
nebbiolo1Linux (Ubuntu 22.04.2 LTS) / x86_64  OK    OK    WARNINGS  UNNEEDED, same version is already published
palomino3Windows Server 2022 Datacenter / x64  OK    OK    WARNINGS    OK  UNNEEDED, same version is already published
merida1macOS 12.6.4 Monterey / x86_64  OK    OK    WARNINGS    OK  UNNEEDED, same version is already published
kjohnson2macOS 12.6.1 Monterey / arm64see weekly results here

Results for Bioconductor software packages that depend directly on package GenomicRanges

QUICK STATSOS / ArchINSTALLBUILDCHECKBUILD BIN
nebbiolo1Linux (Ubuntu 22.04.2 LTS) / x86_64
08532
023517
129122365
palomino3Windows Server 2022 Datacenter / x64
06519
018507
38115381
00507
merida1macOS 12.6.4 Monterey / x86_64
014524
144493
611115361
00493
Package 1/540HostnameOS / ArchINSTALLBUILDCHECKBUILD BIN
ACE 1.18.0  (landing page)
Jos B Poell
git_last_commit: 4c6870f
git_last_commit_date: 2023-04-25 11:03:07 -0400
nebbiolo1Linux (Ubuntu 22.04.2 LTS) / x86_64  OK    OK    OK  UNNEEDED, same version is already published
palomino3Windows Server 2022 Datacenter / x64  OK    OK    OK    OK  UNNEEDED, same version is already published
merida1macOS 12.6.4 Monterey / x86_64  OK    OK    OK    OK  UNNEEDED, same version is already published
kjohnson2macOS 12.6.1 Monterey / arm64see weekly results here
Package 2/540HostnameOS / ArchINSTALLBUILDCHECKBUILD BIN
alabaster.ranges 1.0.0  (landing page)
Aaron Lun
git_last_commit: 45e963a
git_last_commit_date: 2023-04-25 11:42:47 -0400
nebbiolo1Linux (Ubuntu 22.04.2 LTS) / x86_64  OK    OK    OK  UNNEEDED, same version is already published
palomino3Windows Server 2022 Datacenter / x64  OK    OK    OK    OK  UNNEEDED, same version is already published
merida1macOS 12.6.4 Monterey / x86_64  OK    OK    OK    OK  UNNEEDED, same version is already published
kjohnson2macOS 12.6.1 Monterey / arm64see weekly results here
Package 3/540HostnameOS / ArchINSTALLBUILDCHECKBUILD BIN
alabaster.se 1.0.0  (landing page)
Aaron Lun
git_last_commit: e7fc40c
git_last_commit_date: 2023-04-25 11:42:52 -0400
nebbiolo1Linux (Ubuntu 22.04.2 LTS) / x86_64  OK    OK    OK  UNNEEDED, same version is already published
palomino3Windows Server 2022 Datacenter / x64  OK    OK    OK    OK  UNNEEDED, same version is already published
merida1macOS 12.6.4 Monterey / x86_64  OK    OK    OK    OK  UNNEEDED, same version is already published
kjohnson2macOS 12.6.1 Monterey / arm64see weekly results here
Package 4/540HostnameOS / ArchINSTALLBUILDCHECKBUILD BIN
ALDEx2 1.32.0  (landing page)
Greg Gloor
git_last_commit: ba32b9a
git_last_commit_date: 2023-04-25 10:34:57 -0400
nebbiolo1Linux (Ubuntu 22.04.2 LTS) / x86_64  OK    OK    WARNINGS  UNNEEDED, same version is already published
palomino3Windows Server 2022 Datacenter / x64  OK    OK    WARNINGS    OK  UNNEEDED, same version is already published
merida1macOS 12.6.4 Monterey / x86_64  OK    OK    WARNINGS    OK  UNNEEDED, same version is already published
kjohnson2macOS 12.6.1 Monterey / arm64see weekly results here
Package 5/540HostnameOS / ArchINSTALLBUILDCHECKBUILD BIN
AllelicImbalance 1.38.0  (landing page)
Jesper R Gadin
git_last_commit: 75a3b0f
git_last_commit_date: 2023-04-25 10:28:56 -0400
nebbiolo1Linux (Ubuntu 22.04.2 LTS) / x86_64  OK    OK    OK  UNNEEDED, same version is already published
palomino3Windows Server 2022 Datacenter / x64  OK    OK    OK    OK  UNNEEDED, same version is already published
merida1macOS 12.6.4 Monterey / x86_64  OK    OK    OK    OK  UNNEEDED, same version is already published
kjohnson2macOS 12.6.1 Monterey / arm64see weekly results here
Package 6/540HostnameOS / ArchINSTALLBUILDCHECKBUILD BIN
alpine 1.26.0  (landing page)
Michael Love
git_last_commit: 1e317db
git_last_commit_date: 2023-04-25 10:49:05 -0400
nebbiolo1Linux (Ubuntu 22.04.2 LTS) / x86_64  OK    OK    WARNINGS  UNNEEDED, same version is already published
palomino3Windows Server 2022 Datacenter / x64  OK    OK    WARNINGS    OK  UNNEEDED, same version is already published
merida1macOS 12.6.4 Monterey / x86_64  OK    OK    WARNINGS    OK  UNNEEDED, same version is already published
kjohnson2macOS 12.6.1 Monterey / arm64see weekly results here
Package 7/540HostnameOS / ArchINSTALLBUILDCHECKBUILD BIN
amplican 1.22.1  (landing page)
Eivind Valen
git_last_commit: 1813c32
git_last_commit_date: 2023-05-05 14:00:14 -0400
nebbiolo1Linux (Ubuntu 22.04.2 LTS) / x86_64  OK    OK    OK  UNNEEDED, same version is already published
palomino3Windows Server 2022 Datacenter / x64  OK    OK    OK    OK  UNNEEDED, same version is already published
merida1macOS 12.6.4 Monterey / x86_64  OK    OK    OK    OK  UNNEEDED, same version is already published
kjohnson2macOS 12.6.1 Monterey / arm64see weekly results here
Package 8/540HostnameOS / ArchINSTALLBUILDCHECKBUILD BIN
AneuFinder 1.28.0  (landing page)
Aaron Taudt
git_last_commit: e17d810
git_last_commit_date: 2023-04-25 10:45:33 -0400
nebbiolo1Linux (Ubuntu 22.04.2 LTS) / x86_64  OK    OK    OK  UNNEEDED, same version is already published
palomino3Windows Server 2022 Datacenter / x64  OK    OK    OK    OK  UNNEEDED, same version is already published
merida1macOS 12.6.4 Monterey / x86_64  OK    OK    OK    OK  UNNEEDED, same version is already published
kjohnson2macOS 12.6.1 Monterey / arm64see weekly results here
Package 9/540HostnameOS / ArchINSTALLBUILDCHECKBUILD BIN
annmap 1.42.0  (landing page)
Chris Wirth
git_last_commit: b4cafd1
git_last_commit_date: 2023-04-25 10:23:14 -0400
nebbiolo1Linux (Ubuntu 22.04.2 LTS) / x86_64  OK    OK    WARNINGS  UNNEEDED, same version is already published
palomino3Windows Server 2022 Datacenter / x64... NOT SUPPORTED ...
merida1macOS 12.6.4 Monterey / x86_64  OK    OK    WARNINGS    OK  UNNEEDED, same version is already published
kjohnson2macOS 12.6.1 Monterey / arm64see weekly results here
Package 10/540HostnameOS / ArchINSTALLBUILDCHECKBUILD BIN
AnnotationFilter 1.24.0  (landing page)
Bioconductor Package Maintainer
git_last_commit: 172d9c1
git_last_commit_date: 2023-04-25 10:53:22 -0400
nebbiolo1Linux (Ubuntu 22.04.2 LTS) / x86_64  OK    OK    OK  UNNEEDED, same version is already published
palomino3Windows Server 2022 Datacenter / x64  OK    OK    OK    OK  UNNEEDED, same version is already published
merida1macOS 12.6.4 Monterey / x86_64  OK    OK    OK    OK  UNNEEDED, same version is already published
kjohnson2macOS 12.6.1 Monterey / arm64see weekly results here
Package 11/540HostnameOS / ArchINSTALLBUILDCHECKBUILD BIN
AnnotationHubData 1.30.0  (landing page)
Bioconductor Package Maintainer
git_last_commit: 3cf163f
git_last_commit_date: 2023-04-25 10:41:16 -0400
nebbiolo1Linux (Ubuntu 22.04.2 LTS) / x86_64  OK    OK    WARNINGS  UNNEEDED, same version is already published
palomino3Windows Server 2022 Datacenter / x64  OK    OK    WARNINGS    OK  UNNEEDED, same version is already published
merida1macOS 12.6.4 Monterey / x86_64  OK    OK    WARNINGS    OK  UNNEEDED, same version is already published
kjohnson2macOS 12.6.1 Monterey / arm64see weekly results here
Package 12/540HostnameOS / ArchINSTALLBUILDCHECKBUILD BIN
annotatr 1.26.0  (landing page)
Raymond G. Cavalcante
git_last_commit: 2a45d0a
git_last_commit_date: 2023-04-25 10:50:36 -0400
nebbiolo1Linux (Ubuntu 22.04.2 LTS) / x86_64  OK    OK    OK  UNNEEDED, same version is already published
palomino3Windows Server 2022 Datacenter / x64  OK    OK    OK    OK  UNNEEDED, same version is already published
merida1macOS 12.6.4 Monterey / x86_64  OK    OK    OK    OK  UNNEEDED, same version is already published
kjohnson2macOS 12.6.1 Monterey / arm64see weekly results here
Package 13/540HostnameOS / ArchINSTALLBUILDCHECKBUILD BIN
APAlyzer 1.14.0  (landing page)
Ruijia Wang
git_last_commit: 40ddf31
git_last_commit_date: 2023-04-25 11:11:42 -0400
nebbiolo1Linux (Ubuntu 22.04.2 LTS) / x86_64  OK    OK    WARNINGS  UNNEEDED, same version is already published
palomino3Windows Server 2022 Datacenter / x64  OK    OK    WARNINGS    OK  UNNEEDED, same version is already published
merida1macOS 12.6.4 Monterey / x86_64  OK    OK    WARNINGS    OK  UNNEEDED, same version is already published
kjohnson2macOS 12.6.1 Monterey / arm64see weekly results here
Package 14/540HostnameOS / ArchINSTALLBUILDCHECKBUILD BIN
apeglm 1.22.1  (landing page)
Anqi Zhu
git_last_commit: b4b9123
git_last_commit_date: 2023-05-12 15:44:49 -0400
nebbiolo1Linux (Ubuntu 22.04.2 LTS) / x86_64  OK    OK    OK  UNNEEDED, same version is already published
palomino3Windows Server 2022 Datacenter / x64  OK    OK    OK    OK  UNNEEDED, same version is already published
merida1macOS 12.6.4 Monterey / x86_64  OK    OK    OK    OK  UNNEEDED, same version is already published
kjohnson2macOS 12.6.1 Monterey / arm64see weekly results here
Package 15/540HostnameOS / ArchINSTALLBUILDCHECKBUILD BIN
appreci8R 1.18.0  (landing page)
Sarah Sandmann
git_last_commit: 94c9d1b
git_last_commit_date: 2023-04-25 11:02:58 -0400
nebbiolo1Linux (Ubuntu 22.04.2 LTS) / x86_64  OK    OK    WARNINGS  UNNEEDED, same version is already published
palomino3Windows Server 2022 Datacenter / x64  OK    OK    WARNINGS    OK  UNNEEDED, same version is already published
merida1macOS 12.6.4 Monterey / x86_64  OK    OK    WARNINGS    OK  UNNEEDED, same version is already published
kjohnson2macOS 12.6.1 Monterey / arm64see weekly results here
Package 16/540HostnameOS / ArchINSTALLBUILDCHECKBUILD BIN
ArrayExpressHTS 1.50.0  (landing page)
Angela Goncalves , Andrew Tikhonov
git_last_commit: 7b79d4b
git_last_commit_date: 2023-04-25 10:19:47 -0400
nebbiolo1Linux (Ubuntu 22.04.2 LTS) / x86_64  ERROR    ERROR  skipped
palomino3Windows Server 2022 Datacenter / x64... NOT SUPPORTED ...
merida1macOS 12.6.4 Monterey / x86_64  ERROR    ERROR  skippedskipped
kjohnson2macOS 12.6.1 Monterey / arm64see weekly results here
Package 17/540HostnameOS / ArchINSTALLBUILDCHECKBUILD BIN
ASpediaFI 1.14.0  (landing page)
Doyeong Yu
git_last_commit: 00e9ece
git_last_commit_date: 2023-04-25 11:13:24 -0400
nebbiolo1Linux (Ubuntu 22.04.2 LTS) / x86_64  ERROR    ERROR  skipped
palomino3Windows Server 2022 Datacenter / x64  ERROR    ERROR  skippedskipped
merida1macOS 12.6.4 Monterey / x86_64  ERROR    ERROR  skippedskipped
kjohnson2macOS 12.6.1 Monterey / arm64see weekly results here
Package 18/540HostnameOS / ArchINSTALLBUILDCHECKBUILD BIN
ASpli 2.10.0  (landing page)
Estefania Mancini
git_last_commit: 2686a85
git_last_commit_date: 2023-04-25 10:48:38 -0400
nebbiolo1Linux (Ubuntu 22.04.2 LTS) / x86_64  OK    OK    ERROR  
palomino3Windows Server 2022 Datacenter / x64  OK    OK    WARNINGS    OK  UNNEEDED, same version is already published
merida1macOS 12.6.4 Monterey / x86_64  OK    OK    WARNINGS    OK  UNNEEDED, same version is already published
kjohnson2macOS 12.6.1 Monterey / arm64see weekly results here
Package 19/540HostnameOS / ArchINSTALLBUILDCHECKBUILD BIN
AssessORF 1.18.0  (landing page)
Deepank Korandla
git_last_commit: 062f02c
git_last_commit_date: 2023-04-25 11:05:58 -0400
nebbiolo1Linux (Ubuntu 22.04.2 LTS) / x86_64  OK    OK    OK  UNNEEDED, same version is already published
palomino3Windows Server 2022 Datacenter / x64  OK    OK    OK    OK  UNNEEDED, same version is already published
merida1macOS 12.6.4 Monterey / x86_64  OK    OK    OK    OK  UNNEEDED, same version is already published
kjohnson2macOS 12.6.1 Monterey / arm64see weekly results here
Package 20/540HostnameOS / ArchINSTALLBUILDCHECKBUILD BIN
ATACCoGAPS 1.2.0  (landing page)
Rossin Erbe
git_last_commit: 508affb
git_last_commit_date: 2023-04-25 11:39:02 -0400
nebbiolo1Linux (Ubuntu 22.04.2 LTS) / x86_64  OK    OK    OK  UNNEEDED, same version is already published
palomino3Windows Server 2022 Datacenter / x64  OK    OK    OK    OK  UNNEEDED, same version is already published
merida1macOS 12.6.4 Monterey / x86_64  OK    OK    OK    OK  UNNEEDED, same version is already published
kjohnson2macOS 12.6.1 Monterey / arm64see weekly results here
Package 21/540HostnameOS / ArchINSTALLBUILDCHECKBUILD BIN
ATACseqQC 1.24.0  (landing page)
Jianhong Ou
git_last_commit: 06d4227
git_last_commit_date: 2023-04-25 10:54:12 -0400
nebbiolo1Linux (Ubuntu 22.04.2 LTS) / x86_64  OK    OK    OK  UNNEEDED, same version is already published
palomino3Windows Server 2022 Datacenter / x64  OK    OK    OK    OK  UNNEEDED, same version is already published
merida1macOS 12.6.4 Monterey / x86_64  OK    OK    OK    OK  UNNEEDED, same version is already published
kjohnson2macOS 12.6.1 Monterey / arm64see weekly results here
Package 22/540HostnameOS / ArchINSTALLBUILDCHECKBUILD BIN
ATACseqTFEA 1.2.0  (landing page)
Jianhong Ou
git_last_commit: 7c0aef8
git_last_commit_date: 2023-04-25 11:39:37 -0400
nebbiolo1Linux (Ubuntu 22.04.2 LTS) / x86_64  OK    OK    OK  UNNEEDED, same version is already published
palomino3Windows Server 2022 Datacenter / x64  OK    OK    OK    OK  UNNEEDED, same version is already published
merida1macOS 12.6.4 Monterey / x86_64  OK    OK    OK    OK  UNNEEDED, same version is already published
kjohnson2macOS 12.6.1 Monterey / arm64see weekly results here
Package 23/540HostnameOS / ArchINSTALLBUILDCHECKBUILD BIN
atena 1.6.0  (landing page)
Beatriz Calvo-Serra
git_last_commit: 4053ecb
git_last_commit_date: 2023-04-25 11:32:49 -0400
nebbiolo1Linux (Ubuntu 22.04.2 LTS) / x86_64  OK    OK    OK  UNNEEDED, same version is already published
palomino3Windows Server 2022 Datacenter / x64  OK    OK    OK    OK  UNNEEDED, same version is already published
merida1macOS 12.6.4 Monterey / x86_64  OK    OK    OK    OK  UNNEEDED, same version is already published
kjohnson2macOS 12.6.1 Monterey / arm64see weekly results here
Package 24/540HostnameOS / ArchINSTALLBUILDCHECKBUILD BIN
BaalChIP 1.26.0  (landing page)
Ines de Santiago
git_last_commit: 6129049
git_last_commit_date: 2023-04-25 10:49:34 -0400
nebbiolo1Linux (Ubuntu 22.04.2 LTS) / x86_64  OK    OK    WARNINGS  UNNEEDED, same version is already published
palomino3Windows Server 2022 Datacenter / x64  OK    OK    WARNINGS    OK  UNNEEDED, same version is already published
merida1macOS 12.6.4 Monterey / x86_64  OK    OK    WARNINGS    OK  UNNEEDED, same version is already published
kjohnson2macOS 12.6.1 Monterey / arm64see weekly results here
Package 25/540HostnameOS / ArchINSTALLBUILDCHECKBUILD BIN
BadRegionFinder 1.28.0  (landing page)
Sarah Sandmann
git_last_commit: 95a67a9
git_last_commit_date: 2023-04-25 10:45:57 -0400
nebbiolo1Linux (Ubuntu 22.04.2 LTS) / x86_64  OK    OK    OK  UNNEEDED, same version is already published
palomino3Windows Server 2022 Datacenter / x64  OK    OK    OK    OK  UNNEEDED, same version is already published
merida1macOS 12.6.4 Monterey / x86_64  OK    OK    OK    OK  UNNEEDED, same version is already published
kjohnson2macOS 12.6.1 Monterey / arm64see weekly results here
Package 26/540HostnameOS / ArchINSTALLBUILDCHECKBUILD BIN
ballgown 2.32.0  (landing page)
Jack Fu
git_last_commit: c0fc299
git_last_commit_date: 2023-04-25 10:33:25 -0400
nebbiolo1Linux (Ubuntu 22.04.2 LTS) / x86_64  OK    OK    OK  UNNEEDED, same version is already published
palomino3Windows Server 2022 Datacenter / x64  OK    OK    OK    OK  UNNEEDED, same version is already published
merida1macOS 12.6.4 Monterey / x86_64  OK    OK    OK    OK  UNNEEDED, same version is already published
kjohnson2macOS 12.6.1 Monterey / arm64see weekly results here
Package 27/540HostnameOS / ArchINSTALLBUILDCHECKBUILD BIN
bambu 3.2.6  (landing page)
Ying Chen
git_last_commit: 2fb8864
git_last_commit_date: 2023-08-23 04:55:16 -0400
nebbiolo1Linux (Ubuntu 22.04.2 LTS) / x86_64  OK    OK    OK  UNNEEDED, same version is already published
palomino3Windows Server 2022 Datacenter / x64  OK    OK    OK    OK  UNNEEDED, same version is already published
merida1macOS 12.6.4 Monterey / x86_64  OK    OK    OK    OK  UNNEEDED, same version is already published
kjohnson2macOS 12.6.1 Monterey / arm64see weekly results here
Package 28/540HostnameOS / ArchINSTALLBUILDCHECKBUILD BIN
bamsignals 1.32.0  (landing page)
Johannes Helmuth
git_last_commit: 34bfc4e
git_last_commit_date: 2023-04-25 10:38:18 -0400
nebbiolo1Linux (Ubuntu 22.04.2 LTS) / x86_64  OK    OK    WARNINGS  UNNEEDED, same version is already published
palomino3Windows Server 2022 Datacenter / x64  OK    OK    OK    OK  UNNEEDED, same version is already published
merida1macOS 12.6.4 Monterey / x86_64  OK    OK    WARNINGS    OK  UNNEEDED, same version is already published
kjohnson2macOS 12.6.1 Monterey / arm64see weekly results here
Package 29/540HostnameOS / ArchINSTALLBUILDCHECKBUILD BIN
Basic4Cseq 1.36.0  (landing page)
Carolin Walter
git_last_commit: 0f53930
git_last_commit_date: 2023-04-25 10:30:42 -0400
nebbiolo1Linux (Ubuntu 22.04.2 LTS) / x86_64  OK    OK    OK  UNNEEDED, same version is already published
palomino3Windows Server 2022 Datacenter / x64  OK    OK    OK    OK  UNNEEDED, same version is already published
merida1macOS 12.6.4 Monterey / x86_64  OK    OK    OK    OK  UNNEEDED, same version is already published
kjohnson2macOS 12.6.1 Monterey / arm64see weekly results here
Package 30/540HostnameOS / ArchINSTALLBUILDCHECKBUILD BIN
BasicSTARRseq 1.28.0  (landing page)
Annika Buerger
git_last_commit: 75bd2b1
git_last_commit_date: 2023-04-25 10:44:02 -0400
nebbiolo1Linux (Ubuntu 22.04.2 LTS) / x86_64  OK    OK    OK  UNNEEDED, same version is already published
palomino3Windows Server 2022 Datacenter / x64  OK    OK    OK    OK  UNNEEDED, same version is already published
merida1macOS 12.6.4 Monterey / x86_64  OK    OK    OK    OK  UNNEEDED, same version is already published
kjohnson2macOS 12.6.1 Monterey / arm64see weekly results here
Package 31/540HostnameOS / ArchINSTALLBUILDCHECKBUILD BIN
baySeq 2.34.0  (landing page)
Thomas J. Hardcastle
git_last_commit: f4619cd
git_last_commit_date: 2023-04-25 09:49:38 -0400
nebbiolo1Linux (Ubuntu 22.04.2 LTS) / x86_64  OK    ERROR  skipped
palomino3Windows Server 2022 Datacenter / x64  OK    ERROR  skippedskipped
merida1macOS 12.6.4 Monterey / x86_64  OK    ERROR  skippedskipped
kjohnson2macOS 12.6.1 Monterey / arm64see weekly results here
Package 32/540HostnameOS / ArchINSTALLBUILDCHECKBUILD BIN
BBCAnalyzer 1.30.0  (landing page)
Sarah Sandmann
git_last_commit: 1d27ee5
git_last_commit_date: 2023-04-25 10:41:00 -0400
nebbiolo1Linux (Ubuntu 22.04.2 LTS) / x86_64  OK    OK    OK  UNNEEDED, same version is already published
palomino3Windows Server 2022 Datacenter / x64  OK    OK    WARNINGS    OK  UNNEEDED, same version is already published
merida1macOS 12.6.4 Monterey / x86_64  OK    OK    OK    OK  UNNEEDED, same version is already published
kjohnson2macOS 12.6.1 Monterey / arm64see weekly results here
Package 33/540HostnameOS / ArchINSTALLBUILDCHECKBUILD BIN
beadarray 2.50.0  (landing page)
Mark Dunning
git_last_commit: 715d372
git_last_commit_date: 2023-04-25 09:43:07 -0400
nebbiolo1Linux (Ubuntu 22.04.2 LTS) / x86_64  OK    OK    OK  UNNEEDED, same version is already published
palomino3Windows Server 2022 Datacenter / x64  OK    OK    OK    OK  UNNEEDED, same version is already published
merida1macOS 12.6.4 Monterey / x86_64  OK    OK    OK    OK  UNNEEDED, same version is already published
kjohnson2macOS 12.6.1 Monterey / arm64see weekly results here
Package 34/540HostnameOS / ArchINSTALLBUILDCHECKBUILD BIN
BEAT 1.38.0  (landing page)
Kemal Akman
git_last_commit: c346273
git_last_commit_date: 2023-04-25 10:30:03 -0400
nebbiolo1Linux (Ubuntu 22.04.2 LTS) / x86_64  OK    OK    OK  UNNEEDED, same version is already published
palomino3Windows Server 2022 Datacenter / x64  OK    OK    OK    OK  UNNEEDED, same version is already published
merida1macOS 12.6.4 Monterey / x86_64  OK    OK    OK    OK  UNNEEDED, same version is already published
kjohnson2macOS 12.6.1 Monterey / arm64see weekly results here
Package 35/540HostnameOS / ArchINSTALLBUILDCHECKBUILD BIN
BiFET 1.20.0  (landing page)
Ahrim Youn
git_last_commit: f367d7b
git_last_commit_date: 2023-04-25 10:58:52 -0400
nebbiolo1Linux (Ubuntu 22.04.2 LTS) / x86_64  OK    OK    OK  UNNEEDED, same version is already published
palomino3Windows Server 2022 Datacenter / x64  OK    OK    OK    OK  UNNEEDED, same version is already published
merida1macOS 12.6.4 Monterey / x86_64  OK    OK    OK    OK  UNNEEDED, same version is already published
kjohnson2macOS 12.6.1 Monterey / arm64see weekly results here
Package 36/540HostnameOS / ArchINSTALLBUILDCHECKBUILD BIN
BindingSiteFinder 1.6.0  (landing page)
Mirko Brüggemann
git_last_commit: 90784d9
git_last_commit_date: 2023-04-25 11:31:28 -0400
nebbiolo1Linux (Ubuntu 22.04.2 LTS) / x86_64  OK    OK    OK  UNNEEDED, same version is already published
palomino3Windows Server 2022 Datacenter / x64  OK    OK    OK    OK  UNNEEDED, same version is already published
merida1macOS 12.6.4 Monterey / x86_64  OK    OK    OK    OK  UNNEEDED, same version is already published
kjohnson2macOS 12.6.1 Monterey / arm64see weekly results here
Package 37/540HostnameOS / ArchINSTALLBUILDCHECKBUILD BIN
BiocOncoTK 1.20.0  (landing page)
VJ Carey
git_last_commit: ceb097d
git_last_commit_date: 2023-04-25 11:01:44 -0400
nebbiolo1Linux (Ubuntu 22.04.2 LTS) / x86_64  OK    OK    OK  UNNEEDED, same version is already published
palomino3Windows Server 2022 Datacenter / x64  OK    OK    OK    OK  UNNEEDED, same version is already published
merida1macOS 12.6.4 Monterey / x86_64  OK    OK    OK    OK  UNNEEDED, same version is already published
kjohnson2macOS 12.6.1 Monterey / arm64see weekly results here
Package 38/540HostnameOS / ArchINSTALLBUILDCHECKBUILD BIN
biomvRCNS 1.40.0  (landing page)
Yang Du
git_last_commit: dd8abf6
git_last_commit_date: 2023-04-25 10:25:50 -0400
nebbiolo1Linux (Ubuntu 22.04.2 LTS) / x86_64  ERROR    ERROR  skipped
palomino3Windows Server 2022 Datacenter / x64  ERROR    ERROR  skippedskipped
merida1macOS 12.6.4 Monterey / x86_64  ERROR    ERROR  skippedskipped
kjohnson2macOS 12.6.1 Monterey / arm64see weekly results here
Package 39/540HostnameOS / ArchINSTALLBUILDCHECKBUILD BIN
BioTIP 1.14.0  (landing page)
Yuxi (Jennifer) Sun , Zhezhen Wang , and X Holly Yang
git_last_commit: dedbd49
git_last_commit_date: 2023-04-25 11:12:44 -0400
nebbiolo1Linux (Ubuntu 22.04.2 LTS) / x86_64  OK    OK    ERROR  
palomino3Windows Server 2022 Datacenter / x64  OK    OK    WARNINGS    OK  UNNEEDED, same version is already published
merida1macOS 12.6.4 Monterey / x86_64  OK    OK    WARNINGS    OK  UNNEEDED, same version is already published
kjohnson2macOS 12.6.1 Monterey / arm64see weekly results here
Package 40/540HostnameOS / ArchINSTALLBUILDCHECKBUILD BIN
biovizBase 1.48.0  (landing page)
Michael Lawrence
git_last_commit: 534db77
git_last_commit_date: 2023-04-25 10:21:06 -0400
nebbiolo1Linux (Ubuntu 22.04.2 LTS) / x86_64  OK    OK    WARNINGS  UNNEEDED, same version is already published
palomino3Windows Server 2022 Datacenter / x64  OK    OK    WARNINGS    OK  UNNEEDED, same version is already published
merida1macOS 12.6.4 Monterey / x86_64  OK    OK    WARNINGS    OK  UNNEEDED, same version is already published
kjohnson2macOS 12.6.1 Monterey / arm64see weekly results here
Package 41/540HostnameOS / ArchINSTALLBUILDCHECKBUILD BIN
biscuiteer 1.14.0  (landing page)
Jacob Morrison
git_last_commit: 94ce421
git_last_commit_date: 2023-04-25 11:13:36 -0400
nebbiolo1Linux (Ubuntu 22.04.2 LTS) / x86_64  OK    OK    WARNINGS  UNNEEDED, same version is already published
palomino3Windows Server 2022 Datacenter / x64  OK    OK    WARNINGS    OK  UNNEEDED, same version is already published
merida1macOS 12.6.4 Monterey / x86_64  OK    OK    WARNINGS    OK  UNNEEDED, same version is already published
kjohnson2macOS 12.6.1 Monterey / arm64see weekly results here
Package 42/540HostnameOS / ArchINSTALLBUILDCHECKBUILD BIN
BiSeq 1.40.0  (landing page)
Katja Hebestreit
git_last_commit: 9e686d0
git_last_commit_date: 2023-04-25 10:26:59 -0400
nebbiolo1Linux (Ubuntu 22.04.2 LTS) / x86_64  OK    OK    OK  UNNEEDED, same version is already published
palomino3Windows Server 2022 Datacenter / x64  OK    OK    OK    OK  UNNEEDED, same version is already published
merida1macOS 12.6.4 Monterey / x86_64  OK    OK    OK    OK  UNNEEDED, same version is already published
kjohnson2macOS 12.6.1 Monterey / arm64see weekly results here
Package 43/540HostnameOS / ArchINSTALLBUILDCHECKBUILD BIN
bnbc 1.22.0  (landing page)
Kipper Fletez-Brant
git_last_commit: 4afeeae
git_last_commit_date: 2023-04-25 10:57:18 -0400
nebbiolo1Linux (Ubuntu 22.04.2 LTS) / x86_64  OK    OK    WARNINGS  UNNEEDED, same version is already published
palomino3Windows Server 2022 Datacenter / x64  OK    OK    WARNINGS    OK  UNNEEDED, same version is already published
merida1macOS 12.6.4 Monterey / x86_64  OK    OK    WARNINGS    OK  UNNEEDED, same version is already published
kjohnson2macOS 12.6.1 Monterey / arm64see weekly results here
Package 44/540HostnameOS / ArchINSTALLBUILDCHECKBUILD BIN
BOBaFIT 1.4.0  (landing page)
Gaia Mazzocchetti
git_last_commit: 47627e1
git_last_commit_date: 2023-04-25 11:35:19 -0400
nebbiolo1Linux (Ubuntu 22.04.2 LTS) / x86_64  OK    OK    WARNINGS  UNNEEDED, same version is already published
palomino3Windows Server 2022 Datacenter / x64  OK    OK    WARNINGS    OK  UNNEEDED, same version is already published
merida1macOS 12.6.4 Monterey / x86_64  OK    OK    WARNINGS    OK  UNNEEDED, same version is already published
kjohnson2macOS 12.6.1 Monterey / arm64see weekly results here
Package 45/540HostnameOS / ArchINSTALLBUILDCHECKBUILD BIN
borealis 1.4.0  (landing page)
Garrett Jenkinson
git_last_commit: 98cafa0
git_last_commit_date: 2023-04-25 11:37:41 -0400
nebbiolo1Linux (Ubuntu 22.04.2 LTS) / x86_64  OK    OK    OK  UNNEEDED, same version is already published
palomino3Windows Server 2022 Datacenter / x64  OK    OK    OK    OK  UNNEEDED, same version is already published
merida1macOS 12.6.4 Monterey / x86_64  OK    OK    OK    OK  UNNEEDED, same version is already published
kjohnson2macOS 12.6.1 Monterey / arm64see weekly results here
Package 46/540HostnameOS / ArchINSTALLBUILDCHECKBUILD BIN
BPRMeth 1.26.1  (landing page)
Chantriolnt-Andreas Kapourani
git_last_commit: 4130c6f
git_last_commit_date: 2023-05-01 20:03:01 -0400
nebbiolo1Linux (Ubuntu 22.04.2 LTS) / x86_64  OK    OK    OK  UNNEEDED, same version is already published
palomino3Windows Server 2022 Datacenter / x64  OK    OK    OK    OK  UNNEEDED, same version is already published
merida1macOS 12.6.4 Monterey / x86_64  OK    OK    OK    OK  UNNEEDED, same version is already published
kjohnson2macOS 12.6.1 Monterey / arm64see weekly results here
Package 47/540HostnameOS / ArchINSTALLBUILDCHECKBUILD BIN
brainflowprobes 1.14.0  (landing page)
Amanda Price
git_last_commit: ab83a8b
git_last_commit_date: 2023-04-25 11:14:06 -0400
nebbiolo1Linux (Ubuntu 22.04.2 LTS) / x86_64  OK    OK    OK  UNNEEDED, same version is already published
palomino3Windows Server 2022 Datacenter / x64  OK    OK    OK    OK  UNNEEDED, same version is already published
merida1macOS 12.6.4 Monterey / x86_64  OK    OK    OK    OK  UNNEEDED, same version is already published
kjohnson2macOS 12.6.1 Monterey / arm64see weekly results here
Package 48/540HostnameOS / ArchINSTALLBUILDCHECKBUILD BIN
branchpointer 1.26.0  (landing page)
Beth Signal
git_last_commit: 2c21581
git_last_commit_date: 2023-04-25 10:52:58 -0400
nebbiolo1Linux (Ubuntu 22.04.2 LTS) / x86_64  OK    OK    OK  UNNEEDED, same version is already published
palomino3Windows Server 2022 Datacenter / x64  OK    OK    OK    OK  UNNEEDED, same version is already published
merida1macOS 12.6.4 Monterey / x86_64  OK    OK    OK    OK  UNNEEDED, same version is already published
kjohnson2macOS 12.6.1 Monterey / arm64see weekly results here
Package 49/540HostnameOS / ArchINSTALLBUILDCHECKBUILD BIN
breakpointR 1.18.0  (landing page)
David Porubsky
git_last_commit: a649748
git_last_commit_date: 2023-04-25 11:04:34 -0400
nebbiolo1Linux (Ubuntu 22.04.2 LTS) / x86_64  OK    OK    OK  UNNEEDED, same version is already published
palomino3Windows Server 2022 Datacenter / x64  OK    OK    OK    OK  UNNEEDED, same version is already published
merida1macOS 12.6.4 Monterey / x86_64  OK    OK    OK    OK  UNNEEDED, same version is already published
kjohnson2macOS 12.6.1 Monterey / arm64see weekly results here
Package 50/540HostnameOS / ArchINSTALLBUILDCHECKBUILD BIN
BRGenomics 1.12.0  (landing page)
Mike DeBerardine
git_last_commit: f73b855
git_last_commit_date: 2023-04-25 13:08:10 -0400
nebbiolo1Linux (Ubuntu 22.04.2 LTS) / x86_64  OK    OK    ERROR  
palomino3Windows Server 2022 Datacenter / x64  OK    OK    ERROR    OK  
merida1macOS 12.6.4 Monterey / x86_64  OK    OK    ERROR    OK  
kjohnson2macOS 12.6.1 Monterey / arm64see weekly results here
Package 51/540HostnameOS / ArchINSTALLBUILDCHECKBUILD BIN
BSgenome 1.68.0  (landing page)
Hervé Pagès
git_last_commit: c546020
git_last_commit_date: 2023-04-25 09:43:43 -0400
nebbiolo1Linux (Ubuntu 22.04.2 LTS) / x86_64  OK    OK    WARNINGS  UNNEEDED, same version is already published
palomino3Windows Server 2022 Datacenter / x64  OK    OK    WARNINGS    OK  UNNEEDED, same version is already published
merida1macOS 12.6.4 Monterey / x86_64  OK    OK    WARNINGS    OK  UNNEEDED, same version is already published
kjohnson2macOS 12.6.1 Monterey / arm64see weekly results here
Package 52/540HostnameOS / ArchINSTALLBUILDCHECKBUILD BIN
bsseq 1.36.0  (landing page)
Kasper Daniel Hansen
git_last_commit: 5dd72c5
git_last_commit_date: 2023-04-25 10:23:31 -0400
nebbiolo1Linux (Ubuntu 22.04.2 LTS) / x86_64  OK    OK    OK  UNNEEDED, same version is already published
palomino3Windows Server 2022 Datacenter / x64  OK    OK    OK    OK  UNNEEDED, same version is already published
merida1macOS 12.6.4 Monterey / x86_64  OK    OK    OK    OK  UNNEEDED, same version is already published
kjohnson2macOS 12.6.1 Monterey / arm64see weekly results here
Package 53/540HostnameOS / ArchINSTALLBUILDCHECKBUILD BIN
BubbleTree 2.30.0  (landing page)
Todd Creasy , Wei Zhu
git_last_commit: 8686dde
git_last_commit_date: 2023-04-25 10:37:41 -0400
nebbiolo1Linux (Ubuntu 22.04.2 LTS) / x86_64  OK    OK    OK  UNNEEDED, same version is already published
palomino3Windows Server 2022 Datacenter / x64  OK    OK    OK    OK  UNNEEDED, same version is already published
merida1macOS 12.6.4 Monterey / x86_64  OK    OK    OK    OK  UNNEEDED, same version is already published
kjohnson2macOS 12.6.1 Monterey / arm64see weekly results here
Package 54/540HostnameOS / ArchINSTALLBUILDCHECKBUILD BIN
bumphunter 1.42.0  (landing page)
Tamilselvi Guharaj
git_last_commit: 0eb2808
git_last_commit_date: 2023-04-25 10:24:57 -0400
nebbiolo1Linux (Ubuntu 22.04.2 LTS) / x86_64  OK    OK    OK  UNNEEDED, same version is already published
palomino3Windows Server 2022 Datacenter / x64  OK    OK    OK    OK  UNNEEDED, same version is already published
merida1macOS 12.6.4 Monterey / x86_64  OK    OK    OK    OK  UNNEEDED, same version is already published
kjohnson2macOS 12.6.1 Monterey / arm64see weekly results here
Package 55/540HostnameOS / ArchINSTALLBUILDCHECKBUILD BIN
BUSpaRse 1.14.1  (landing page)
Lambda Moses
git_last_commit: 3eac292
git_last_commit_date: 2023-05-01 20:03:03 -0400
nebbiolo1Linux (Ubuntu 22.04.2 LTS) / x86_64  OK    OK    OK  UNNEEDED, same version is already published
palomino3Windows Server 2022 Datacenter / x64  OK    OK    OK    OK  UNNEEDED, same version is already published
merida1macOS 12.6.4 Monterey / x86_64  OK    OK    OK    OK  UNNEEDED, same version is already published
kjohnson2macOS 12.6.1 Monterey / arm64see weekly results here
Package 56/540HostnameOS / ArchINSTALLBUILDCHECKBUILD BIN
CAFE 1.36.0  (landing page)
Sander Bollen
git_last_commit: 4cd77fe
git_last_commit_date: 2023-04-25 10:30:44 -0400
nebbiolo1Linux (Ubuntu 22.04.2 LTS) / x86_64  OK    OK    WARNINGS  UNNEEDED, same version is already published
palomino3Windows Server 2022 Datacenter / x64  OK    OK    WARNINGS    OK  UNNEEDED, same version is already published
merida1macOS 12.6.4 Monterey / x86_64  OK    OK    WARNINGS    OK  UNNEEDED, same version is already published
kjohnson2macOS 12.6.1 Monterey / arm64see weekly results here
Package 57/540HostnameOS / ArchINSTALLBUILDCHECKBUILD BIN
CAGEfightR 1.20.0  (landing page)
Malte Thodberg
git_last_commit: 280ea89
git_last_commit_date: 2023-04-25 11:01:52 -0400
nebbiolo1Linux (Ubuntu 22.04.2 LTS) / x86_64  OK    OK    OK  UNNEEDED, same version is already published
palomino3Windows Server 2022 Datacenter / x64  OK    OK    OK    OK  UNNEEDED, same version is already published
merida1macOS 12.6.4 Monterey / x86_64  OK    OK    OK    OK  UNNEEDED, same version is already published
kjohnson2macOS 12.6.1 Monterey / arm64see weekly results here
Package 58/540HostnameOS / ArchINSTALLBUILDCHECKBUILD BIN
cageminer 1.6.2  (landing page)
Fabrício Almeida-Silva
git_last_commit: 7d84b42
git_last_commit_date: 2023-08-31 03:13:04 -0400
nebbiolo1Linux (Ubuntu 22.04.2 LTS) / x86_64  OK    OK    OK  UNNEEDED, same version is already published
palomino3Windows Server 2022 Datacenter / x64  OK    OK    OK    OK  UNNEEDED, same version is already published
merida1macOS 12.6.4 Monterey / x86_64  OK    OK    OK    OK  UNNEEDED, same version is already published
kjohnson2macOS 12.6.1 Monterey / arm64see weekly results here
Package 59/540HostnameOS / ArchINSTALLBUILDCHECKBUILD BIN
CAGEr 2.6.1  (landing page)
Charles Plessy
git_last_commit: 1711478
git_last_commit_date: 2023-07-04 19:40:32 -0400
nebbiolo1Linux (Ubuntu 22.04.2 LTS) / x86_64  OK    OK    OK  UNNEEDED, same version is already published
palomino3Windows Server 2022 Datacenter / x64  OK    OK    OK    OK  UNNEEDED, same version is already published
merida1macOS 12.6.4 Monterey / x86_64  OK    OK    OK    OK  UNNEEDED, same version is already published
kjohnson2macOS 12.6.1 Monterey / arm64see weekly results here
Package 60/540HostnameOS / ArchINSTALLBUILDCHECKBUILD BIN
cardelino 1.2.0  (landing page)
Davis McCarthy
git_last_commit: ec1afd9
git_last_commit_date: 2023-04-25 11:40:59 -0400
nebbiolo1Linux (Ubuntu 22.04.2 LTS) / x86_64  OK    OK    OK  UNNEEDED, same version is already published
palomino3Windows Server 2022 Datacenter / x64  OK    OK    OK    OK  UNNEEDED, same version is already published
merida1macOS 12.6.4 Monterey / x86_64  OK    OK    OK    OK  UNNEEDED, same version is already published
kjohnson2macOS 12.6.1 Monterey / arm64see weekly results here
Package 61/540HostnameOS / ArchINSTALLBUILDCHECKBUILD BIN
casper 2.34.0  (landing page)
David Rossell
git_last_commit: e05e2dd
git_last_commit_date: 2023-04-25 10:25:19 -0400
nebbiolo1Linux (Ubuntu 22.04.2 LTS) / x86_64  OK    OK    OK  UNNEEDED, same version is already published
palomino3Windows Server 2022 Datacenter / x64  OK    OK    WARNINGS    OK  UNNEEDED, same version is already published
merida1macOS 12.6.4 Monterey / x86_64  OK    ERROR  skippedskipped
kjohnson2macOS 12.6.1 Monterey / arm64see weekly results here
Package 62/540HostnameOS / ArchINSTALLBUILDCHECKBUILD BIN
cBioPortalData 2.12.0  (landing page)
Marcel Ramos
git_last_commit: 13c35fc
git_last_commit_date: 2023-04-25 11:18:25 -0400
nebbiolo1Linux (Ubuntu 22.04.2 LTS) / x86_64  OK    OK    OK  UNNEEDED, same version is already published
palomino3Windows Server 2022 Datacenter / x64  OK    OK    OK    OK  UNNEEDED, same version is already published
merida1macOS 12.6.4 Monterey / x86_64  OK    ERROR  skippedskipped
kjohnson2macOS 12.6.1 Monterey / arm64see weekly results here
Package 63/540HostnameOS / ArchINSTALLBUILDCHECKBUILD BIN
CexoR 1.38.0  (landing page)
Pedro Madrigal
git_last_commit: 91978b2
git_last_commit_date: 2023-04-25 11:33:13 -0400
nebbiolo1Linux (Ubuntu 22.04.2 LTS) / x86_64  OK    OK    OK  UNNEEDED, same version is already published
palomino3Windows Server 2022 Datacenter / x64  OK    OK    OK    OK  UNNEEDED, same version is already published
merida1macOS 12.6.4 Monterey / x86_64  OK    OK    OK    OK  UNNEEDED, same version is already published
kjohnson2macOS 12.6.1 Monterey / arm64see weekly results here
Package 64/540HostnameOS / ArchINSTALLBUILDCHECKBUILD BIN
cfDNAPro 1.6.0  (landing page)
Haichao Wang
git_last_commit: 08ce3c9
git_last_commit_date: 2023-04-25 11:31:39 -0400
nebbiolo1Linux (Ubuntu 22.04.2 LTS) / x86_64  OK    OK    WARNINGS  UNNEEDED, same version is already published
palomino3Windows Server 2022 Datacenter / x64  OK    OK    WARNINGS    OK  UNNEEDED, same version is already published
merida1macOS 12.6.4 Monterey / x86_64  OK    OK    WARNINGS    OK  UNNEEDED, same version is already published
kjohnson2macOS 12.6.1 Monterey / arm64see weekly results here
Package 65/540HostnameOS / ArchINSTALLBUILDCHECKBUILD BIN
cfTools 1.0.0  (landing page)
Ran Hu
git_last_commit: fb20e2c
git_last_commit_date: 2023-04-25 11:44:28 -0400
nebbiolo1Linux (Ubuntu 22.04.2 LTS) / x86_64  OK    OK    OK  UNNEEDED, same version is already published
palomino3Windows Server 2022 Datacenter / x64  OK    OK    OK    OK  UNNEEDED, same version is already published
merida1macOS 12.6.4 Monterey / x86_64  OK    OK    OK    OK  UNNEEDED, same version is already published
kjohnson2macOS 12.6.1 Monterey / arm64see weekly results here
Package 66/540HostnameOS / ArchINSTALLBUILDCHECKBUILD BIN
ChAMP 2.30.0  (landing page)
Yuan Tian
git_last_commit: b6ff667
git_last_commit_date: 2023-04-25 10:29:24 -0400
nebbiolo1Linux (Ubuntu 22.04.2 LTS) / x86_64  OK    OK    WARNINGS  UNNEEDED, same version is already published
palomino3Windows Server 2022 Datacenter / x64  OK    OK    WARNINGS    OK  UNNEEDED, same version is already published
merida1macOS 12.6.4 Monterey / x86_64  OK    OK    WARNINGS    OK  UNNEEDED, same version is already published
kjohnson2macOS 12.6.1 Monterey / arm64see weekly results here
Package 67/540HostnameOS / ArchINSTALLBUILDCHECKBUILD BIN
ChIC 1.20.0  (landing page)
Carmen Maria Livi
git_last_commit: 601181f
git_last_commit_date: 2023-04-25 11:01:05 -0400
nebbiolo1Linux (Ubuntu 22.04.2 LTS) / x86_64  ERROR    ERROR  skipped
palomino3Windows Server 2022 Datacenter / x64... NOT SUPPORTED ...
merida1macOS 12.6.4 Monterey / x86_64  ERROR    ERROR  skippedskipped
kjohnson2macOS 12.6.1 Monterey / arm64see weekly results here
Package 68/540HostnameOS / ArchINSTALLBUILDCHECKBUILD BIN
chimeraviz 1.26.0  (landing page)
Stian Lågstad
git_last_commit: 9ce5919
git_last_commit_date: 2023-04-25 10:51:20 -0400
nebbiolo1Linux (Ubuntu 22.04.2 LTS) / x86_64  OK    OK    OK  UNNEEDED, same version is already published
palomino3Windows Server 2022 Datacenter / x64  OK    OK    OK    OK  UNNEEDED, same version is already published
merida1macOS 12.6.4 Monterey / x86_64  OK    OK    OK    OK  UNNEEDED, same version is already published
kjohnson2macOS 12.6.1 Monterey / arm64see weekly results here
Package 69/540HostnameOS / ArchINSTALLBUILDCHECKBUILD BIN
ChIPanalyser 1.22.0  (landing page)
Patrick C.N. Martin
git_last_commit: 1c0e60b
git_last_commit_date: 2023-04-25 10:56:14 -0400
nebbiolo1Linux (Ubuntu 22.04.2 LTS) / x86_64  OK    OK    OK  UNNEEDED, same version is already published
palomino3Windows Server 2022 Datacenter / x64  OK    OK    OK    OK  UNNEEDED, same version is already published
merida1macOS 12.6.4 Monterey / x86_64  OK    OK    OK    OK  UNNEEDED, same version is already published
kjohnson2macOS 12.6.1 Monterey / arm64see weekly results here
Package 70/540HostnameOS / ArchINSTALLBUILDCHECKBUILD BIN
ChIPComp 1.30.0  (landing page)
Li Chen
git_last_commit: 2305fe2
git_last_commit_date: 2023-04-25 10:41:03 -0400
nebbiolo1Linux (Ubuntu 22.04.2 LTS) / x86_64  OK    OK    OK  UNNEEDED, same version is already published
palomino3Windows Server 2022 Datacenter / x64  OK    OK    OK    OK  UNNEEDED, same version is already published
merida1macOS 12.6.4 Monterey / x86_64  OK    OK    OK    OK  UNNEEDED, same version is already published
kjohnson2macOS 12.6.1 Monterey / arm64see weekly results here
Package 71/540HostnameOS / ArchINSTALLBUILDCHECKBUILD BIN
chipenrich 2.24.0  (landing page)
Kai Wang
git_last_commit: 4f411dc
git_last_commit_date: 2023-04-25 10:28:35 -0400
nebbiolo1Linux (Ubuntu 22.04.2 LTS) / x86_64  OK    OK    OK  UNNEEDED, same version is already published
palomino3Windows Server 2022 Datacenter / x64  OK    OK    OK    OK  UNNEEDED, same version is already published
merida1macOS 12.6.4 Monterey / x86_64  OK    OK    OK    OK  UNNEEDED, same version is already published
kjohnson2macOS 12.6.1 Monterey / arm64see weekly results here
Package 72/540HostnameOS / ArchINSTALLBUILDCHECKBUILD BIN
ChIPexoQual 1.24.0  (landing page)
Rene Welch
git_last_commit: a96537e
git_last_commit_date: 2023-04-25 10:52:01 -0400
nebbiolo1Linux (Ubuntu 22.04.2 LTS) / x86_64  OK    OK    OK  UNNEEDED, same version is already published
palomino3Windows Server 2022 Datacenter / x64  OK    OK    OK    OK  UNNEEDED, same version is already published
merida1macOS 12.6.4 Monterey / x86_64  OK    OK    OK    OK  UNNEEDED, same version is already published
kjohnson2macOS 12.6.1 Monterey / arm64see weekly results here
Package 73/540HostnameOS / ArchINSTALLBUILDCHECKBUILD BIN
ChIPpeakAnno 3.34.1  (landing page)
Jianhong Ou
git_last_commit: 1a47186
git_last_commit_date: 2023-04-26 18:52:20 -0400
nebbiolo1Linux (Ubuntu 22.04.2 LTS) / x86_64  OK    OK    OK  UNNEEDED, same version is already published
palomino3Windows Server 2022 Datacenter / x64  OK    OK    OK    OK  UNNEEDED, same version is already published
merida1macOS 12.6.4 Monterey / x86_64  OK    OK    OK    OK  UNNEEDED, same version is already published
kjohnson2macOS 12.6.1 Monterey / arm64see weekly results here
Package 74/540HostnameOS / ArchINSTALLBUILDCHECKBUILD BIN
ChIPQC 1.36.1  (landing page)
Tom Carroll , Rory Stark
git_last_commit: e835440
git_last_commit_date: 2023-08-25 11:17:44 -0400
nebbiolo1Linux (Ubuntu 22.04.2 LTS) / x86_64  OK    OK    WARNINGS  UNNEEDED, same version is already published
palomino3Windows Server 2022 Datacenter / x64  OK    OK    WARNINGS    OK  UNNEEDED, same version is already published
merida1macOS 12.6.4 Monterey / x86_64  OK    OK    WARNINGS    OK  UNNEEDED, same version is already published
kjohnson2macOS 12.6.1 Monterey / arm64see weekly results here
Package 75/540HostnameOS / ArchINSTALLBUILDCHECKBUILD BIN
ChIPseeker 1.36.0  (landing page)
Guangchuang Yu
git_last_commit: 3179a1f
git_last_commit_date: 2023-04-25 10:32:01 -0400
nebbiolo1Linux (Ubuntu 22.04.2 LTS) / x86_64  OK    OK    OK  UNNEEDED, same version is already published
palomino3Windows Server 2022 Datacenter / x64  OK    OK    OK    OK  UNNEEDED, same version is already published
merida1macOS 12.6.4 Monterey / x86_64  OK    OK    TIMEOUT    OK  
kjohnson2macOS 12.6.1 Monterey / arm64see weekly results here
Package 76/540HostnameOS / ArchINSTALLBUILDCHECKBUILD BIN
chipseq 1.50.0  (landing page)
Bioconductor Package Maintainer
git_last_commit: 0bdfa25
git_last_commit_date: 2023-04-25 09:48:54 -0400
nebbiolo1Linux (Ubuntu 22.04.2 LTS) / x86_64  OK    OK    WARNINGS  UNNEEDED, same version is already published
palomino3Windows Server 2022 Datacenter / x64  OK    OK    WARNINGS    OK  UNNEEDED, same version is already published
merida1macOS 12.6.4 Monterey / x86_64  OK    OK    WARNINGS    OK  UNNEEDED, same version is already published
kjohnson2macOS 12.6.1 Monterey / arm64see weekly results here
Package 77/540HostnameOS / ArchINSTALLBUILDCHECKBUILD BIN
ChIPseqR 1.54.0  (landing page)
Peter Humburg
git_last_commit: 2a7eaf4
git_last_commit_date: 2023-04-25 09:49:43 -0400
nebbiolo1Linux (Ubuntu 22.04.2 LTS) / x86_64  OK    OK    OK  UNNEEDED, same version is already published
palomino3Windows Server 2022 Datacenter / x64  OK    OK    OK    OK  UNNEEDED, same version is already published
merida1macOS 12.6.4 Monterey / x86_64  OK    OK    OK    OK  UNNEEDED, same version is already published
kjohnson2macOS 12.6.1 Monterey / arm64see weekly results here
Package 78/540HostnameOS / ArchINSTALLBUILDCHECKBUILD BIN
chromDraw 2.30.0  (landing page)
Jan Janecka
git_last_commit: fe6b2c5
git_last_commit_date: 2023-04-25 10:37:00 -0400
nebbiolo1Linux (Ubuntu 22.04.2 LTS) / x86_64  OK    OK    WARNINGS  UNNEEDED, same version is already published
palomino3Windows Server 2022 Datacenter / x64  OK    OK    WARNINGS    OK  UNNEEDED, same version is already published
merida1macOS 12.6.4 Monterey / x86_64  OK    OK    WARNINGS    OK  UNNEEDED, same version is already published
kjohnson2macOS 12.6.1 Monterey / arm64see weekly results here
Package 79/540HostnameOS / ArchINSTALLBUILDCHECKBUILD BIN
ChromHeatMap 1.54.0  (landing page)
Tim F. Rayner
git_last_commit: de12140
git_last_commit_date: 2023-04-25 09:49:41 -0400
nebbiolo1Linux (Ubuntu 22.04.2 LTS) / x86_64  OK    OK    OK  UNNEEDED, same version is already published
palomino3Windows Server 2022 Datacenter / x64  OK    OK    OK    OK  UNNEEDED, same version is already published
merida1macOS 12.6.4 Monterey / x86_64  OK    OK    OK    OK  UNNEEDED, same version is already published
kjohnson2macOS 12.6.1 Monterey / arm64see weekly results here
Package 80/540HostnameOS / ArchINSTALLBUILDCHECKBUILD BIN
chromPlot 1.28.0  (landing page)
Karen Y. Orostica
git_last_commit: 0eeab67
git_last_commit_date: 2023-04-25 10:44:28 -0400
nebbiolo1Linux (Ubuntu 22.04.2 LTS) / x86_64  OK    OK    OK  UNNEEDED, same version is already published
palomino3Windows Server 2022 Datacenter / x64  OK    OK    WARNINGS    OK  UNNEEDED, same version is already published
merida1macOS 12.6.4 Monterey / x86_64  OK    OK    OK    OK  UNNEEDED, same version is already published
kjohnson2macOS 12.6.1 Monterey / arm64see weekly results here
Package 81/540HostnameOS / ArchINSTALLBUILDCHECKBUILD BIN
ChromSCape 1.10.0  (landing page)
Pacome Prompsy
git_last_commit: 541e6b7
git_last_commit_date: 2023-04-25 11:23:20 -0400
nebbiolo1Linux (Ubuntu 22.04.2 LTS) / x86_64  OK    OK    WARNINGS  UNNEEDED, same version is already published
palomino3Windows Server 2022 Datacenter / x64  OK    OK    WARNINGS    OK  UNNEEDED, same version is already published
merida1macOS 12.6.4 Monterey / x86_64  OK    OK    WARNINGS    OK  UNNEEDED, same version is already published
kjohnson2macOS 12.6.1 Monterey / arm64see weekly results here
Package 82/540HostnameOS / ArchINSTALLBUILDCHECKBUILD BIN
chromstaR 1.26.0  (landing page)
Aaron Taudt
git_last_commit: 92f4418
git_last_commit_date: 2023-04-25 10:47:44 -0400
nebbiolo1Linux (Ubuntu 22.04.2 LTS) / x86_64  OK    OK    OK  UNNEEDED, same version is already published
palomino3Windows Server 2022 Datacenter / x64  OK    OK    OK    OK  UNNEEDED, same version is already published
merida1macOS 12.6.4 Monterey / x86_64  OK    OK    OK    OK  UNNEEDED, same version is already published
kjohnson2macOS 12.6.1 Monterey / arm64see weekly results here
Package 83/540HostnameOS / ArchINSTALLBUILDCHECKBUILD BIN
chromswitch 1.22.0  (landing page)
Selin Jessa
git_last_commit: 23de3f7
git_last_commit_date: 2023-04-25 10:57:57 -0400
nebbiolo1Linux (Ubuntu 22.04.2 LTS) / x86_64  OK    OK    WARNINGS  UNNEEDED, same version is already published
palomino3Windows Server 2022 Datacenter / x64  OK    OK    WARNINGS    OK  UNNEEDED, same version is already published
merida1macOS 12.6.4 Monterey / x86_64  OK    OK    WARNINGS    OK  UNNEEDED, same version is already published
kjohnson2macOS 12.6.1 Monterey / arm64see weekly results here
Package 84/540HostnameOS / ArchINSTALLBUILDCHECKBUILD BIN
chromVAR 1.22.1  (landing page)
Alicia Schep
git_last_commit: fbdaa18
git_last_commit_date: 2023-05-01 20:09:37 -0400
nebbiolo1Linux (Ubuntu 22.04.2 LTS) / x86_64  OK    OK    OK  UNNEEDED, same version is already published
palomino3Windows Server 2022 Datacenter / x64  OK    OK    OK    OK  UNNEEDED, same version is already published
merida1macOS 12.6.4 Monterey / x86_64  OK    ERROR  skippedskipped
kjohnson2macOS 12.6.1 Monterey / arm64see weekly results here
Package 85/540HostnameOS / ArchINSTALLBUILDCHECKBUILD BIN
cicero 1.18.0  (landing page)
Hannah Pliner
git_last_commit: b6a7b66
git_last_commit_date: 2023-04-25 11:04:55 -0400
nebbiolo1Linux (Ubuntu 22.04.2 LTS) / x86_64  OK    OK    OK  UNNEEDED, same version is already published
palomino3Windows Server 2022 Datacenter / x64  OK    OK    OK    OK  UNNEEDED, same version is already published
merida1macOS 12.6.4 Monterey / x86_64  OK    OK    OK    OK  UNNEEDED, same version is already published
kjohnson2macOS 12.6.1 Monterey / arm64see weekly results here
Package 86/540HostnameOS / ArchINSTALLBUILDCHECKBUILD BIN
CINdex 1.28.0  (landing page)
Yuriy Gusev
git_last_commit: 1543a5e
git_last_commit_date: 2023-04-25 10:45:52 -0400
nebbiolo1Linux (Ubuntu 22.04.2 LTS) / x86_64  OK    OK    WARNINGS  UNNEEDED, same version is already published
palomino3Windows Server 2022 Datacenter / x64  OK    OK    WARNINGS    OK  UNNEEDED, same version is already published
merida1macOS 12.6.4 Monterey / x86_64  OK    OK    WARNINGS    OK  UNNEEDED, same version is already published
kjohnson2macOS 12.6.1 Monterey / arm64see weekly results here
Package 87/540HostnameOS / ArchINSTALLBUILDCHECKBUILD BIN
circRNAprofiler 1.14.0  (landing page)
Simona Aufiero
git_last_commit: 1ddc8f7
git_last_commit_date: 2023-04-25 11:11:15 -0400
nebbiolo1Linux (Ubuntu 22.04.2 LTS) / x86_64  OK    OK    OK  UNNEEDED, same version is already published
palomino3Windows Server 2022 Datacenter / x64  OK    OK    OK    OK  UNNEEDED, same version is already published
merida1macOS 12.6.4 Monterey / x86_64  OK    OK    OK    OK  UNNEEDED, same version is already published
kjohnson2macOS 12.6.1 Monterey / arm64see weekly results here
Package 88/540HostnameOS / ArchINSTALLBUILDCHECKBUILD BIN
cleanUpdTSeq 1.38.0  (landing page)
Jianhong Ou ; Lihua Julie Zhu
git_last_commit: d6941d0
git_last_commit_date: 2023-04-25 10:27:42 -0400
nebbiolo1Linux (Ubuntu 22.04.2 LTS) / x86_64  OK    OK    OK  UNNEEDED, same version is already published
palomino3Windows Server 2022 Datacenter / x64  OK    OK    OK    OK  UNNEEDED, same version is already published
merida1macOS 12.6.4 Monterey / x86_64  OK    OK    OK    OK  UNNEEDED, same version is already published
kjohnson2macOS 12.6.1 Monterey / arm64see weekly results here
Package 89/540HostnameOS / ArchINSTALLBUILDCHECKBUILD BIN
cliProfiler 1.6.0  (landing page)
You Zhou
git_last_commit: f7202a6
git_last_commit_date: 2023-04-25 11:33:36 -0400
nebbiolo1Linux (Ubuntu 22.04.2 LTS) / x86_64  OK    OK    OK  UNNEEDED, same version is already published
palomino3Windows Server 2022 Datacenter / x64  OK    OK    OK    OK  UNNEEDED, same version is already published
merida1macOS 12.6.4 Monterey / x86_64  OK    OK    OK    OK  UNNEEDED, same version is already published
kjohnson2macOS 12.6.1 Monterey / arm64see weekly results here
Package 90/540HostnameOS / ArchINSTALLBUILDCHECKBUILD BIN
cn.mops 1.46.0  (landing page)
Gundula Povysil
git_last_commit: baa7ea0
git_last_commit_date: 2023-04-25 10:21:44 -0400
nebbiolo1Linux (Ubuntu 22.04.2 LTS) / x86_64  OK    OK    OK  UNNEEDED, same version is already published
palomino3Windows Server 2022 Datacenter / x64  OK    OK    OK    OK  UNNEEDED, same version is already published
merida1macOS 12.6.4 Monterey / x86_64  OK    OK    OK    OK  UNNEEDED, same version is already published
kjohnson2macOS 12.6.1 Monterey / arm64see weekly results here
Package 91/540HostnameOS / ArchINSTALLBUILDCHECKBUILD BIN
CNEr 1.36.0  (landing page)
Ge Tan
git_last_commit: 4f2feeb
git_last_commit_date: 2023-04-25 10:30:23 -0400
nebbiolo1Linux (Ubuntu 22.04.2 LTS) / x86_64  OK    OK    WARNINGS  UNNEEDED, same version is already published
palomino3Windows Server 2022 Datacenter / x64  OK    OK    WARNINGS    OK  UNNEEDED, same version is already published
merida1macOS 12.6.4 Monterey / x86_64  OK    ERROR  skippedskipped
kjohnson2macOS 12.6.1 Monterey / arm64see weekly results here
Package 92/540HostnameOS / ArchINSTALLBUILDCHECKBUILD BIN
CNVfilteR 1.14.0  (landing page)
Jose Marcos Moreno-Cabrera
git_last_commit: 114a083
git_last_commit_date: 2023-04-25 11:13:01 -0400
nebbiolo1Linux (Ubuntu 22.04.2 LTS) / x86_64  OK    OK    ERROR  
palomino3Windows Server 2022 Datacenter / x64  OK    OK    OK    OK  UNNEEDED, same version is already published
merida1macOS 12.6.4 Monterey / x86_64  OK    OK    OK    OK  UNNEEDED, same version is already published
kjohnson2macOS 12.6.1 Monterey / arm64see weekly results here
Package 93/540HostnameOS / ArchINSTALLBUILDCHECKBUILD BIN
cnvGSA 1.44.0  (landing page)
Joseph Lugo
git_last_commit: 92aa818
git_last_commit_date: 2023-04-25 10:22:46 -0400
nebbiolo1Linux (Ubuntu 22.04.2 LTS) / x86_64  OK    OK    OK  UNNEEDED, same version is already published
palomino3Windows Server 2022 Datacenter / x64  OK    OK    OK    OK  UNNEEDED, same version is already published
merida1macOS 12.6.4 Monterey / x86_64  OK    OK    OK    OK  UNNEEDED, same version is already published
kjohnson2macOS 12.6.1 Monterey / arm64see weekly results here
Package 94/540HostnameOS / ArchINSTALLBUILDCHECKBUILD BIN
CNViz 1.8.0  (landing page)
Rebecca Greenblatt
git_last_commit: c7081e0
git_last_commit_date: 2023-04-25 11:28:29 -0400
nebbiolo1Linux (Ubuntu 22.04.2 LTS) / x86_64  OK    OK    OK  UNNEEDED, same version is already published
palomino3Windows Server 2022 Datacenter / x64  OK    OK    OK    OK  UNNEEDED, same version is already published
merida1macOS 12.6.4 Monterey / x86_64  OK    OK    OK    OK  UNNEEDED, same version is already published
kjohnson2macOS 12.6.1 Monterey / arm64see weekly results here
Package 95/540HostnameOS / ArchINSTALLBUILDCHECKBUILD BIN
CNVMetrics 1.4.0  (landing page)
Astrid Deschênes
git_last_commit: f240f40
git_last_commit_date: 2023-04-25 11:35:08 -0400
nebbiolo1Linux (Ubuntu 22.04.2 LTS) / x86_64  OK    OK    OK  UNNEEDED, same version is already published
palomino3Windows Server 2022 Datacenter / x64  OK    OK    OK    OK  UNNEEDED, same version is already published
merida1macOS 12.6.4 Monterey / x86_64  OK    OK    OK    OK  UNNEEDED, same version is already published
kjohnson2macOS 12.6.1 Monterey / arm64see weekly results here
Package 96/540HostnameOS / ArchINSTALLBUILDCHECKBUILD BIN
CNVPanelizer 1.32.0  (landing page)
Thomas Wolf
git_last_commit: 86ffb06
git_last_commit_date: 2023-04-25 10:40:16 -0400
nebbiolo1Linux (Ubuntu 22.04.2 LTS) / x86_64  OK    OK    OK  UNNEEDED, same version is already published
palomino3Windows Server 2022 Datacenter / x64  OK    OK    OK    OK  UNNEEDED, same version is already published
merida1macOS 12.6.4 Monterey / x86_64  OK    OK    OK    OK  UNNEEDED, same version is already published
kjohnson2macOS 12.6.1 Monterey / arm64see weekly results here
Package 97/540HostnameOS / ArchINSTALLBUILDCHECKBUILD BIN
CNVRanger 1.16.5  (landing page)
Ludwig Geistlinger
git_last_commit: ed4f683
git_last_commit_date: 2023-07-29 23:47:52 -0400
nebbiolo1Linux (Ubuntu 22.04.2 LTS) / x86_64  OK    OK    OK  UNNEEDED, same version is already published
palomino3Windows Server 2022 Datacenter / x64  OK    OK    OK    OK  UNNEEDED, same version is already published
merida1macOS 12.6.4 Monterey / x86_64  OK    OK    OK    OK  UNNEEDED, same version is already published
kjohnson2macOS 12.6.1 Monterey / arm64see weekly results here
Package 98/540HostnameOS / ArchINSTALLBUILDCHECKBUILD BIN
COCOA 2.14.0  (landing page)
John Lawson
git_last_commit: bbc273b
git_last_commit_date: 2023-04-25 11:05:46 -0400
nebbiolo1Linux (Ubuntu 22.04.2 LTS) / x86_64  OK    OK    OK  UNNEEDED, same version is already published
palomino3Windows Server 2022 Datacenter / x64  OK    OK    OK    OK  UNNEEDED, same version is already published
merida1macOS 12.6.4 Monterey / x86_64  OK    OK    OK    OK  UNNEEDED, same version is already published
kjohnson2macOS 12.6.1 Monterey / arm64see weekly results here
Package 99/540HostnameOS / ArchINSTALLBUILDCHECKBUILD BIN
Cogito 1.6.0  (landing page)
Annika Bürger
git_last_commit: caa4ce9
git_last_commit_date: 2023-04-25 11:33:44 -0400
nebbiolo1Linux (Ubuntu 22.04.2 LTS) / x86_64  OK    OK    OK  UNNEEDED, same version is already published
palomino3Windows Server 2022 Datacenter / x64  OK    OK    OK    OK  UNNEEDED, same version is already published
merida1macOS 12.6.4 Monterey / x86_64  OK    OK    OK    OK  UNNEEDED, same version is already published
kjohnson2macOS 12.6.1 Monterey / arm64see weekly results here
Package 100/540HostnameOS / ArchINSTALLBUILDCHECKBUILD BIN
comapr 1.4.0  (landing page)
Ruqian Lyu
git_last_commit: a4a9282
git_last_commit_date: 2023-04-25 11:35:25 -0400
nebbiolo1Linux (Ubuntu 22.04.2 LTS) / x86_64  OK    OK    ERROR  
palomino3Windows Server 2022 Datacenter / x64  OK    OK    ERROR    OK  
merida1macOS 12.6.4 Monterey / x86_64  OK    OK    ERROR    OK  
kjohnson2macOS 12.6.1 Monterey / arm64see weekly results here
Package 101/540HostnameOS / ArchINSTALLBUILDCHECKBUILD BIN
coMET 1.32.0  (landing page)
Tiphaine Martin
git_last_commit: 208d035
git_last_commit_date: 2023-04-25 11:41:26 -0400
nebbiolo1Linux (Ubuntu 22.04.2 LTS) / x86_64  OK    OK    WARNINGS  UNNEEDED, same version is already published
palomino3Windows Server 2022 Datacenter / x64  OK    OK    WARNINGS    OK  UNNEEDED, same version is already published
merida1macOS 12.6.4 Monterey / x86_64  OK    OK    WARNINGS    OK  UNNEEDED, same version is already published
kjohnson2macOS 12.6.1 Monterey / arm64see weekly results here
Package 102/540HostnameOS / ArchINSTALLBUILDCHECKBUILD BIN
coMethDMR 1.4.0  (landing page)
Fernanda Veitzman
git_last_commit: 40e80ff
git_last_commit_date: 2023-04-25 11:35:11 -0400
nebbiolo1Linux (Ubuntu 22.04.2 LTS) / x86_64  OK    OK    OK  UNNEEDED, same version is already published
palomino3Windows Server 2022 Datacenter / x64  OK    OK    OK    OK  UNNEEDED, same version is already published
merida1macOS 12.6.4 Monterey / x86_64  OK    OK    OK    OK  UNNEEDED, same version is already published
kjohnson2macOS 12.6.1 Monterey / arm64see weekly results here
Package 103/540HostnameOS / ArchINSTALLBUILDCHECKBUILD BIN
compartmap 1.18.0  (landing page)
Benjamin Johnson
git_last_commit: cbaef97
git_last_commit_date: 2023-04-25 11:06:12 -0400
nebbiolo1Linux (Ubuntu 22.04.2 LTS) / x86_64  OK    OK    ERROR  
palomino3Windows Server 2022 Datacenter / x64  OK    OK    OK    OK  UNNEEDED, same version is already published
merida1macOS 12.6.4 Monterey / x86_64  OK    OK    OK    OK  UNNEEDED, same version is already published
kjohnson2macOS 12.6.1 Monterey / arm64see weekly results here
Package 104/540HostnameOS / ArchINSTALLBUILDCHECKBUILD BIN
compEpiTools 1.34.1  (landing page)
Mattia Furlan
git_last_commit: 4f44f42
git_last_commit_date: 2023-05-02 15:23:53 -0400
nebbiolo1Linux (Ubuntu 22.04.2 LTS) / x86_64  OK    OK    WARNINGS  UNNEEDED, same version is already published
palomino3Windows Server 2022 Datacenter / x64  OK    OK    WARNINGS    OK  UNNEEDED, same version is already published
merida1macOS 12.6.4 Monterey / x86_64  OK    OK    WARNINGS    OK  UNNEEDED, same version is already published
kjohnson2macOS 12.6.1 Monterey / arm64see weekly results here
Package 105/540HostnameOS / ArchINSTALLBUILDCHECKBUILD BIN
consensusSeekeR 1.28.0  (landing page)
Astrid Deschenes
git_last_commit: e96278e
git_last_commit_date: 2023-04-25 10:42:44 -0400
nebbiolo1Linux (Ubuntu 22.04.2 LTS) / x86_64  OK    OK    OK  UNNEEDED, same version is already published
palomino3Windows Server 2022 Datacenter / x64  OK    OK    OK    OK  UNNEEDED, same version is already published
merida1macOS 12.6.4 Monterey / x86_64  OK    OK    OK    OK  UNNEEDED, same version is already published
kjohnson2macOS 12.6.1 Monterey / arm64see weekly results here
Package 106/540HostnameOS / ArchINSTALLBUILDCHECKBUILD BIN
contiBAIT 1.28.0  (landing page)
Kieran O'Neill
git_last_commit: 48f8245
git_last_commit_date: 2023-04-25 10:44:16 -0400
nebbiolo1Linux (Ubuntu 22.04.2 LTS) / x86_64  OK    OK    WARNINGS  UNNEEDED, same version is already published
palomino3Windows Server 2022 Datacenter / x64  OK    OK    WARNINGS    OK  UNNEEDED, same version is already published
merida1macOS 12.6.4 Monterey / x86_64  OK    OK    WARNINGS    OK  UNNEEDED, same version is already published
kjohnson2macOS 12.6.1 Monterey / arm64see weekly results here
Package 107/540HostnameOS / ArchINSTALLBUILDCHECKBUILD BIN
conumee 1.34.0  (landing page)
Volker Hovestadt
git_last_commit: 71c85be
git_last_commit_date: 2023-04-25 10:39:14 -0400
nebbiolo1Linux (Ubuntu 22.04.2 LTS) / x86_64  OK    OK    OK  UNNEEDED, same version is already published
palomino3Windows Server 2022 Datacenter / x64... NOT SUPPORTED ...
merida1macOS 12.6.4 Monterey / x86_64  OK    OK    TIMEOUT    OK  
kjohnson2macOS 12.6.1 Monterey / arm64see weekly results here
Package 108/540HostnameOS / ArchINSTALLBUILDCHECKBUILD BIN
copynumber 1.40.0  (landing page)
Gro Nilsen
git_last_commit: 0c087da
git_last_commit_date: 2023-04-25 10:26:46 -0400
nebbiolo1Linux (Ubuntu 22.04.2 LTS) / x86_64  OK    ERROR  skipped
palomino3Windows Server 2022 Datacenter / x64  OK    ERROR  skippedskipped
merida1macOS 12.6.4 Monterey / x86_64  OK    ERROR  skippedskipped
kjohnson2macOS 12.6.1 Monterey / arm64see weekly results here
Package 109/540HostnameOS / ArchINSTALLBUILDCHECKBUILD BIN
CopyNumberPlots 1.16.0  (landing page)
Bernat Gel
git_last_commit: 07720e2
git_last_commit_date: 2023-04-25 11:09:48 -0400
nebbiolo1Linux (Ubuntu 22.04.2 LTS) / x86_64  OK    OK    OK  UNNEEDED, same version is already published
palomino3Windows Server 2022 Datacenter / x64  OK    OK    OK    OK  UNNEEDED, same version is already published
merida1macOS 12.6.4 Monterey / x86_64  OK    OK    OK    OK  UNNEEDED, same version is already published
kjohnson2macOS 12.6.1 Monterey / arm64see weekly results here
Package 110/540HostnameOS / ArchINSTALLBUILDCHECKBUILD BIN
CopywriteR 2.32.0  (landing page)
Oscar Krijgsman
git_last_commit: b14b332
git_last_commit_date: 2023-04-25 10:39:03 -0400
nebbiolo1Linux (Ubuntu 22.04.2 LTS) / x86_64  OK    ERROR  skipped
palomino3Windows Server 2022 Datacenter / x64  OK    ERROR  skippedskipped
merida1macOS 12.6.4 Monterey / x86_64  OK    ERROR  skippedskipped
kjohnson2macOS 12.6.1 Monterey / arm64see weekly results here
Package 111/540HostnameOS / ArchINSTALLBUILDCHECKBUILD BIN
CoverageView 1.38.0  (landing page)
Ernesto Lowy
git_last_commit: 970269c
git_last_commit_date: 2023-04-25 10:31:32 -0400
nebbiolo1Linux (Ubuntu 22.04.2 LTS) / x86_64  OK    OK    WARNINGS  UNNEEDED, same version is already published
palomino3Windows Server 2022 Datacenter / x64... NOT SUPPORTED ...
merida1macOS 12.6.4 Monterey / x86_64  OK    OK    WARNINGS    OK  UNNEEDED, same version is already published
kjohnson2macOS 12.6.1 Monterey / arm64see weekly results here
Package 112/540HostnameOS / ArchINSTALLBUILDCHECKBUILD BIN
crisprBase 1.4.0  (landing page)
Jean-Philippe Fortin
git_last_commit: b8d0906
git_last_commit_date: 2023-04-25 11:35:16 -0400
nebbiolo1Linux (Ubuntu 22.04.2 LTS) / x86_64  OK    OK    OK  UNNEEDED, same version is already published
palomino3Windows Server 2022 Datacenter / x64  OK    OK    OK    OK  UNNEEDED, same version is already published
merida1macOS 12.6.4 Monterey / x86_64  OK    OK    OK    OK  UNNEEDED, same version is already published
kjohnson2macOS 12.6.1 Monterey / arm64see weekly results here
Package 113/540HostnameOS / ArchINSTALLBUILDCHECKBUILD BIN
crisprBowtie 1.4.0  (landing page)
Jean-Philippe Fortin
git_last_commit: 64a92ed
git_last_commit_date: 2023-04-25 11:36:03 -0400
nebbiolo1Linux (Ubuntu 22.04.2 LTS) / x86_64  OK    OK    OK  UNNEEDED, same version is already published
palomino3Windows Server 2022 Datacenter / x64  OK    OK    OK    OK  UNNEEDED, same version is already published
merida1macOS 12.6.4 Monterey / x86_64  OK    OK    OK    OK  UNNEEDED, same version is already published
kjohnson2macOS 12.6.1 Monterey / arm64see weekly results here
Package 114/540HostnameOS / ArchINSTALLBUILDCHECKBUILD BIN
crisprDesign 1.2.0  (landing page)
Jean-Philippe Fortin
git_last_commit: 16ad3b4
git_last_commit_date: 2023-04-25 11:39:18 -0400
nebbiolo1Linux (Ubuntu 22.04.2 LTS) / x86_64  OK    OK    OK  UNNEEDED, same version is already published
palomino3Windows Server 2022 Datacenter / x64  OK    OK    OK    OK  UNNEEDED, same version is already published
merida1macOS 12.6.4 Monterey / x86_64  OK    OK    OK    OK  UNNEEDED, same version is already published
kjohnson2macOS 12.6.1 Monterey / arm64see weekly results here
Package 115/540HostnameOS / ArchINSTALLBUILDCHECKBUILD BIN
CRISPRseek 1.40.0  (landing page)
Lihua Julie Zhu
git_last_commit: 9be9a24
git_last_commit_date: 2023-04-25 10:29:39 -0400
nebbiolo1Linux (Ubuntu 22.04.2 LTS) / x86_64  OK    OK    OK  UNNEEDED, same version is already published
palomino3Windows Server 2022 Datacenter / x64  OK    OK    TIMEOUT    OK  
merida1macOS 12.6.4 Monterey / x86_64  OK    OK    TIMEOUT    OK  
kjohnson2macOS 12.6.1 Monterey / arm64see weekly results here
Package 116/540HostnameOS / ArchINSTALLBUILDCHECKBUILD BIN
crisprseekplus 1.26.0  (landing page)
Alper Kucukural
git_last_commit: 5172ddb
git_last_commit_date: 2023-04-25 10:50:33 -0400
nebbiolo1Linux (Ubuntu 22.04.2 LTS) / x86_64  OK    OK    ERROR  
palomino3Windows Server 2022 Datacenter / x64  OK    OK    OK    OK  UNNEEDED, same version is already published
merida1macOS 12.6.4 Monterey / x86_64  OK    OK    OK    OK  UNNEEDED, same version is already published
kjohnson2macOS 12.6.1 Monterey / arm64see weekly results here
Package 117/540HostnameOS / ArchINSTALLBUILDCHECKBUILD BIN
CrispRVariants 1.28.0  (landing page)
Helen Lindsay
git_last_commit: 8694ad0
git_last_commit_date: 2023-04-25 10:43:23 -0400
nebbiolo1Linux (Ubuntu 22.04.2 LTS) / x86_64  OK    OK    WARNINGS  UNNEEDED, same version is already published
palomino3Windows Server 2022 Datacenter / x64  OK    OK    WARNINGS    OK  UNNEEDED, same version is already published
merida1macOS 12.6.4 Monterey / x86_64  OK    OK    WARNINGS    OK  UNNEEDED, same version is already published
kjohnson2macOS 12.6.1 Monterey / arm64see weekly results here
Package 118/540HostnameOS / ArchINSTALLBUILDCHECKBUILD BIN
crisprViz 1.2.0  (landing page)
Jean-Philippe Fortin
git_last_commit: fe18025
git_last_commit_date: 2023-04-25 11:40:13 -0400
nebbiolo1Linux (Ubuntu 22.04.2 LTS) / x86_64  OK    OK    OK  UNNEEDED, same version is already published
palomino3Windows Server 2022 Datacenter / x64  OK    OK    OK    OK  UNNEEDED, same version is already published
merida1macOS 12.6.4 Monterey / x86_64  OK    OK    OK    OK  UNNEEDED, same version is already published
kjohnson2macOS 12.6.1 Monterey / arm64see weekly results here
Package 119/540HostnameOS / ArchINSTALLBUILDCHECKBUILD BIN
CSAR 1.52.0  (landing page)
Jose M Muino
git_last_commit: d3f67ed
git_last_commit_date: 2023-04-25 09:49:58 -0400
nebbiolo1Linux (Ubuntu 22.04.2 LTS) / x86_64  OK    OK    OK  UNNEEDED, same version is already published
palomino3Windows Server 2022 Datacenter / x64  OK    OK    OK    OK  UNNEEDED, same version is already published
merida1macOS 12.6.4 Monterey / x86_64  OK    OK    OK    OK  UNNEEDED, same version is already published
kjohnson2macOS 12.6.1 Monterey / arm64see weekly results here
Package 120/540HostnameOS / ArchINSTALLBUILDCHECKBUILD BIN
csaw 1.34.0  (landing page)
Aaron Lun
git_last_commit: a93327e
git_last_commit_date: 2023-04-25 10:35:43 -0400
nebbiolo1Linux (Ubuntu 22.04.2 LTS) / x86_64  OK    OK    WARNINGS  UNNEEDED, same version is already published
palomino3Windows Server 2022 Datacenter / x64  OK    OK    WARNINGS    OK  UNNEEDED, same version is already published
merida1macOS 12.6.4 Monterey / x86_64  OK    OK    WARNINGS    OK  UNNEEDED, same version is already published
kjohnson2macOS 12.6.1 Monterey / arm64see weekly results here
Package 121/540HostnameOS / ArchINSTALLBUILDCHECKBUILD BIN
CSSQ 1.12.1  (landing page)
Fan Lab at Georgia Institute of Technology
git_last_commit: 29426c5
git_last_commit_date: 2023-06-27 15:44:29 -0400
nebbiolo1Linux (Ubuntu 22.04.2 LTS) / x86_64  OK    OK    OK  UNNEEDED, same version is already published
palomino3Windows Server 2022 Datacenter / x64  OK    OK    OK    OK  UNNEEDED, same version is already published
merida1macOS 12.6.4 Monterey / x86_64  OK    OK    OK    OK  UNNEEDED, same version is already published
kjohnson2macOS 12.6.1 Monterey / arm64see weekly results here
Package 122/540HostnameOS / ArchINSTALLBUILDCHECKBUILD BIN
customProDB 1.40.0  (landing page)
Xiaojing Wang
git_last_commit: 267665c
git_last_commit_date: 2023-04-25 10:27:25 -0400
nebbiolo1Linux (Ubuntu 22.04.2 LTS) / x86_64  OK    OK    OK  UNNEEDED, same version is already published
palomino3Windows Server 2022 Datacenter / x64  OK    OK    OK    OK  UNNEEDED, same version is already published
merida1macOS 12.6.4 Monterey / x86_64  OK    OK    OK    OK  UNNEEDED, same version is already published
kjohnson2macOS 12.6.1 Monterey / arm64see weekly results here
Package 123/540HostnameOS / ArchINSTALLBUILDCHECKBUILD BIN
DAMEfinder 1.12.0  (landing page)
Stephany Orjuela
git_last_commit: de191b2
git_last_commit_date: 2023-04-25 11:15:03 -0400
nebbiolo1Linux (Ubuntu 22.04.2 LTS) / x86_64  OK    OK    OK  UNNEEDED, same version is already published
palomino3Windows Server 2022 Datacenter / x64  OK    OK    OK    OK  UNNEEDED, same version is already published
merida1macOS 12.6.4 Monterey / x86_64  OK    OK    OK    OK  UNNEEDED, same version is already published
kjohnson2macOS 12.6.1 Monterey / arm64see weekly results here
Package 124/540HostnameOS / ArchINSTALLBUILDCHECKBUILD BIN
dasper 1.10.0  (landing page)
David Zhang
git_last_commit: 3a1d835
git_last_commit_date: 2023-04-25 11:24:39 -0400
nebbiolo1Linux (Ubuntu 22.04.2 LTS) / x86_64  OK    ERROR  skipped
palomino3Windows Server 2022 Datacenter / x64  OK    ERROR  skippedskipped
merida1macOS 12.6.4 Monterey / x86_64  OK    ERROR  skippedskipped
kjohnson2macOS 12.6.1 Monterey / arm64see weekly results here
Package 125/540HostnameOS / ArchINSTALLBUILDCHECKBUILD BIN
debrowser 1.28.3  (landing page)
Alper Kucukural
git_last_commit: f25c541
git_last_commit_date: 2023-07-16 18:03:41 -0400
nebbiolo1Linux (Ubuntu 22.04.2 LTS) / x86_64  OK    OK    OK  UNNEEDED, same version is already published
palomino3Windows Server 2022 Datacenter / x64  OK    OK    OK    OK  UNNEEDED, same version is already published
merida1macOS 12.6.4 Monterey / x86_64  OK    OK    OK    OK  UNNEEDED, same version is already published
kjohnson2macOS 12.6.1 Monterey / arm64see weekly results here
Package 126/540HostnameOS / ArchINSTALLBUILDCHECKBUILD BIN
decompTumor2Sig 2.16.0  (landing page)
Rosario M. Piro
git_last_commit: cc7095d
git_last_commit_date: 2023-04-25 11:06:30 -0400
nebbiolo1Linux (Ubuntu 22.04.2 LTS) / x86_64  OK    OK    OK  UNNEEDED, same version is already published
palomino3Windows Server 2022 Datacenter / x64  OK    OK    OK    OK  UNNEEDED, same version is already published
merida1macOS 12.6.4 Monterey / x86_64  OK    OK    OK    OK  UNNEEDED, same version is already published
kjohnson2macOS 12.6.1 Monterey / arm64see weekly results here
Package 127/540HostnameOS / ArchINSTALLBUILDCHECKBUILD BIN
deconvR 1.6.0  (landing page)
Irem B. Gündüz
git_last_commit: 57e9e23
git_last_commit_date: 2023-04-25 11:34:02 -0400
nebbiolo1Linux (Ubuntu 22.04.2 LTS) / x86_64  OK    OK    OK  UNNEEDED, same version is already published
palomino3Windows Server 2022 Datacenter / x64  OK    OK    OK    OK  UNNEEDED, same version is already published
merida1macOS 12.6.4 Monterey / x86_64  OK    OK    OK    OK  UNNEEDED, same version is already published
kjohnson2macOS 12.6.1 Monterey / arm64see weekly results here
Package 128/540HostnameOS / ArchINSTALLBUILDCHECKBUILD BIN
DeepBlueR 1.26.0  (landing page)
Felipe Albrecht , Markus List , Quirin Manz
git_last_commit: 422a55a
git_last_commit_date: 2023-04-25 10:48:12 -0400
nebbiolo1Linux (Ubuntu 22.04.2 LTS) / x86_64  ERROR    ERROR  skipped
palomino3Windows Server 2022 Datacenter / x64  ERROR    ERROR  skippedskipped
merida1macOS 12.6.4 Monterey / x86_64  ERROR    ERROR  skippedskipped
kjohnson2macOS 12.6.1 Monterey / arm64see weekly results here
Package 129/540HostnameOS / ArchINSTALLBUILDCHECKBUILD BIN
deepSNV 1.46.0  (landing page)
Moritz Gerstung
git_last_commit: 68b63ba
git_last_commit_date: 2023-04-25 10:22:16 -0400
nebbiolo1Linux (Ubuntu 22.04.2 LTS) / x86_64  OK    OK    WARNINGS  UNNEEDED, same version is already published
palomino3Windows Server 2022 Datacenter / x64  OK    OK    OK    OK  UNNEEDED, same version is already published
merida1macOS 12.6.4 Monterey / x86_64  OK    OK    WARNINGS    OK  UNNEEDED, same version is already published
kjohnson2macOS 12.6.1 Monterey / arm64see weekly results here
Package 130/540HostnameOS / ArchINSTALLBUILDCHECKBUILD BIN
DEFormats 1.28.0  (landing page)
Andrzej Oleś
git_last_commit: 208c3aa
git_last_commit_date: 2023-04-25 10:45:38 -0400
nebbiolo1Linux (Ubuntu 22.04.2 LTS) / x86_64  OK    OK    OK  UNNEEDED, same version is already published
palomino3Windows Server 2022 Datacenter / x64  OK    OK    OK    OK  UNNEEDED, same version is already published
merida1macOS 12.6.4 Monterey / x86_64  OK    OK    OK    OK  UNNEEDED, same version is already published
kjohnson2macOS 12.6.1 Monterey / arm64see weekly results here
Package 131/540HostnameOS / ArchINSTALLBUILDCHECKBUILD BIN
DegNorm 1.10.1  (landing page)
Ji-Ping Wang
git_last_commit: 3d3414b
git_last_commit_date: 2023-05-01 20:07:15 -0400
nebbiolo1Linux (Ubuntu 22.04.2 LTS) / x86_64  OK    OK    OK  UNNEEDED, same version is already published
palomino3Windows Server 2022 Datacenter / x64  OK    OK    OK    OK  UNNEEDED, same version is already published
merida1macOS 12.6.4 Monterey / x86_64  OK    OK    OK    OK  UNNEEDED, same version is already published
kjohnson2macOS 12.6.1 Monterey / arm64see weekly results here
Package 132/540HostnameOS / ArchINSTALLBUILDCHECKBUILD BIN
deltaCaptureC 1.14.0  (landing page)
Michael Shapiro
git_last_commit: fd52a9f
git_last_commit_date: 2023-04-25 11:12:09 -0400
nebbiolo1Linux (Ubuntu 22.04.2 LTS) / x86_64  OK    OK    OK  UNNEEDED, same version is already published
palomino3Windows Server 2022 Datacenter / x64  OK    OK    OK    OK  UNNEEDED, same version is already published
merida1macOS 12.6.4 Monterey / x86_64  OK    OK    OK    OK  UNNEEDED, same version is already published
kjohnson2macOS 12.6.1 Monterey / arm64see weekly results here
Package 133/540HostnameOS / ArchINSTALLBUILDCHECKBUILD BIN
derfinder 1.34.0  (landing page)
Leonardo Collado-Torres
git_last_commit: dd81839
git_last_commit_date: 2023-04-25 10:35:03 -0400
nebbiolo1Linux (Ubuntu 22.04.2 LTS) / x86_64  OK    OK    OK  UNNEEDED, same version is already published
palomino3Windows Server 2022 Datacenter / x64  OK    OK    OK    OK  UNNEEDED, same version is already published
merida1macOS 12.6.4 Monterey / x86_64  OK    OK    OK    OK  UNNEEDED, same version is already published
kjohnson2macOS 12.6.1 Monterey / arm64see weekly results here
Package 134/540HostnameOS / ArchINSTALLBUILDCHECKBUILD BIN
derfinderPlot 1.34.0  (landing page)
Leonardo Collado-Torres
git_last_commit: a4e6dde
git_last_commit_date: 2023-04-25 10:35:05 -0400
nebbiolo1Linux (Ubuntu 22.04.2 LTS) / x86_64  OK    OK    OK  UNNEEDED, same version is already published
palomino3Windows Server 2022 Datacenter / x64  OK    OK    OK    OK  UNNEEDED, same version is already published
merida1macOS 12.6.4 Monterey / x86_64  OK    OK    OK    OK  UNNEEDED, same version is already published
kjohnson2macOS 12.6.1 Monterey / arm64see weekly results here
Package 135/540HostnameOS / ArchINSTALLBUILDCHECKBUILD BIN
DEScan2 1.20.1  (landing page)
Dario Righelli
git_last_commit: f431536
git_last_commit_date: 2023-05-01 20:07:09 -0400
nebbiolo1Linux (Ubuntu 22.04.2 LTS) / x86_64  OK    OK    WARNINGS  UNNEEDED, same version is already published
palomino3Windows Server 2022 Datacenter / x64  OK    OK    WARNINGS    OK  UNNEEDED, same version is already published
merida1macOS 12.6.4 Monterey / x86_64  OK    OK    WARNINGS    OK  UNNEEDED, same version is already published
kjohnson2macOS 12.6.1 Monterey / arm64see weekly results here
Package 136/540HostnameOS / ArchINSTALLBUILDCHECKBUILD BIN
DESeq2 1.40.2  (landing page)
Michael Love
git_last_commit: a037e41
git_last_commit_date: 2023-06-23 12:15:22 -0400
nebbiolo1Linux (Ubuntu 22.04.2 LTS) / x86_64  OK    OK    OK  UNNEEDED, same version is already published
palomino3Windows Server 2022 Datacenter / x64  OK    OK    OK    OK  UNNEEDED, same version is already published
merida1macOS 12.6.4 Monterey / x86_64  OK    OK    OK    OK  UNNEEDED, same version is already published
kjohnson2macOS 12.6.1 Monterey / arm64see weekly results here
Package 137/540HostnameOS / ArchINSTALLBUILDCHECKBUILD BIN
DEWSeq 1.14.0  (landing page)
bioinformatics team Hentze
git_last_commit: d9a8908
git_last_commit_date: 2023-04-25 11:13:39 -0400
nebbiolo1Linux (Ubuntu 22.04.2 LTS) / x86_64  OK    OK    ERROR  
palomino3Windows Server 2022 Datacenter / x64  OK    OK    OK    OK  UNNEEDED, same version is already published
merida1macOS 12.6.4 Monterey / x86_64  OK    OK    OK    OK  UNNEEDED, same version is already published
kjohnson2macOS 12.6.1 Monterey / arm64see weekly results here
Package 138/540HostnameOS / ArchINSTALLBUILDCHECKBUILD BIN
DEXSeq 1.46.1  (landing page)
Alejandro Reyes
git_last_commit: dad9607
git_last_commit_date: 2023-10-02 03:44:51 -0400
nebbiolo1Linux (Ubuntu 22.04.2 LTS) / x86_64  OK    OK    ERROR  
palomino3Windows Server 2022 Datacenter / x64  OK    OK    OK    OK  UNNEEDED, same version is already published
merida1macOS 12.6.4 Monterey / x86_64  OK    OK    OK    OK  UNNEEDED, same version is already published
kjohnson2macOS 12.6.1 Monterey / arm64see weekly results here
Package 139/540HostnameOS / ArchINSTALLBUILDCHECKBUILD BIN
DiffBind 3.10.1  (landing page)
Rory Stark
git_last_commit: 5846014
git_last_commit_date: 2023-08-30 08:24:15 -0400
nebbiolo1Linux (Ubuntu 22.04.2 LTS) / x86_64  OK    OK    WARNINGS  UNNEEDED, same version is already published
palomino3Windows Server 2022 Datacenter / x64  OK    OK    OK    OK  UNNEEDED, same version is already published
merida1macOS 12.6.4 Monterey / x86_64  OK    OK    WARNINGS    OK  UNNEEDED, same version is already published
kjohnson2macOS 12.6.1 Monterey / arm64see weekly results here
Package 140/540HostnameOS / ArchINSTALLBUILDCHECKBUILD BIN
diffHic 1.32.0  (landing page)
Aaron Lun
git_last_commit: 6c577d2
git_last_commit_date: 2023-04-25 10:39:29 -0400
nebbiolo1Linux (Ubuntu 22.04.2 LTS) / x86_64  OK    OK    WARNINGS  UNNEEDED, same version is already published
palomino3Windows Server 2022 Datacenter / x64  OK    OK    WARNINGS    OK  UNNEEDED, same version is already published
merida1macOS 12.6.4 Monterey / x86_64  OK    OK    WARNINGS    OK  UNNEEDED, same version is already published
kjohnson2macOS 12.6.1 Monterey / arm64see weekly results here
Package 141/540HostnameOS / ArchINSTALLBUILDCHECKBUILD BIN
diffUTR 1.8.0  (landing page)
Pierre-Luc Germain
git_last_commit: 740683a
git_last_commit_date: 2023-04-25 11:29:40 -0400
nebbiolo1Linux (Ubuntu 22.04.2 LTS) / x86_64  OK    OK    OK  UNNEEDED, same version is already published
palomino3Windows Server 2022 Datacenter / x64  OK    OK    OK    OK  UNNEEDED, same version is already published
merida1macOS 12.6.4 Monterey / x86_64  OK    OK    OK    OK  UNNEEDED, same version is already published
kjohnson2macOS 12.6.1 Monterey / arm64see weekly results here
Package 142/540HostnameOS / ArchINSTALLBUILDCHECKBUILD BIN
DMCFB 1.14.0  (landing page)
Farhad Shokoohi
git_last_commit: 072bd32
git_last_commit_date: 2023-04-25 11:12:51 -0400
nebbiolo1Linux (Ubuntu 22.04.2 LTS) / x86_64  OK    OK    ERROR  
palomino3Windows Server 2022 Datacenter / x64  OK    OK    OK    OK  UNNEEDED, same version is already published
merida1macOS 12.6.4 Monterey / x86_64  OK    OK    OK    OK  UNNEEDED, same version is already published
kjohnson2macOS 12.6.1 Monterey / arm64see weekly results here
Package 143/540HostnameOS / ArchINSTALLBUILDCHECKBUILD BIN
DMCHMM 1.22.0  (landing page)
Farhad Shokoohi
git_last_commit: b4f404a
git_last_commit_date: 2023-04-25 10:56:06 -0400
nebbiolo1Linux (Ubuntu 22.04.2 LTS) / x86_64  OK    OK    OK  UNNEEDED, same version is already published
palomino3Windows Server 2022 Datacenter / x64  OK    OK    WARNINGS    OK  UNNEEDED, same version is already published
merida1macOS 12.6.4 Monterey / x86_64  OK    OK    OK    OK  UNNEEDED, same version is already published
kjohnson2macOS 12.6.1 Monterey / arm64see weekly results here
Package 144/540HostnameOS / ArchINSTALLBUILDCHECKBUILD BIN
DMRcaller 1.32.0  (landing page)
Nicolae Radu Zabet
git_last_commit: 5bfd754
git_last_commit_date: 2023-04-25 10:38:50 -0400
nebbiolo1Linux (Ubuntu 22.04.2 LTS) / x86_64  OK    OK    OK  UNNEEDED, same version is already published
palomino3Windows Server 2022 Datacenter / x64  OK    OK    OK    OK  UNNEEDED, same version is already published
merida1macOS 12.6.4 Monterey / x86_64  OK    OK    OK    OK  UNNEEDED, same version is already published
kjohnson2macOS 12.6.1 Monterey / arm64see weekly results here
Package 145/540HostnameOS / ArchINSTALLBUILDCHECKBUILD BIN
DMRcate 2.14.1  (landing page)
Tim Peters
git_last_commit: 06b0a3c
git_last_commit_date: 2023-07-28 03:37:58 -0400
nebbiolo1Linux (Ubuntu 22.04.2 LTS) / x86_64  OK    OK    ERROR  
palomino3Windows Server 2022 Datacenter / x64  OK    OK    TIMEOUT    OK  
merida1macOS 12.6.4 Monterey / x86_64  OK    OK    TIMEOUT    OK  
kjohnson2macOS 12.6.1 Monterey / arm64see weekly results here
Package 146/540HostnameOS / ArchINSTALLBUILDCHECKBUILD BIN
DMRforPairs 1.36.0  (landing page)
Martin Rijlaarsdam
git_last_commit: 54dad00
git_last_commit_date: 2023-04-25 10:31:37 -0400
nebbiolo1Linux (Ubuntu 22.04.2 LTS) / x86_64  OK    ERROR  skipped
palomino3Windows Server 2022 Datacenter / x64  OK    ERROR  skippedskipped
merida1macOS 12.6.4 Monterey / x86_64  OK    ERROR  skippedskipped
kjohnson2macOS 12.6.1 Monterey / arm64see weekly results here
Package 147/540HostnameOS / ArchINSTALLBUILDCHECKBUILD BIN
DMRScan 1.22.0  (landing page)
Christian M Page
git_last_commit: 81371c9
git_last_commit_date: 2023-04-25 10:51:59 -0400
nebbiolo1Linux (Ubuntu 22.04.2 LTS) / x86_64  OK    OK    OK  UNNEEDED, same version is already published
palomino3Windows Server 2022 Datacenter / x64  OK    OK    OK    OK  UNNEEDED, same version is already published
merida1macOS 12.6.4 Monterey / x86_64  OK    OK    OK    OK  UNNEEDED, same version is already published
kjohnson2macOS 12.6.1 Monterey / arm64see weekly results here
Package 148/540HostnameOS / ArchINSTALLBUILDCHECKBUILD BIN
dmrseq 1.20.1  (landing page)
Keegan Korthauer
git_last_commit: ed96d9e
git_last_commit_date: 2023-08-08 15:22:46 -0400
nebbiolo1Linux (Ubuntu 22.04.2 LTS) / x86_64  OK    OK    OK  UNNEEDED, same version is already published
palomino3Windows Server 2022 Datacenter / x64  OK    OK    OK    OK  UNNEEDED, same version is already published
merida1macOS 12.6.4 Monterey / x86_64  OK    OK    OK    OK  UNNEEDED, same version is already published
kjohnson2macOS 12.6.1 Monterey / arm64see weekly results here
Package 149/540HostnameOS / ArchINSTALLBUILDCHECKBUILD BIN
DNAfusion 1.2.0  (landing page)
Christoffer Trier Maansson
git_last_commit: aef3ca8
git_last_commit_date: 2023-04-26 05:41:57 -0400
nebbiolo1Linux (Ubuntu 22.04.2 LTS) / x86_64  OK    OK    OK  UNNEEDED, same version is already published
palomino3Windows Server 2022 Datacenter / x64  OK    OK    OK    OK  UNNEEDED, same version is already published
merida1macOS 12.6.4 Monterey / x86_64  OK    OK    OK    OK  UNNEEDED, same version is already published
kjohnson2macOS 12.6.1 Monterey / arm64see weekly results here
Package 150/540HostnameOS / ArchINSTALLBUILDCHECKBUILD BIN
DNAshapeR 1.28.0  (landing page)
Tsu-Pei Chiu
git_last_commit: 57b9eef
git_last_commit_date: 2023-04-25 10:45:16 -0400
nebbiolo1Linux (Ubuntu 22.04.2 LTS) / x86_64  OK    OK    OK  UNNEEDED, same version is already published
palomino3Windows Server 2022 Datacenter / x64  OK    OK    OK    OK  UNNEEDED, same version is already published
merida1macOS 12.6.4 Monterey / x86_64  OK    OK    OK    OK  UNNEEDED, same version is already published
kjohnson2macOS 12.6.1 Monterey / arm64see weekly results here
Package 151/540HostnameOS / ArchINSTALLBUILDCHECKBUILD BIN
DominoEffect 1.20.1  (landing page)
Marija Buljan
git_last_commit: 8093c63
git_last_commit_date: 2023-07-01 11:00:28 -0400
nebbiolo1Linux (Ubuntu 22.04.2 LTS) / x86_64  OK    OK    OK  UNNEEDED, same version is already published
palomino3Windows Server 2022 Datacenter / x64  OK    OK    OK    OK  UNNEEDED, same version is already published
merida1macOS 12.6.4 Monterey / x86_64  OK    OK    OK    OK  UNNEEDED, same version is already published
kjohnson2macOS 12.6.1 Monterey / arm64see weekly results here
Package 152/540HostnameOS / ArchINSTALLBUILDCHECKBUILD BIN
doubletrouble 1.0.0  (landing page)
Fabrício Almeida-Silva
git_last_commit: c7acec6
git_last_commit_date: 2023-04-25 11:41:36 -0400
nebbiolo1Linux (Ubuntu 22.04.2 LTS) / x86_64  OK    OK    OK  UNNEEDED, same version is already published
palomino3Windows Server 2022 Datacenter / x64  OK    OK    OK    OK  UNNEEDED, same version is already published
merida1macOS 12.6.4 Monterey / x86_64  OK    OK    OK    OK  UNNEEDED, same version is already published
kjohnson2macOS 12.6.1 Monterey / arm64see weekly results here
Package 153/540HostnameOS / ArchINSTALLBUILDCHECKBUILD BIN
DRIMSeq 1.28.0  (landing page)
Malgorzata Nowicka
git_last_commit: 83a8b21
git_last_commit_date: 2023-04-25 10:45:22 -0400
nebbiolo1Linux (Ubuntu 22.04.2 LTS) / x86_64  OK    OK    WARNINGS  UNNEEDED, same version is already published
palomino3Windows Server 2022 Datacenter / x64  OK    OK    WARNINGS    OK  UNNEEDED, same version is already published
merida1macOS 12.6.4 Monterey / x86_64  OK    OK    WARNINGS    OK  UNNEEDED, same version is already published
kjohnson2macOS 12.6.1 Monterey / arm64see weekly results here
Package 154/540HostnameOS / ArchINSTALLBUILDCHECKBUILD BIN
DropletUtils 1.20.0  (landing page)
Jonathan Griffiths
git_last_commit: 855762f
git_last_commit_date: 2023-04-25 10:58:49 -0400
nebbiolo1Linux (Ubuntu 22.04.2 LTS) / x86_64  OK    OK    WARNINGS  UNNEEDED, same version is already published
palomino3Windows Server 2022 Datacenter / x64  OK    OK    OK    OK  UNNEEDED, same version is already published
merida1macOS 12.6.4 Monterey / x86_64  OK    OK    WARNINGS    OK  UNNEEDED, same version is already published
kjohnson2macOS 12.6.1 Monterey / arm64see weekly results here
Package 155/540HostnameOS / ArchINSTALLBUILDCHECKBUILD BIN
easyRNASeq 2.36.0  (landing page)
Nicolas Delhomme
git_last_commit: e5e1842
git_last_commit_date: 2023-04-25 10:22:04 -0400
nebbiolo1Linux (Ubuntu 22.04.2 LTS) / x86_64  OK    OK    OK  UNNEEDED, same version is already published
palomino3Windows Server 2022 Datacenter / x64  OK    OK    OK    OK  UNNEEDED, same version is already published
merida1macOS 12.6.4 Monterey / x86_64  OK    OK    OK    OK  UNNEEDED, same version is already published
kjohnson2macOS 12.6.1 Monterey / arm64see weekly results here
Package 156/540HostnameOS / ArchINSTALLBUILDCHECKBUILD BIN
EDASeq 2.34.0  (landing page)
Davide Risso
git_last_commit: 71b52e3
git_last_commit_date: 2023-04-25 10:20:57 -0400
nebbiolo1Linux (Ubuntu 22.04.2 LTS) / x86_64  OK    OK    OK  UNNEEDED, same version is already published
palomino3Windows Server 2022 Datacenter / x64  OK    OK    OK    OK  UNNEEDED, same version is already published
merida1macOS 12.6.4 Monterey / x86_64  OK    OK    OK    OK  UNNEEDED, same version is already published
kjohnson2macOS 12.6.1 Monterey / arm64see weekly results here
Package 157/540HostnameOS / ArchINSTALLBUILDCHECKBUILD BIN
EDIRquery 1.0.0  (landing page)
Laura D.T. Vo Ngoc
git_last_commit: 6799187
git_last_commit_date: 2023-04-25 11:44:15 -0400
nebbiolo1Linux (Ubuntu 22.04.2 LTS) / x86_64  OK    OK    OK  UNNEEDED, same version is already published
palomino3Windows Server 2022 Datacenter / x64  OK    OK    OK    OK  UNNEEDED, same version is already published
merida1macOS 12.6.4 Monterey / x86_64  OK    OK    OK    OK  UNNEEDED, same version is already published
kjohnson2macOS 12.6.1 Monterey / arm64see weekly results here
Package 158/540HostnameOS / ArchINSTALLBUILDCHECKBUILD BIN
eisaR 1.12.0  (landing page)
Michael Stadler
git_last_commit: a520f29
git_last_commit_date: 2023-04-25 11:16:12 -0400
nebbiolo1Linux (Ubuntu 22.04.2 LTS) / x86_64  OK    OK    OK  UNNEEDED, same version is already published
palomino3Windows Server 2022 Datacenter / x64  OK    OK    OK    OK  UNNEEDED, same version is already published
merida1macOS 12.6.4 Monterey / x86_64  OK    OK    OK    OK  UNNEEDED, same version is already published
kjohnson2macOS 12.6.1 Monterey / arm64see weekly results here
Package 159/540HostnameOS / ArchINSTALLBUILDCHECKBUILD BIN
ELMER 2.24.1  (landing page)
Tiago Chedraoui Silva
git_last_commit: 5c6fd17
git_last_commit_date: 2023-05-07 16:43:07 -0400
nebbiolo1Linux (Ubuntu 22.04.2 LTS) / x86_64  OK    OK    WARNINGS  UNNEEDED, same version is already published
palomino3Windows Server 2022 Datacenter / x64  OK    OK    WARNINGS    OK  UNNEEDED, same version is already published
merida1macOS 12.6.4 Monterey / x86_64  OK    ERROR  skippedskipped
kjohnson2macOS 12.6.1 Monterey / arm64see weekly results here
Package 160/540HostnameOS / ArchINSTALLBUILDCHECKBUILD BIN
enhancerHomologSearch 1.6.1  (landing page)
Jianhong Ou
git_last_commit: 6ff2947
git_last_commit_date: 2023-05-01 20:09:59 -0400
nebbiolo1Linux (Ubuntu 22.04.2 LTS) / x86_64  OK    OK    WARNINGS  UNNEEDED, same version is already published
palomino3Windows Server 2022 Datacenter / x64  OK    OK    WARNINGS    OK  UNNEEDED, same version is already published
merida1macOS 12.6.4 Monterey / x86_64  OK    OK    WARNINGS    OK  UNNEEDED, same version is already published
kjohnson2macOS 12.6.1 Monterey / arm64see weekly results here
Package 161/540HostnameOS / ArchINSTALLBUILDCHECKBUILD BIN
EnrichedHeatmap 1.30.0  (landing page)
Zuguang Gu
git_last_commit: c26c1f0
git_last_commit_date: 2023-04-25 10:41:37 -0400
nebbiolo1Linux (Ubuntu 22.04.2 LTS) / x86_64  OK    OK    OK  UNNEEDED, same version is already published
palomino3Windows Server 2022 Datacenter / x64  OK    OK    OK    OK  UNNEEDED, same version is already published
merida1macOS 12.6.4 Monterey / x86_64  OK    OK    OK    OK  UNNEEDED, same version is already published
kjohnson2macOS 12.6.1 Monterey / arm64see weekly results here
Package 162/540HostnameOS / ArchINSTALLBUILDCHECKBUILD BIN
enrichTF 1.16.0  (landing page)
Zheng Wei
git_last_commit: 5dc47d9
git_last_commit_date: 2023-04-25 11:10:05 -0400
nebbiolo1Linux (Ubuntu 22.04.2 LTS) / x86_64  OK    OK    ERROR  
palomino3Windows Server 2022 Datacenter / x64  OK    OK    OK    OK  UNNEEDED, same version is already published
merida1macOS 12.6.4 Monterey / x86_64  OK    OK    OK    OK  UNNEEDED, same version is already published
kjohnson2macOS 12.6.1 Monterey / arm64see weekly results here
Package 163/540HostnameOS / ArchINSTALLBUILDCHECKBUILD BIN
ensembldb 2.24.1  (landing page)
Johannes Rainer
git_last_commit: c7713b8
git_last_commit_date: 2023-09-21 11:20:52 -0400
nebbiolo1Linux (Ubuntu 22.04.2 LTS) / x86_64  OK    OK    OK  UNNEEDED, same version is already published
palomino3Windows Server 2022 Datacenter / x64  OK    OK    OK    OK  UNNEEDED, same version is already published
merida1macOS 12.6.4 Monterey / x86_64  OK    OK    OK    OK  UNNEEDED, same version is already published
kjohnson2macOS 12.6.1 Monterey / arm64see weekly results here
Package 164/540HostnameOS / ArchINSTALLBUILDCHECKBUILD BIN
ensemblVEP 1.42.0  (landing page)
Bioconductor Package Maintainer
git_last_commit: 700e0fd
git_last_commit_date: 2023-04-25 10:25:01 -0400
nebbiolo1Linux (Ubuntu 22.04.2 LTS) / x86_64  OK    ERROR  skipped
palomino3Windows Server 2022 Datacenter / x64... NOT SUPPORTED ...
merida1macOS 12.6.4 Monterey / x86_64  OK    ERROR  skippedskipped
kjohnson2macOS 12.6.1 Monterey / arm64see weekly results here
Package 165/540HostnameOS / ArchINSTALLBUILDCHECKBUILD BIN
epialleleR 1.8.1  (landing page)
Oleksii Nikolaienko
git_last_commit: 82910fb
git_last_commit_date: 2023-08-21 11:24:52 -0400
nebbiolo1Linux (Ubuntu 22.04.2 LTS) / x86_64  OK    OK    WARNINGS  UNNEEDED, same version is already published
palomino3Windows Server 2022 Datacenter / x64  OK    OK    OK    OK  UNNEEDED, same version is already published
merida1macOS 12.6.4 Monterey / x86_64  OK    OK    WARNINGS    OK  UNNEEDED, same version is already published
kjohnson2macOS 12.6.1 Monterey / arm64see weekly results here
Package 166/540HostnameOS / ArchINSTALLBUILDCHECKBUILD BIN
EpiCompare 1.4.0  (landing page)
Sera Choi
git_last_commit: 9b39948
git_last_commit_date: 2023-04-25 11:38:09 -0400
nebbiolo1Linux (Ubuntu 22.04.2 LTS) / x86_64  OK    OK    ERROR  
palomino3Windows Server 2022 Datacenter / x64  OK    ERROR  skippedskipped
merida1macOS 12.6.4 Monterey / x86_64  OK    OK    ERROR    OK  
kjohnson2macOS 12.6.1 Monterey / arm64see weekly results here
Package 167/540HostnameOS / ArchINSTALLBUILDCHECKBUILD BIN
epidecodeR 1.8.0  (landing page)
Kandarp Joshi
git_last_commit: e31929f
git_last_commit_date: 2023-04-25 11:28:19 -0400
nebbiolo1Linux (Ubuntu 22.04.2 LTS) / x86_64  OK    OK    OK  UNNEEDED, same version is already published
palomino3Windows Server 2022 Datacenter / x64  OK    OK    OK    OK  UNNEEDED, same version is already published
merida1macOS 12.6.4 Monterey / x86_64  OK    OK    OK    OK  UNNEEDED, same version is already published
kjohnson2macOS 12.6.1 Monterey / arm64see weekly results here
Package 168/540HostnameOS / ArchINSTALLBUILDCHECKBUILD BIN
epigenomix 1.40.0  (landing page)
Hans-Ulrich Klein
git_last_commit: 98e9d36
git_last_commit_date: 2023-04-25 10:26:05 -0400
nebbiolo1Linux (Ubuntu 22.04.2 LTS) / x86_64  OK    OK    OK  UNNEEDED, same version is already published
palomino3Windows Server 2022 Datacenter / x64  OK    OK    OK    OK  UNNEEDED, same version is already published
merida1macOS 12.6.4 Monterey / x86_64  OK    OK    OK    OK  UNNEEDED, same version is already published
kjohnson2macOS 12.6.1 Monterey / arm64see weekly results here
Package 169/540HostnameOS / ArchINSTALLBUILDCHECKBUILD BIN
epigraHMM 1.8.3  (landing page)
Pedro Baldoni
git_last_commit: 7a4ec94
git_last_commit_date: 2023-10-04 18:42:56 -0400
nebbiolo1Linux (Ubuntu 22.04.2 LTS) / x86_64  OK    OK    WARNINGS  UNNEEDED, same version is already published
palomino3Windows Server 2022 Datacenter / x64  OK    OK    OK    OK  UNNEEDED, same version is already published
merida1macOS 12.6.4 Monterey / x86_64  OK    OK    WARNINGS    OK  UNNEEDED, same version is already published
kjohnson2macOS 12.6.1 Monterey / arm64see weekly results here
Package 170/540HostnameOS / ArchINSTALLBUILDCHECKBUILD BIN
epihet 1.16.0  (landing page)
Xiaowen Chen
git_last_commit: 7a56e16
git_last_commit_date: 2023-04-25 11:06:43 -0400
nebbiolo1Linux (Ubuntu 22.04.2 LTS) / x86_64  ERROR    ERROR  skipped
palomino3Windows Server 2022 Datacenter / x64  ERROR    ERROR  skippedskipped
merida1macOS 12.6.4 Monterey / x86_64  ERROR    ERROR  skippedskipped
kjohnson2macOS 12.6.1 Monterey / arm64see weekly results here
Package 171/540HostnameOS / ArchINSTALLBUILDCHECKBUILD BIN
EpiMix 1.2.4  (landing page)
Yuanning Zheng
git_last_commit: 56a0a9d
git_last_commit_date: 2023-07-11 00:24:46 -0400
nebbiolo1Linux (Ubuntu 22.04.2 LTS) / x86_64  OK    OK    OK  UNNEEDED, same version is already published
palomino3Windows Server 2022 Datacenter / x64  OK    OK    OK    OK  UNNEEDED, same version is already published
merida1macOS 12.6.4 Monterey / x86_64  OK    OK    OK    OK  UNNEEDED, same version is already published
kjohnson2macOS 12.6.1 Monterey / arm64see weekly results here
Package 172/540HostnameOS / ArchINSTALLBUILDCHECKBUILD BIN
epimutacions 1.4.0  (landing page)
Dolors Pelegri-Siso
git_last_commit: 78170ad
git_last_commit_date: 2023-04-25 11:37:33 -0400
nebbiolo1Linux (Ubuntu 22.04.2 LTS) / x86_64  OK    OK    OK  UNNEEDED, same version is already published
palomino3Windows Server 2022 Datacenter / x64  OK    OK    OK    OK  UNNEEDED, same version is already published
merida1macOS 12.6.4 Monterey / x86_64  OK    OK    OK    OK  UNNEEDED, same version is already published
kjohnson2macOS 12.6.1 Monterey / arm64see weekly results here
Package 173/540HostnameOS / ArchINSTALLBUILDCHECKBUILD BIN
epistack 1.6.0  (landing page)
DEVAILLY Guillaume
git_last_commit: c0e3cbb
git_last_commit_date: 2023-04-25 11:33:47 -0400
nebbiolo1Linux (Ubuntu 22.04.2 LTS) / x86_64  OK    OK    OK  UNNEEDED, same version is already published
palomino3Windows Server 2022 Datacenter / x64  OK    OK    OK    OK  UNNEEDED, same version is already published
merida1macOS 12.6.4 Monterey / x86_64  OK    OK    OK    OK  UNNEEDED, same version is already published
kjohnson2macOS 12.6.1 Monterey / arm64see weekly results here
Package 174/540HostnameOS / ArchINSTALLBUILDCHECKBUILD BIN
EpiTxDb 1.12.0  (landing page)
Felix G.M. Ernst
git_last_commit: f967697
git_last_commit_date: 2023-04-25 11:16:15 -0400
nebbiolo1Linux (Ubuntu 22.04.2 LTS) / x86_64  OK    OK    OK  UNNEEDED, same version is already published
palomino3Windows Server 2022 Datacenter / x64  OK    OK    OK    OK  UNNEEDED, same version is already published
merida1macOS 12.6.4 Monterey / x86_64  OK    OK    OK    OK  UNNEEDED, same version is already published
kjohnson2macOS 12.6.1 Monterey / arm64see weekly results here
Package 175/540HostnameOS / ArchINSTALLBUILDCHECKBUILD BIN
epivizr 2.30.0  (landing page)
Hector Corrada Bravo
git_last_commit: 6d20ad8
git_last_commit_date: 2023-04-25 10:29:04 -0400
nebbiolo1Linux (Ubuntu 22.04.2 LTS) / x86_64  OK    OK    OK  UNNEEDED, same version is already published
palomino3Windows Server 2022 Datacenter / x64  OK    OK    OK    OK  UNNEEDED, same version is already published
merida1macOS 12.6.4 Monterey / x86_64  OK    OK    OK    OK  UNNEEDED, same version is already published
kjohnson2macOS 12.6.1 Monterey / arm64see weekly results here
Package 176/540HostnameOS / ArchINSTALLBUILDCHECKBUILD BIN
epivizrData 1.28.0  (landing page)
Hector Corrada Bravo
git_last_commit: fee5b60
git_last_commit_date: 2023-04-25 10:46:48 -0400
nebbiolo1Linux (Ubuntu 22.04.2 LTS) / x86_64  OK    OK    OK  UNNEEDED, same version is already published
palomino3Windows Server 2022 Datacenter / x64  OK    OK    OK    OK  UNNEEDED, same version is already published
merida1macOS 12.6.4 Monterey / x86_64  OK    OK    OK    OK  UNNEEDED, same version is already published
kjohnson2macOS 12.6.1 Monterey / arm64see weekly results here
Package 177/540HostnameOS / ArchINSTALLBUILDCHECKBUILD BIN
erma 1.16.0  (landing page)
VJ Carey
git_last_commit: 52c2891
git_last_commit_date: 2023-04-25 10:40:09 -0400
nebbiolo1Linux (Ubuntu 22.04.2 LTS) / x86_64  OK    OK    OK  UNNEEDED, same version is already published
palomino3Windows Server 2022 Datacenter / x64  OK    OK    OK    OK  UNNEEDED, same version is already published
merida1macOS 12.6.4 Monterey / x86_64  OK    OK    OK    OK  UNNEEDED, same version is already published
kjohnson2macOS 12.6.1 Monterey / arm64see weekly results here
Package 178/540HostnameOS / ArchINSTALLBUILDCHECKBUILD BIN
esATAC 1.22.0  (landing page)
Zheng Wei
git_last_commit: 02846bd
git_last_commit_date: 2023-04-25 10:58:10 -0400
nebbiolo1Linux (Ubuntu 22.04.2 LTS) / x86_64  OK    OK    OK  UNNEEDED, same version is already published
palomino3Windows Server 2022 Datacenter / x64  OK    OK    OK    OK  UNNEEDED, same version is already published
merida1macOS 12.6.4 Monterey / x86_64  OK    OK    OK    OK  UNNEEDED, same version is already published
kjohnson2macOS 12.6.1 Monterey / arm64see weekly results here
Package 179/540HostnameOS / ArchINSTALLBUILDCHECKBUILD BIN
EventPointer 3.8.0  (landing page)
Juan A. Ferrer-Bonsoms
git_last_commit: a9ab053
git_last_commit_date: 2023-04-25 10:52:37 -0400
nebbiolo1Linux (Ubuntu 22.04.2 LTS) / x86_64  OK    OK    OK  UNNEEDED, same version is already published
palomino3Windows Server 2022 Datacenter / x64  OK    OK    OK    OK  UNNEEDED, same version is already published
merida1macOS 12.6.4 Monterey / x86_64  OK    OK    OK    OK  UNNEEDED, same version is already published
kjohnson2macOS 12.6.1 Monterey / arm64see weekly results here
Package 180/540HostnameOS / ArchINSTALLBUILDCHECKBUILD BIN
ExCluster 1.18.0  (landing page)
R. Matthew Tanner
git_last_commit: 7f9c987
git_last_commit_date: 2023-04-25 11:04:45 -0400
nebbiolo1Linux (Ubuntu 22.04.2 LTS) / x86_64  OK    OK    OK  UNNEEDED, same version is already published
palomino3Windows Server 2022 Datacenter / x64... NOT SUPPORTED ...
merida1macOS 12.6.4 Monterey / x86_64  OK    OK    OK    OK  UNNEEDED, same version is already published
kjohnson2macOS 12.6.1 Monterey / arm64see weekly results here
Package 181/540HostnameOS / ArchINSTALLBUILDCHECKBUILD BIN
exomeCopy 1.46.0  (landing page)
Michael Love
git_last_commit: b282adb
git_last_commit_date: 2023-04-25 10:21:32 -0400
nebbiolo1Linux (Ubuntu 22.04.2 LTS) / x86_64  OK    OK    OK  UNNEEDED, same version is already published
palomino3Windows Server 2022 Datacenter / x64  OK    OK    OK    OK  UNNEEDED, same version is already published
merida1macOS 12.6.4 Monterey / x86_64  OK    OK    OK    OK  UNNEEDED, same version is already published
kjohnson2macOS 12.6.1 Monterey / arm64see weekly results here
Package 182/540HostnameOS / ArchINSTALLBUILDCHECKBUILD BIN
exomePeak2 1.12.0  (landing page)
Zhen Wei
git_last_commit: 4843089
git_last_commit_date: 2023-04-25 11:15:50 -0400
nebbiolo1Linux (Ubuntu 22.04.2 LTS) / x86_64  OK    OK    ERROR  
palomino3Windows Server 2022 Datacenter / x64  OK    OK    OK    OK  UNNEEDED, same version is already published
merida1macOS 12.6.4 Monterey / x86_64  OK    OK    OK    OK  UNNEEDED, same version is already published
kjohnson2macOS 12.6.1 Monterey / arm64see weekly results here
Package 183/540HostnameOS / ArchINSTALLBUILDCHECKBUILD BIN
extraChIPs 1.4.6  (landing page)
Stephen Pederson
git_last_commit: 099625f
git_last_commit_date: 2023-07-08 04:51:32 -0400
nebbiolo1Linux (Ubuntu 22.04.2 LTS) / x86_64  OK    OK    OK  UNNEEDED, same version is already published
palomino3Windows Server 2022 Datacenter / x64  OK    OK    OK    OK  UNNEEDED, same version is already published
merida1macOS 12.6.4 Monterey / x86_64  OK    OK    OK    OK  UNNEEDED, same version is already published
kjohnson2macOS 12.6.1 Monterey / arm64see weekly results here
Package 184/540HostnameOS / ArchINSTALLBUILDCHECKBUILD BIN
factR 1.2.0  (landing page)
Fursham Hamid
git_last_commit: 399210e
git_last_commit_date: 2023-04-25 11:38:52 -0400
nebbiolo1Linux (Ubuntu 22.04.2 LTS) / x86_64  OK    ERROR  skipped
palomino3Windows Server 2022 Datacenter / x64  OK    ERROR  skippedskipped
merida1macOS 12.6.4 Monterey / x86_64  OK    ERROR  skippedskipped
kjohnson2macOS 12.6.1 Monterey / arm64see weekly results here
Package 185/540HostnameOS / ArchINSTALLBUILDCHECKBUILD BIN
fastseg 1.46.0  (landing page)
Alexander Blume
git_last_commit: f51432c
git_last_commit_date: 2023-04-25 10:21:47 -0400
nebbiolo1Linux (Ubuntu 22.04.2 LTS) / x86_64  OK    OK    OK  UNNEEDED, same version is already published
palomino3Windows Server 2022 Datacenter / x64  OK    OK    OK    OK  UNNEEDED, same version is already published
merida1macOS 12.6.4 Monterey / x86_64  OK    OK    OK    OK  UNNEEDED, same version is already published
kjohnson2macOS 12.6.1 Monterey / arm64see weekly results here
Package 186/540HostnameOS / ArchINSTALLBUILDCHECKBUILD BIN
fCCAC 1.26.0  (landing page)
Pedro Madrigal
git_last_commit: 0d3206e
git_last_commit_date: 2023-04-25 10:50:59 -0400
nebbiolo1Linux (Ubuntu 22.04.2 LTS) / x86_64  OK    OK    OK  UNNEEDED, same version is already published
palomino3Windows Server 2022 Datacenter / x64  OK    OK    OK    OK  UNNEEDED, same version is already published
merida1macOS 12.6.4 Monterey / x86_64  OK    OK    OK    OK  UNNEEDED, same version is already published
kjohnson2macOS 12.6.1 Monterey / arm64see weekly results here
Package 187/540HostnameOS / ArchINSTALLBUILDCHECKBUILD BIN
fcScan 1.14.0  (landing page)
Pierre Khoueiry Abdullah El-Kurdi
git_last_commit: 76e3033
git_last_commit_date: 2023-04-25 11:11:44 -0400
nebbiolo1Linux (Ubuntu 22.04.2 LTS) / x86_64  OK    OK    OK  UNNEEDED, same version is already published
palomino3Windows Server 2022 Datacenter / x64  OK    OK    OK    OK  UNNEEDED, same version is already published
merida1macOS 12.6.4 Monterey / x86_64  OK    OK    OK    OK  UNNEEDED, same version is already published
kjohnson2macOS 12.6.1 Monterey / arm64see weekly results here
Package 188/540HostnameOS / ArchINSTALLBUILDCHECKBUILD BIN
FilterFFPE 1.10.0  (landing page)
Lanying Wei
git_last_commit: acf651f
git_last_commit_date: 2023-04-25 11:22:40 -0400
nebbiolo1Linux (Ubuntu 22.04.2 LTS) / x86_64  OK    OK    OK  UNNEEDED, same version is already published
palomino3Windows Server 2022 Datacenter / x64  OK    OK    OK    OK  UNNEEDED, same version is already published
merida1macOS 12.6.4 Monterey / x86_64  OK    OK    OK    OK  UNNEEDED, same version is already published
kjohnson2macOS 12.6.1 Monterey / arm64see weekly results here
Package 189/540HostnameOS / ArchINSTALLBUILDCHECKBUILD BIN
FindIT2 1.6.0  (landing page)
Guandong Shang
git_last_commit: ed293ae
git_last_commit_date: 2023-04-25 11:31:01 -0400
nebbiolo1Linux (Ubuntu 22.04.2 LTS) / x86_64  OK    OK    OK  UNNEEDED, same version is already published
palomino3Windows Server 2022 Datacenter / x64  OK    OK    OK    OK  UNNEEDED, same version is already published
merida1macOS 12.6.4 Monterey / x86_64  OK    OK    OK    OK  UNNEEDED, same version is already published
kjohnson2macOS 12.6.1 Monterey / arm64see weekly results here
Package 190/540HostnameOS / ArchINSTALLBUILDCHECKBUILD BIN
fishpond 2.6.2  (landing page)
Michael Love
git_last_commit: 1d6855b
git_last_commit_date: 2023-06-19 06:52:56 -0400
nebbiolo1Linux (Ubuntu 22.04.2 LTS) / x86_64  OK    OK    OK  UNNEEDED, same version is already published
palomino3Windows Server 2022 Datacenter / x64  OK    OK    OK    OK  UNNEEDED, same version is already published
merida1macOS 12.6.4 Monterey / x86_64  OK    ERROR  skippedskipped
kjohnson2macOS 12.6.1 Monterey / arm64see weekly results here
Package 191/540HostnameOS / ArchINSTALLBUILDCHECKBUILD BIN
FLAMES 1.6.0  (landing page)
Oliver Voogd
git_last_commit: 31277b6
git_last_commit_date: 2023-04-25 11:31:20 -0400
nebbiolo1Linux (Ubuntu 22.04.2 LTS) / x86_64  OK    OK    WARNINGS  UNNEEDED, same version is already published
palomino3Windows Server 2022 Datacenter / x64  OK    OK    OK    OK  UNNEEDED, same version is already published
merida1macOS 12.6.4 Monterey / x86_64  OK    OK    WARNINGS    OK  UNNEEDED, same version is already published
kjohnson2macOS 12.6.1 Monterey / arm64see weekly results here
Package 192/540HostnameOS / ArchINSTALLBUILDCHECKBUILD BIN
FRASER 1.12.1  (landing page)
Christian Mertes
git_last_commit: 72d97bf
git_last_commit_date: 2023-05-01 20:07:22 -0400
nebbiolo1Linux (Ubuntu 22.04.2 LTS) / x86_64  OK    OK    OK  UNNEEDED, same version is already published
palomino3Windows Server 2022 Datacenter / x64  OK    OK    OK    OK  UNNEEDED, same version is already published
merida1macOS 12.6.4 Monterey / x86_64  OK    OK    OK    OK  UNNEEDED, same version is already published
kjohnson2macOS 12.6.1 Monterey / arm64see weekly results here
Package 193/540HostnameOS / ArchINSTALLBUILDCHECKBUILD BIN
FunChIP 1.26.0  (landing page)
Alice Parodi
git_last_commit: de91900
git_last_commit_date: 2023-04-25 10:47:22 -0400
nebbiolo1Linux (Ubuntu 22.04.2 LTS) / x86_64  OK    OK    WARNINGS  UNNEEDED, same version is already published
palomino3Windows Server 2022 Datacenter / x64  OK    OK    WARNINGS    OK  UNNEEDED, same version is already published
merida1macOS 12.6.4 Monterey / x86_64  OK    OK    OK