Back to Multiple platform build/check report for BioC 3.17
ABCDEFGHIJKLMNOPQRS[T]UVWXYZ

This page was generated on 2023-02-02 11:05:20 -0500 (Thu, 02 Feb 2023).

HostnameOSArch (*)R versionInstalled pkgs
nebbiolo1Linux (Ubuntu 22.04.1 LTS)x86_64R Under development (unstable) (2023-01-10 r83596) -- "Unsuffered Consequences" 4483
palomino3Windows Server 2022 Datacenterx64R Under development (unstable) (2023-01-10 r83596 ucrt) -- "Unsuffered Consequences" 4249
merida1macOS 10.14.6 Mojavex86_64R Under development (unstable) (2023-01-10 r83596) -- "Unsuffered Consequences" 4272
Click on any hostname to see more info about the system (e.g. compilers)      (*) as reported by 'uname -p', except on Windows and Mac OS X

All results for package TrajectoryUtils


To the developers/maintainers of the TrajectoryUtils package:
- Please allow up to 24 hours (and sometimes 48 hours) for your latest push to git@git.bioconductor.org:packages/TrajectoryUtils.git to
reflect on this report. See How and When does the builder pull? When will my changes propagate? for more information.
- Make sure to use the following settings in order to reproduce any error or warning you see on this page.

raw results

Package 2059/2164HostnameOS / ArchINSTALLBUILDCHECKBUILD BIN
TrajectoryUtils 1.7.0  (landing page)
Aaron Lun
Snapshot Date: 2023-02-01 14:00:21 -0500 (Wed, 01 Feb 2023)
git_url: https://git.bioconductor.org/packages/TrajectoryUtils
git_branch: master
git_last_commit: 4e3deb8
git_last_commit_date: 2022-11-01 11:23:54 -0500 (Tue, 01 Nov 2022)
nebbiolo1Linux (Ubuntu 22.04.1 LTS) / x86_64  OK    OK    OK  UNNEEDED, same version is already published
palomino3Windows Server 2022 Datacenter / x64  OK    OK    OK    OK  UNNEEDED, same version is already published
merida1macOS 10.14.6 Mojave / x86_64  OK    OK    OK    OK  UNNEEDED, same version is already published

Results for Bioconductor software packages that depend directly on package TrajectoryUtils

QUICK STATSOS / ArchINSTALLBUILDCHECKBUILD BIN
nebbiolo1Linux (Ubuntu 22.04.1 LTS) / x86_64
005
005
0113
palomino3Windows Server 2022 Datacenter / x64
005
005
0014
005
merida1macOS 10.14.6 Mojave / x86_64
005
005
1013
005
Package 1/5HostnameOS / ArchINSTALLBUILDCHECKBUILD BIN
condiments 1.7.0  (landing page)
Hector Roux de Bezieux
git_last_commit: afad889
git_last_commit_date: 2022-11-01 11:24:29 -0500
nebbiolo1Linux (Ubuntu 22.04.1 LTS) / x86_64  OK    OK    OK  UNNEEDED, same version is already published
palomino3Windows Server 2022 Datacenter / x64  OK    OK    OK    OK  UNNEEDED, same version is already published
merida1macOS 10.14.6 Mojave / x86_64  OK    OK    OK    OK  UNNEEDED, same version is already published
Package 2/5HostnameOS / ArchINSTALLBUILDCHECKBUILD BIN
singleCellTK 2.9.0  (landing page)
Yichen Wang
git_last_commit: 4468720
git_last_commit_date: 2022-11-01 11:17:41 -0500
nebbiolo1Linux (Ubuntu 22.04.1 LTS) / x86_64  OK    OK    ERROR  
palomino3Windows Server 2022 Datacenter / x64  OK    OK    OK    OK  UNNEEDED, same version is already published
merida1macOS 10.14.6 Mojave / x86_64  OK    OK    OK    OK  UNNEEDED, same version is already published
Package 3/5HostnameOS / ArchINSTALLBUILDCHECKBUILD BIN
slingshot 2.7.0  (landing page)
Kelly Street
git_last_commit: b2726c3
git_last_commit_date: 2022-11-01 11:17:56 -0500
nebbiolo1Linux (Ubuntu 22.04.1 LTS) / x86_64  OK    OK    OK  UNNEEDED, same version is already published
palomino3Windows Server 2022 Datacenter / x64  OK    OK    OK    OK  UNNEEDED, same version is already published
merida1macOS 10.14.6 Mojave / x86_64  OK    OK    OK    OK  UNNEEDED, same version is already published
Package 4/5HostnameOS / ArchINSTALLBUILDCHECKBUILD BIN
tradeSeq 1.13.0  (landing page)
Hector Roux de Bezieux
git_last_commit: 433b320
git_last_commit_date: 2022-11-01 11:20:59 -0500
nebbiolo1Linux (Ubuntu 22.04.1 LTS) / x86_64  OK    OK    OK  UNNEEDED, same version is already published
palomino3Windows Server 2022 Datacenter / x64  OK    OK    OK    OK  UNNEEDED, same version is already published
merida1macOS 10.14.6 Mojave / x86_64  OK    OK    TIMEOUT    OK  
Package 5/5HostnameOS / ArchINSTALLBUILDCHECKBUILD BIN
TSCAN 1.37.0  (landing page)
Zhicheng Ji
git_last_commit: ef61215
git_last_commit_date: 2022-11-01 11:10:15 -0500
nebbiolo1Linux (Ubuntu 22.04.1 LTS) / x86_64  OK    OK    WARNINGS  UNNEEDED, same version is already published
palomino3Windows Server 2022 Datacenter / x64  OK    OK    WARNINGS    OK  UNNEEDED, same version is already published
merida1macOS 10.14.6 Mojave / x86_64  OK    OK    WARNINGS    OK  UNNEEDED, same version is already published