Back to Multiple platform build/check report for BioC 3.17:   simplified   long
ABCDEFGHIJKLMNOPQR[S]TUVWXYZ

This page was generated on 2023-05-30 11:06:41 -0400 (Tue, 30 May 2023).

HostnameOSArch (*)R versionInstalled pkgs
nebbiolo1Linux (Ubuntu 22.04.2 LTS)x86_644.3.0 RC (2023-04-13 r84269) -- "Already Tomorrow" 4617
palomino3Windows Server 2022 Datacenterx644.3.0 RC (2023-04-13 r84269 ucrt) -- "Already Tomorrow" 4368
merida1macOS 12.6.4 Montereyx86_644.3.0 RC (2023-04-13 r84257) -- "Already Tomorrow" 4326
Click on any hostname to see more info about the system (e.g. compilers)      (*) as reported by 'uname -p', except on Windows and Mac OS X

BUILD BIN results for SOMNiBUS on palomino3


To the developers/maintainers of the SOMNiBUS package:
- Allow up to 24 hours (and sometimes 48 hours) for your latest push to git@git.bioconductor.org:packages/SOMNiBUS.git to reflect on this report. See Troubleshooting Build Report for more information.

- Use the following Renviron settings to reproduce errors and warnings.

Note: If "R CMD check" recently failed on the Linux builder over a missing dependency, add the missing dependency to "Suggests" in your DESCRIPTION file. See the Renviron.bioc for details.

raw results

Package 1960/2229HostnameOS / ArchINSTALLBUILDCHECKBUILD BIN
SOMNiBUS 1.8.0  (landing page)
Audrey Lema├žon
Snapshot Date: 2023-05-29 14:00:15 -0400 (Mon, 29 May 2023)
git_url: https://git.bioconductor.org/packages/SOMNiBUS
git_branch: RELEASE_3_17
git_last_commit: ff0c9b8
git_last_commit_date: 2023-04-25 11:26:20 -0400 (Tue, 25 Apr 2023)
nebbiolo1Linux (Ubuntu 22.04.2 LTS) / x86_64  OK    OK    TIMEOUT  
palomino3Windows Server 2022 Datacenter / x64  OK    OK    TIMEOUT    OK  
merida1macOS 12.6.4 Monterey / x86_64  OK    OK    TIMEOUT    OK  

Summary

Package: SOMNiBUS
Version: 1.8.0
Command: rm -rf SOMNiBUS.buildbin-libdir && mkdir SOMNiBUS.buildbin-libdir && F:\biocbuild\bbs-3.17-bioc\R\bin\R.exe CMD INSTALL --build --library=SOMNiBUS.buildbin-libdir SOMNiBUS_1.8.0.tar.gz
StartedAt: 2023-05-30 09:40:57 -0400 (Tue, 30 May 2023)
EndedAt: 2023-05-30 09:41:51 -0400 (Tue, 30 May 2023)
EllapsedTime: 53.2 seconds
RetCode: 0
Status:   OK  
PackageFile: SOMNiBUS_1.8.0.zip
PackageFileSize: 665.2 KiB

Command output

##############################################################################
##############################################################################
###
### Running command:
###
###   rm -rf SOMNiBUS.buildbin-libdir && mkdir SOMNiBUS.buildbin-libdir && F:\biocbuild\bbs-3.17-bioc\R\bin\R.exe CMD INSTALL --build --library=SOMNiBUS.buildbin-libdir SOMNiBUS_1.8.0.tar.gz
###
##############################################################################
##############################################################################


* installing *source* package 'SOMNiBUS' ...
** using staged installation
** R
** data
** inst
** byte-compile and prepare package for lazy loading
** help
*** installing help indices
** building package indices
** installing vignettes
** testing if installed package can be loaded from temporary location
** testing if installed package can be loaded from final location
** testing if installed package keeps a record of temporary installation path
* MD5 sums
packaged installation of 'SOMNiBUS' as SOMNiBUS_1.8.0.zip
* DONE (SOMNiBUS)