Back to Multiple platform build/check report for BioC 3.17:   simplified   long
ABC[D]EFGHIJKLMNOPQRSTUVWXYZ

This page was generated on 2023-03-23 11:06:39 -0400 (Thu, 23 Mar 2023).

HostnameOSArch (*)R versionInstalled pkgs
nebbiolo1Linux (Ubuntu 22.04.1 LTS)x86_64R Under development (unstable) (2023-03-16 r83996) -- "Unsuffered Consequences" 4536
palomino3Windows Server 2022 Datacenterx64R Under development (unstable) (2023-03-15 r83984 ucrt) -- "Unsuffered Consequences" 4298
merida1macOS 10.14.6 Mojavex86_64R Under development (unstable) (2023-03-16 r83985) -- "Unsuffered Consequences" 4290
Click on any hostname to see more info about the system (e.g. compilers)      (*) as reported by 'uname -p', except on Windows and Mac OS X

CHECK results for dagLogo on merida1


To the developers/maintainers of the dagLogo package:
- Please allow up to 24 hours (and sometimes 48 hours) for your latest push to git@git.bioconductor.org:packages/dagLogo.git to
reflect on this report. See How and When does the builder pull? When will my changes propagate? for more information.
- Make sure to use the following settings in order to reproduce any error or warning you see on this page.

raw results

Package 480/2189HostnameOS / ArchINSTALLBUILDCHECKBUILD BIN
dagLogo 1.37.0  (landing page)
Jianhong Ou
Snapshot Date: 2023-03-22 14:00:17 -0400 (Wed, 22 Mar 2023)
git_url: https://git.bioconductor.org/packages/dagLogo
git_branch: devel
git_last_commit: 87098d8
git_last_commit_date: 2022-11-01 11:08:48 -0400 (Tue, 01 Nov 2022)
nebbiolo1Linux (Ubuntu 22.04.1 LTS) / x86_64  OK    OK    OK  UNNEEDED, same version is already published
palomino3Windows Server 2022 Datacenter / x64  OK    OK    OK    OK  UNNEEDED, same version is already published
merida1macOS 10.14.6 Mojave / x86_64  OK    OK    OK    OK  UNNEEDED, same version is already published

Summary

Package: dagLogo
Version: 1.37.0
Command: /Library/Frameworks/R.framework/Resources/bin/R CMD check --install=check:dagLogo.install-out.txt --library=/Library/Frameworks/R.framework/Resources/library --no-vignettes --timings dagLogo_1.37.0.tar.gz
StartedAt: 2023-03-23 01:00:23 -0400 (Thu, 23 Mar 2023)
EndedAt: 2023-03-23 01:15:16 -0400 (Thu, 23 Mar 2023)
EllapsedTime: 893.2 seconds
RetCode: 0
Status:   OK  
CheckDir: dagLogo.Rcheck
Warnings: 0

Command output

##############################################################################
##############################################################################
###
### Running command:
###
###   /Library/Frameworks/R.framework/Resources/bin/R CMD check --install=check:dagLogo.install-out.txt --library=/Library/Frameworks/R.framework/Resources/library --no-vignettes --timings dagLogo_1.37.0.tar.gz
###
##############################################################################
##############################################################################


* using log directory ‘/Users/biocbuild/bbs-3.17-bioc/meat/dagLogo.Rcheck’
* using R Under development (unstable) (2023-03-16 r83985)
* using platform: x86_64-apple-darwin17.0 (64-bit)
* R was compiled by
    Apple clang version 12.0.0 (clang-1200.0.32.29)
    GNU Fortran (GCC) 8.2.0
* running under: macOS Mojave 10.14.6
* using session charset: UTF-8
* using option ‘--no-vignettes’
* checking for file ‘dagLogo/DESCRIPTION’ ... OK
* checking extension type ... Package
* this is package ‘dagLogo’ version ‘1.37.0’
* package encoding: UTF-8
* checking package namespace information ... OK
* checking package dependencies ... OK
* checking if this is a source package ... OK
* checking if there is a namespace ... OK
* checking for hidden files and directories ... OK
* checking for portable file names ... OK
* checking for sufficient/correct file permissions ... OK
* checking whether package ‘dagLogo’ can be installed ... OK
* checking installed package size ... OK
* checking package directory ... OK
* checking ‘build’ directory ... OK
* checking DESCRIPTION meta-information ... OK
* checking top-level files ... OK
* checking for left-over files ... OK
* checking index information ... OK
* checking package subdirectories ... OK
* checking R files for non-ASCII characters ... OK
* checking R files for syntax errors ... OK
* checking whether the package can be loaded ... OK
* checking whether the package can be loaded with stated dependencies ... OK
* checking whether the package can be unloaded cleanly ... OK
* checking whether the namespace can be loaded with stated dependencies ... OK
* checking whether the namespace can be unloaded cleanly ... OK
* checking dependencies in R code ... OK
* checking S3 generic/method consistency ... OK
* checking replacement functions ... OK
* checking foreign function calls ... OK
* checking R code for possible problems ... OK
* checking Rd files ... OK
* checking Rd metadata ... OK
* checking Rd cross-references ... OK
* checking for missing documentation entries ... OK
* checking for code/documentation mismatches ... OK
* checking Rd \usage sections ... OK
* checking Rd contents ... OK
* checking for unstated dependencies in examples ... OK
* checking contents of ‘data’ directory ... OK
* checking data for non-ASCII characters ... OK
* checking LazyData ... OK
* checking data for ASCII and uncompressed saves ... OK
* checking files in ‘vignettes’ ... OK
* checking examples ... OK
Examples with CPU (user + system) or elapsed time > 5s
                       user system elapsed
testDAU              52.123  0.560  71.622
buildBackgroundModel 17.375  0.108  23.806
formatSequence       13.723  0.033  18.700
dagLogo              10.794  0.190  14.793
dagLogo-package       5.519  0.298   7.857
* checking for unstated dependencies in ‘tests’ ... OK
* checking tests ...
  Running ‘runTests.R’
 OK
* checking for unstated dependencies in vignettes ... OK
* checking package vignettes in ‘inst/doc’ ... OK
* checking running R code from vignettes ... SKIPPED
* checking re-building of vignette outputs ... SKIPPED
* checking PDF version of manual ... OK
* DONE

Status: OK


Installation output

dagLogo.Rcheck/00install.out

##############################################################################
##############################################################################
###
### Running command:
###
###   /Library/Frameworks/R.framework/Resources/bin/R CMD INSTALL dagLogo
###
##############################################################################
##############################################################################


* installing to library ‘/Library/Frameworks/R.framework/Versions/4.3/Resources/library’
* installing *source* package ‘dagLogo’ ...
** using staged installation
** R
** data
*** moving datasets to lazyload DB
** inst
** byte-compile and prepare package for lazy loading
** help
*** installing help indices
** building package indices
** installing vignettes
** testing if installed package can be loaded from temporary location
** testing if installed package can be loaded from final location
** testing if installed package keeps a record of temporary installation path
* DONE (dagLogo)

Tests output

dagLogo.Rcheck/tests/runTests.Rout


R Under development (unstable) (2023-03-16 r83985) -- "Unsuffered Consequences"
Copyright (C) 2023 The R Foundation for Statistical Computing
Platform: x86_64-apple-darwin17.0 (64-bit)

R is free software and comes with ABSOLUTELY NO WARRANTY.
You are welcome to redistribute it under certain conditions.
Type 'license()' or 'licence()' for distribution details.

R is a collaborative project with many contributors.
Type 'contributors()' for more information and
'citation()' on how to cite R or R packages in publications.

Type 'demo()' for some demos, 'help()' for on-line help, or
'help.start()' for an HTML browser interface to help.
Type 'q()' to quit R.

> require("dagLogo") || stop("unable to load Package:dagLogo")
Loading required package: dagLogo
Loading required package: grid

[1] TRUE
> require("Biostrings") || stop("unable to load Package:Biostrings")
Loading required package: Biostrings
Loading required package: BiocGenerics

Attaching package: 'BiocGenerics'

The following objects are masked from 'package:stats':

    IQR, mad, sd, var, xtabs

The following objects are masked from 'package:base':

    Filter, Find, Map, Position, Reduce, anyDuplicated, aperm, append,
    as.data.frame, basename, cbind, colnames, dirname, do.call,
    duplicated, eval, evalq, get, grep, grepl, intersect, is.unsorted,
    lapply, mapply, match, mget, order, paste, pmax, pmax.int, pmin,
    pmin.int, rank, rbind, rownames, sapply, setdiff, sort, table,
    tapply, union, unique, unsplit, which.max, which.min

Loading required package: S4Vectors
Loading required package: stats4

Attaching package: 'S4Vectors'

The following objects are masked from 'package:base':

    I, expand.grid, unname

Loading required package: IRanges
Loading required package: XVector
Loading required package: GenomeInfoDb

Attaching package: 'Biostrings'

The following object is masked from 'package:grid':

    pattern

The following object is masked from 'package:base':

    strsplit

[1] TRUE
> require("biomaRt") || stop("unable to load Package:biomaRt")
Loading required package: biomaRt
[1] TRUE
> data(seq.example)
> data(proteome.example)
> library(testthat)
> 
> test_check("dagLogo")
[ FAIL 0 | WARN 0 | SKIP 4 | PASS 3 ]

══ Skipped tests ═══════════════════════════════════════════════════════════════
• empty test (4)

[ FAIL 0 | WARN 0 | SKIP 4 | PASS 3 ]
> 
> proc.time()
   user  system elapsed 
 30.753   1.151  43.427 

Example timings

dagLogo.Rcheck/dagLogo-Ex.timings

nameusersystemelapsed
addScheme0.0020.0010.002
buildBackgroundModel17.375 0.10823.806
cleanPeptides0.0070.0010.008
colorsets0.0000.0000.001
dagHeatmap1.2270.0341.712
dagLogo-package5.5190.2987.857
dagLogo10.794 0.19014.793
ecoli.proteome0.0640.0060.095
fetchSequence0.0050.0010.005
formatSequence13.723 0.03318.700
getGroupingSymbol0.0000.0000.001
prepareProteome0.0010.0000.000
prepareProteomeByFTP0.0200.0010.026
prepareProteomeByUniProtWS000
proteome.example0.0160.0020.024
seq.example0.0080.0020.013
testDAU52.123 0.56071.622