Back to Multiple platform build/check report for BioC 3.17: simplified long |
|
This page was generated on 2023-05-27 11:05:14 -0400 (Sat, 27 May 2023).
Hostname | OS | Arch (*) | R version | Installed pkgs |
---|---|---|---|---|
nebbiolo1 | Linux (Ubuntu 22.04.2 LTS) | x86_64 | 4.3.0 RC (2023-04-13 r84269) -- "Already Tomorrow" | 4617 |
palomino3 | Windows Server 2022 Datacenter | x64 | 4.3.0 RC (2023-04-13 r84269 ucrt) -- "Already Tomorrow" | 4368 |
merida1 | macOS 12.6.4 Monterey | x86_64 | 4.3.0 RC (2023-04-13 r84257) -- "Already Tomorrow" | 4326 |
Click on any hostname to see more info about the system (e.g. compilers) (*) as reported by 'uname -p', except on Windows and Mac OS X |
To the developers/maintainers of the MOFA2 package: - Allow up to 24 hours (and sometimes 48 hours) for your latest push to git@git.bioconductor.org:packages/MOFA2.git to reflect on this report. See Troubleshooting Build Report for more information. - Use the following Renviron settings to reproduce errors and warnings. Note: If "R CMD check" recently failed on the Linux builder over a missing dependency, add the missing dependency to "Suggests" in your DESCRIPTION file. See the Renviron.bioc for details. |
Package 1269/2229 | Hostname | OS / Arch | INSTALL | BUILD | CHECK | BUILD BIN | ||||||||
MOFA2 1.10.0 (landing page) Ricard Argelaguet
| nebbiolo1 | Linux (Ubuntu 22.04.2 LTS) / x86_64 | OK | OK | OK | ![]() | ||||||||
palomino3 | Windows Server 2022 Datacenter / x64 | OK | OK | OK | OK | ![]() | ||||||||
merida1 | macOS 12.6.4 Monterey / x86_64 | OK | OK | OK | OK | ![]() | ||||||||
Package: MOFA2 |
Version: 1.10.0 |
Command: /home/biocbuild/bbs-3.17-bioc/R/bin/R CMD check --install=check:MOFA2.install-out.txt --library=/home/biocbuild/bbs-3.17-bioc/R/site-library --timings MOFA2_1.10.0.tar.gz |
StartedAt: 2023-05-26 22:49:24 -0400 (Fri, 26 May 2023) |
EndedAt: 2023-05-26 22:54:05 -0400 (Fri, 26 May 2023) |
EllapsedTime: 281.4 seconds |
RetCode: 0 |
Status: OK |
CheckDir: MOFA2.Rcheck |
Warnings: 0 |
############################################################################## ############################################################################## ### ### Running command: ### ### /home/biocbuild/bbs-3.17-bioc/R/bin/R CMD check --install=check:MOFA2.install-out.txt --library=/home/biocbuild/bbs-3.17-bioc/R/site-library --timings MOFA2_1.10.0.tar.gz ### ############################################################################## ############################################################################## * using log directory ‘/home/biocbuild/bbs-3.17-bioc/meat/MOFA2.Rcheck’ * using R version 4.3.0 RC (2023-04-13 r84269) * using platform: x86_64-pc-linux-gnu (64-bit) * R was compiled by gcc (Ubuntu 11.3.0-1ubuntu1~22.04) 11.3.0 GNU Fortran (Ubuntu 11.3.0-1ubuntu1~22.04) 11.3.0 * running under: Ubuntu 22.04.2 LTS * using session charset: UTF-8 * checking for file ‘MOFA2/DESCRIPTION’ ... OK * checking extension type ... Package * this is package ‘MOFA2’ version ‘1.10.0’ * package encoding: UTF-8 * checking package namespace information ... OK * checking package dependencies ... OK * checking if this is a source package ... OK * checking if there is a namespace ... OK * checking for hidden files and directories ... OK * checking for portable file names ... OK * checking for sufficient/correct file permissions ... OK * checking whether package ‘MOFA2’ can be installed ... NOTE Found the following notes/warnings: Non-staged installation was used See ‘/home/biocbuild/bbs-3.17-bioc/meat/MOFA2.Rcheck/00install.out’ for details. * checking installed package size ... OK * checking package directory ... OK * checking ‘build’ directory ... OK * checking DESCRIPTION meta-information ... OK * checking top-level files ... OK * checking for left-over files ... OK * checking index information ... OK * checking package subdirectories ... OK * checking R files for non-ASCII characters ... OK * checking R files for syntax errors ... OK * checking whether the package can be loaded ... OK * checking whether the package can be loaded with stated dependencies ... OK * checking whether the package can be unloaded cleanly ... OK * checking whether the namespace can be loaded with stated dependencies ... OK * checking whether the namespace can be unloaded cleanly ... OK * checking loading without being on the library search path ... OK * checking dependencies in R code ... OK * checking S3 generic/method consistency ... OK * checking replacement functions ... OK * checking foreign function calls ... OK * checking R code for possible problems ... NOTE .plot_factors_vs_cov_1d: no visible binding for global variable ‘value.factor’ .plot_factors_vs_cov_1d: no visible binding for global variable ‘value_scaled’ .plot_factors_vs_cov_1d: no visible binding for global variable ‘value.covariate’ .plot_factors_vs_cov_1d: no visible binding for global variable ‘value’ .plot_factors_vs_cov_2d: no visible binding for global variable ‘value.factor’ .set_xax: no visible binding for global variable ‘value’ add_mofa_factors_to_seurat: no visible global function definition for ‘CreateDimReducObject’ create_mofa_from_SingleCellExperiment: no visible global function definition for ‘colData’ get_interpolated_factors: no visible binding for global variable ‘L1’ get_interpolated_factors: no visible binding for global variable ‘L2’ get_interpolated_factors: no visible binding for global variable ‘value’ get_interpolated_factors: no visible binding for global variable ‘covariate’ get_interpolated_factors: no visible binding for global variable ‘covariate_value’ get_interpolated_factors: no visible binding for global variable ‘sample_id’ interpolate_factors: no visible binding for global variable ‘.’ plot_alignment: no visible binding for global variable ‘group’ plot_alignment: no visible binding for global variable ‘value.warped’ plot_alignment: no visible binding for global variable ‘value.unaligned’ plot_contribution_scores: no visible binding for global variable ‘view’ plot_data_overview: no visible binding for global variable ‘view’ plot_data_overview: no visible binding for global variable ‘ptotal’ plot_data_overview: no visible binding for global variable ‘ntotal’ plot_data_overview: no visible binding for global variable ‘group’ plot_data_overview: no visible binding for global variable ‘group_label’ plot_dimred: no visible binding for global variable ‘.’ plot_enrichment_detailed: no visible binding for global variable ‘pathway’ plot_enrichment_detailed: no visible binding for global variable ‘feature.statistic’ plot_factors_vs_cov: no visible binding for global variable ‘E2’ plot_factors_vs_cov: no visible binding for global variable ‘value’ plot_interpolation_vs_covariate: no visible binding for global variable ‘variance’ plot_interpolation_vs_covariate: no visible binding for global variable ‘group’ plot_interpolation_vs_covariate: no visible binding for global variable ‘value.covariate’ plot_interpolation_vs_covariate: no visible binding for global variable ‘value.factor’ plot_interpolation_vs_covariate: no visible binding for global variable ‘ymin’ plot_interpolation_vs_covariate: no visible binding for global variable ‘ymax’ plot_sharedness: no visible binding for global variable ‘sharedness’ plot_sharedness: no visible binding for global variable ‘value’ plot_smoothness: no visible binding for global variable ‘value’ plot_smoothness: no visible binding for global variable ‘smoothness’ plot_top_weights: no visible binding for global variable ‘value’ plot_weights: no visible binding for global variable ‘value’ plot_weights: no visible binding for global variable ‘.’ summarise_factors: no visible binding for global variable ‘value’ summarise_factors: no visible binding for global variable ‘level’ summarise_factors: no visible binding for global variable ‘group’ Undefined global functions or variables: . CreateDimReducObject E2 L1 L2 colData covariate covariate_value feature.statistic group group_label level ntotal pathway ptotal sample_id sharedness smoothness value value.covariate value.factor value.unaligned value.warped value_scaled variance view ymax ymin * checking Rd files ... OK * checking Rd metadata ... OK * checking Rd cross-references ... NOTE Package unavailable to check Rd xrefs: ‘PCGSE’ * checking for missing documentation entries ... OK * checking for code/documentation mismatches ... OK * checking Rd \usage sections ... OK * checking Rd contents ... OK * checking for unstated dependencies in examples ... OK * checking line endings in shell scripts ... OK * checking files in ‘vignettes’ ... OK * checking examples ... OK * checking for unstated dependencies in ‘tests’ ... OK * checking tests ... Running ‘testthat.R’ OK * checking for unstated dependencies in vignettes ... OK * checking package vignettes in ‘inst/doc’ ... OK * checking running R code from vignettes ... ‘MEFISTO_temporal.Rmd’ using ‘UTF-8’... OK ‘downstream_analysis.Rmd’ using ‘UTF-8’... OK ‘getting_started_R.Rmd’ using ‘UTF-8’... OK NONE * checking re-building of vignette outputs ... OK * checking PDF version of manual ... OK * DONE Status: 3 NOTEs See ‘/home/biocbuild/bbs-3.17-bioc/meat/MOFA2.Rcheck/00check.log’ for details.
MOFA2.Rcheck/00install.out
############################################################################## ############################################################################## ### ### Running command: ### ### /home/biocbuild/bbs-3.17-bioc/R/bin/R CMD INSTALL MOFA2 ### ############################################################################## ############################################################################## * installing to library ‘/home/biocbuild/bbs-3.17-bioc/R/site-library’ * installing *source* package ‘MOFA2’ ... ** using non-staged installation via StagedInstall field ** R ** inst ** byte-compile and prepare package for lazy loading Creating a generic function for ‘rownames’ from package ‘base’ in package ‘MOFA2’ Creating a generic function for ‘colnames’ from package ‘base’ in package ‘MOFA2’ Creating a generic function for ‘nrow’ from package ‘base’ in package ‘MOFA2’ Creating a generic function for ‘ncol’ from package ‘base’ in package ‘MOFA2’ Creating a generic function for ‘rownames<-’ from package ‘base’ in package ‘MOFA2’ Creating a generic function for ‘colnames<-’ from package ‘base’ in package ‘MOFA2’ ** help *** installing help indices ** building package indices ** installing vignettes ** testing if installed package can be loaded * DONE (MOFA2)
MOFA2.Rcheck/tests/testthat.Rout
R version 4.3.0 RC (2023-04-13 r84269) -- "Already Tomorrow" Copyright (C) 2023 The R Foundation for Statistical Computing Platform: x86_64-pc-linux-gnu (64-bit) R is free software and comes with ABSOLUTELY NO WARRANTY. You are welcome to redistribute it under certain conditions. Type 'license()' or 'licence()' for distribution details. R is a collaborative project with many contributors. Type 'contributors()' for more information and 'citation()' on how to cite R or R packages in publications. Type 'demo()' for some demos, 'help()' for on-line help, or 'help.start()' for an HTML browser interface to help. Type 'q()' to quit R. > library(testthat) > library(MOFA2) Attaching package: 'MOFA2' The following object is masked from 'package:stats': predict > > test_check("MOFA2") single_group 100 ____________ | | view_0 1000 | 100% | |____________| ____________ | | view_1 1000 | 100% | |____________| [ FAIL 0 | WARN 0 | SKIP 0 | PASS 25 ] > > proc.time() user system elapsed 9.231 0.789 10.009
MOFA2.Rcheck/MOFA2-Ex.timings
name | user | system | elapsed | |
add_mofa_factors_to_seurat | 0.005 | 0.000 | 0.006 | |
calculate_contribution_scores | 0.771 | 0.019 | 0.794 | |
calculate_variance_explained | 1.500 | 0.084 | 1.583 | |
calculate_variance_explained_per_sample | 0.156 | 0.008 | 0.164 | |
cluster_samples | 0.137 | 0.004 | 0.141 | |
compare_elbo | 0.302 | 0.012 | 0.314 | |
compare_factors | 0.304 | 0.044 | 0.349 | |
covariates_names | 0.691 | 0.064 | 0.756 | |
create_mofa | 0.502 | 0.016 | 0.519 | |
create_mofa_from_df | 0.877 | 0.024 | 0.901 | |
create_mofa_from_matrix | 0.006 | 0.003 | 0.010 | |
factors_names | 0.138 | 0.000 | 0.138 | |
features_metadata | 0.145 | 0.028 | 0.173 | |
features_names | 0.145 | 0.016 | 0.161 | |
get_covariates | 0.171 | 0.008 | 0.179 | |
get_data | 0.433 | 0.024 | 0.458 | |
get_default_data_options | 0.498 | 0.008 | 0.506 | |
get_default_mefisto_options | 0.135 | 0.000 | 0.135 | |
get_default_model_options | 0.508 | 0.000 | 0.508 | |
get_default_stochastic_options | 0.890 | 0.072 | 0.962 | |
get_default_training_options | 0.486 | 0.000 | 0.486 | |
get_dimensions | 0.539 | 0.000 | 0.539 | |
get_elbo | 0.125 | 0.007 | 0.133 | |
get_expectations | 0.137 | 0.004 | 0.142 | |
get_factors | 0.126 | 0.020 | 0.146 | |
get_imputed_data | 0.158 | 0.008 | 0.166 | |
get_lengthscales | 0.162 | 0.008 | 0.170 | |
get_scales | 0.155 | 0.012 | 0.167 | |
get_variance_explained | 0.128 | 0.012 | 0.140 | |
get_weights | 0.154 | 0.012 | 0.165 | |
groups_names | 0.558 | 0.012 | 0.570 | |
impute | 0.140 | 0.008 | 0.148 | |
interpolate_factors | 0.178 | 0.008 | 0.186 | |
load_model | 0.131 | 0.000 | 0.131 | |
make_example_data | 0.003 | 0.000 | 0.003 | |
plot_ascii_data | 0.136 | 0.012 | 0.148 | |
plot_data_heatmap | 0.179 | 0.000 | 0.179 | |
plot_data_overview | 0.271 | 0.000 | 0.271 | |
plot_data_scatter | 1.180 | 0.028 | 1.208 | |
plot_data_vs_cov | 0.439 | 0.008 | 0.447 | |
plot_dimred | 3.246 | 0.078 | 3.289 | |
plot_factor | 1.030 | 0.012 | 1.042 | |
plot_factor_cor | 0.146 | 0.016 | 0.163 | |
plot_factors | 0.599 | 0.000 | 0.599 | |
plot_factors_vs_cov | 0.444 | 0.012 | 0.456 | |
plot_group_kernel | 0.366 | 0.020 | 0.386 | |
plot_interpolation_vs_covariate | 0.598 | 0.012 | 0.621 | |
plot_smoothness | 0.236 | 0.008 | 0.244 | |
plot_top_weights | 0.762 | 0.008 | 0.769 | |
plot_variance_explained | 1.293 | 0.044 | 1.338 | |
plot_variance_explained_by_covariates | 0.973 | 0.024 | 0.996 | |
plot_variance_explained_per_feature | 0.313 | 0.004 | 0.318 | |
plot_weights | 1.995 | 0.036 | 2.031 | |
plot_weights_heatmap | 0.319 | 0.004 | 0.323 | |
plot_weights_scatter | 0.309 | 0.004 | 0.314 | |
predict | 0.143 | 0.004 | 0.146 | |
prepare_mofa | 0.516 | 0.016 | 0.532 | |
run_mofa | 0.531 | 0.020 | 0.550 | |
run_tsne | 0.133 | 0.008 | 0.141 | |
run_umap | 0.138 | 0.004 | 0.142 | |
samples_metadata | 0.151 | 0.003 | 0.155 | |
samples_names | 0.131 | 0.008 | 0.140 | |
set_covariates | 0.029 | 0.000 | 0.028 | |
subset_factors | 0.159 | 0.004 | 0.163 | |
subset_groups | 0.149 | 0.013 | 0.162 | |
subset_samples | 0.612 | 0.058 | 0.669 | |
subset_views | 0.123 | 0.012 | 0.135 | |
views_names | 0.128 | 0.004 | 0.133 | |