Back to Multiple platform build/check report for BioC 3.17:   simplified   long
ABCDEFGHIJKL[M]NOPQRSTUVWXYZ

This page was generated on 2023-10-03 11:36:37 -0400 (Tue, 03 Oct 2023).

HostnameOSArch (*)R versionInstalled pkgs
nebbiolo1Linux (Ubuntu 22.04.2 LTS)x86_644.3.1 (2023-06-16) -- "Beagle Scouts" 4626
palomino3Windows Server 2022 Datacenterx644.3.1 (2023-06-16 ucrt) -- "Beagle Scouts" 4379
merida1macOS 12.6.4 Montereyx86_644.3.1 (2023-06-16) -- "Beagle Scouts" 4395
Click on any hostname to see more info about the system (e.g. compilers)      (*) as reported by 'uname -p', except on Windows and Mac OS X

Package 1298/2230HostnameOS / ArchINSTALLBUILDCHECKBUILD BIN
MsBackendSql 1.0.1  (landing page)
Johannes Rainer
Snapshot Date: 2023-10-02 14:00:11 -0400 (Mon, 02 Oct 2023)
git_url: https://git.bioconductor.org/packages/MsBackendSql
git_branch: RELEASE_3_17
git_last_commit: ac59a16
git_last_commit_date: 2023-04-27 08:07:45 -0400 (Thu, 27 Apr 2023)
nebbiolo1Linux (Ubuntu 22.04.2 LTS) / x86_64  OK    OK    OK  UNNEEDED, same version is already published
palomino3Windows Server 2022 Datacenter / x64  OK    OK    OK    OK  UNNEEDED, same version is already published
merida1macOS 12.6.4 Monterey / x86_64  OK    OK    OK    OK  UNNEEDED, same version is already published

CHECK results for MsBackendSql on palomino3


To the developers/maintainers of the MsBackendSql package:
- Allow up to 24 hours (and sometimes 48 hours) for your latest push to git@git.bioconductor.org:packages/MsBackendSql.git to reflect on this report. See Troubleshooting Build Report for more information.
- Use the following Renviron settings to reproduce errors and warnings.
- If 'R CMD check' started to fail recently on the Linux builder(s) over a missing dependency, add the missing dependency to 'Suggests:' in your DESCRIPTION file. See Renviron.bioc for more information.

raw results


Summary

Package: MsBackendSql
Version: 1.0.1
Command: F:\biocbuild\bbs-3.17-bioc\R\bin\R.exe CMD check --no-multiarch --install=check:MsBackendSql.install-out.txt --library=F:\biocbuild\bbs-3.17-bioc\R\library --no-vignettes --timings MsBackendSql_1.0.1.tar.gz
StartedAt: 2023-10-03 04:32:51 -0400 (Tue, 03 Oct 2023)
EndedAt: 2023-10-03 04:38:43 -0400 (Tue, 03 Oct 2023)
EllapsedTime: 352.0 seconds
RetCode: 0
Status:   OK  
CheckDir: MsBackendSql.Rcheck
Warnings: 0

Command output

##############################################################################
##############################################################################
###
### Running command:
###
###   F:\biocbuild\bbs-3.17-bioc\R\bin\R.exe CMD check --no-multiarch --install=check:MsBackendSql.install-out.txt --library=F:\biocbuild\bbs-3.17-bioc\R\library --no-vignettes --timings MsBackendSql_1.0.1.tar.gz
###
##############################################################################
##############################################################################


* using log directory 'F:/biocbuild/bbs-3.17-bioc/meat/MsBackendSql.Rcheck'
* using R version 4.3.1 (2023-06-16 ucrt)
* using platform: x86_64-w64-mingw32 (64-bit)
* R was compiled by
    gcc.exe (GCC) 12.2.0
    GNU Fortran (GCC) 12.2.0
* running under: Windows Server 2022 x64 (build 20348)
* using session charset: UTF-8
* using option '--no-vignettes'
* checking for file 'MsBackendSql/DESCRIPTION' ... OK
* this is package 'MsBackendSql' version '1.0.1'
* package encoding: UTF-8
* checking package namespace information ... OK
* checking package dependencies ... OK
* checking if this is a source package ... OK
* checking if there is a namespace ... OK
* checking for hidden files and directories ... OK
* checking for portable file names ... OK
* checking whether package 'MsBackendSql' can be installed ... OK
* checking installed package size ... OK
* checking package directory ... OK
* checking 'build' directory ... OK
* checking DESCRIPTION meta-information ... OK
* checking top-level files ... OK
* checking for left-over files ... OK
* checking index information ... OK
* checking package subdirectories ... OK
* checking R files for non-ASCII characters ... OK
* checking R files for syntax errors ... OK
* checking whether the package can be loaded ... OK
* checking whether the package can be loaded with stated dependencies ... OK
* checking whether the package can be unloaded cleanly ... OK
* checking whether the namespace can be loaded with stated dependencies ... OK
* checking whether the namespace can be unloaded cleanly ... OK
* checking dependencies in R code ... OK
* checking S3 generic/method consistency ... OK
* checking replacement functions ... OK
* checking foreign function calls ... OK
* checking R code for possible problems ... OK
* checking Rd files ... OK
* checking Rd metadata ... OK
* checking Rd cross-references ... OK
* checking for missing documentation entries ... OK
* checking for code/documentation mismatches ... OK
* checking Rd \usage sections ... OK
* checking Rd contents ... OK
* checking for unstated dependencies in examples ... OK
* checking files in 'vignettes' ... OK
* checking examples ... OK
Examples with CPU (user + system) or elapsed time > 5s
             user system elapsed
MsBackendSql 3.23   0.15    13.4
* checking for unstated dependencies in 'tests' ... OK
* checking tests ...
  Running 'testthat.R'
 OK
* checking for unstated dependencies in vignettes ... OK
* checking package vignettes in 'inst/doc' ... OK
* checking running R code from vignettes ... SKIPPED
* checking re-building of vignette outputs ... SKIPPED
* checking PDF version of manual ... OK
* DONE

Status: OK


Installation output

MsBackendSql.Rcheck/00install.out

##############################################################################
##############################################################################
###
### Running command:
###
###   F:\biocbuild\bbs-3.17-bioc\R\bin\R.exe CMD INSTALL MsBackendSql
###
##############################################################################
##############################################################################


* installing to library 'F:/biocbuild/bbs-3.17-bioc/R/library'
* installing *source* package 'MsBackendSql' ...
** using staged installation
** R
** byte-compile and prepare package for lazy loading
** help
*** installing help indices
*** copying figures
** building package indices
** installing vignettes
** testing if installed package can be loaded from temporary location
** testing if installed package can be loaded from final location
** testing if installed package keeps a record of temporary installation path
* DONE (MsBackendSql)

Tests output

MsBackendSql.Rcheck/tests/testthat.Rout


R version 4.3.1 (2023-06-16 ucrt) -- "Beagle Scouts"
Copyright (C) 2023 The R Foundation for Statistical Computing
Platform: x86_64-w64-mingw32/x64 (64-bit)

R is free software and comes with ABSOLUTELY NO WARRANTY.
You are welcome to redistribute it under certain conditions.
Type 'license()' or 'licence()' for distribution details.

R is a collaborative project with many contributors.
Type 'contributors()' for more information and
'citation()' on how to cite R or R packages in publications.

Type 'demo()' for some demos, 'help()' for on-line help, or
'help.start()' for an HTML browser interface to help.
Type 'q()' to quit R.

> library(testthat)
> library(MsBackendSql)
Loading required package: Spectra
Loading required package: S4Vectors
Loading required package: stats4
Loading required package: BiocGenerics

Attaching package: 'BiocGenerics'

The following objects are masked from 'package:stats':

    IQR, mad, sd, var, xtabs

The following objects are masked from 'package:base':

    Filter, Find, Map, Position, Reduce, anyDuplicated, aperm, append,
    as.data.frame, basename, cbind, colnames, dirname, do.call,
    duplicated, eval, evalq, get, grep, grepl, intersect, is.unsorted,
    lapply, mapply, match, mget, order, paste, pmax, pmax.int, pmin,
    pmin.int, rank, rbind, rownames, sapply, setdiff, sort, table,
    tapply, union, unique, unsplit, which.max, which.min


Attaching package: 'S4Vectors'

The following object is masked from 'package:utils':

    findMatches

The following objects are masked from 'package:base':

    I, expand.grid, unname

Loading required package: BiocParallel
Loading required package: ProtGenerics

Attaching package: 'ProtGenerics'

The following object is masked from 'package:stats':

    smooth

> library(Spectra)
> library(RSQLite)
> library(msdata)
> 
> mm8_file <- system.file("microtofq", "MM8.mzML", package = "msdata")
> mm8_sps <- Spectra(mm8_file)
> mm8_db <- dbConnect(SQLite(), tempfile())
> createMsBackendSqlDatabase(mm8_db, mm8_file, blob = FALSE)
Importing data ... 

[==========================================================] 1/1 (100%) in  6s
Creating indices .... Done
[1] TRUE
> mm8_be <- backendInitialize(MsBackendSql(), mm8_db)
> 
> mm8_db_blob <- dbConnect(SQLite(), tempfile())
> createMsBackendSqlDatabase(mm8_db_blob, mm8_file, blob = TRUE)
Importing data ... 

[==========================================================] 1/1 (100%) in  6s
Creating indices .... Done
[1] TRUE
> mm8_be_blob <- backendInitialize(MsBackendSql(), mm8_db_blob)
> 
> mm14_file <- system.file("microtofq", "MM14.mzML", package = "msdata")
> mm_db <- dbConnect(SQLite(), tempfile())
> createMsBackendSqlDatabase(mm_db, c(mm8_file, mm14_file), blob = FALSE)
Importing data ... 

[==========================================================] 1/1 (100%) in  8s
Creating indices .... Done
[1] TRUE
> mm_be <- backendInitialize(MsBackendSql(), mm_db)
> 
> tmt_file <- proteomics(full.names = TRUE)[4L]
> tmt_mzr <- backendInitialize(MsBackendMzR(), tmt_file)
> tmt_db <- dbConnect(SQLite(), tempfile())
> createMsBackendSqlDatabase(tmt_db, tmt_file, blob = FALSE)
Importing data ... 

[==========================================================] 1/1 (100%) in  1m
Creating indices .... Done
[1] TRUE
> tmt_be <- backendInitialize(MsBackendSql(), tmt_db)
> 
> test_check("MsBackendSql")
[ FAIL 0 | WARN 1 | SKIP 0 | PASS 291 ]

[ FAIL 0 | WARN 1 | SKIP 0 | PASS 291 ]
> 
> test_suite <- system.file("test_backends", "test_MsBackend",
+                           package = "Spectra")
> 
> be <- mm8_be
> test_dir(test_suite, stop_on_failure = TRUE)
✔ | F W S  OK | Context

⠏ |         0 | spectra_subsetting                                              
⠸ |         4 | spectra_subsetting                                              
⠙ |        32 | spectra_subsetting                                              
⠇ |        59 | spectra_subsetting                                              
⠇ |        79 | spectra_subsetting                                              
⠦ |        97 | spectra_subsetting                                              
⠦ |       127 | spectra_subsetting                                              
⠼ |       155 | spectra_subsetting                                              
⠦ |       187 | spectra_subsetting                                              
⠧ |       218 | spectra_subsetting                                              
⠧ |       248 | spectra_subsetting                                              
⠸ |       284 | spectra_subsetting                                              
⠹ |       313 | spectra_subsetting                                              
⠹ |       343 | spectra_subsetting                                              
⠹ |       373 | spectra_subsetting                                              
⠋ |       401 | spectra_subsetting                                              
⠧ |       428 | spectra_subsetting                                              
⠇ |       459 | spectra_subsetting                                              
⠼ |       485 | spectra_subsetting                                              
⠇ |       509 | spectra_subsetting                                              
⠋ |       541 | spectra_subsetting                                              
⠋ |       571 | spectra_subsetting                                              
⠇ |       599 | spectra_subsetting                                              
⠏ |       600 | spectra_subsetting                                              
⠋ |       601 | spectra_subsetting                                              
⠹ |       603 | spectra_subsetting                                              
⠸ |       604 | spectra_subsetting                                              
⠼ |       605 | spectra_subsetting                                              
⠴ |       606 | spectra_subsetting                                              
⠦ |       607 | spectra_subsetting                                              
⠧ |       608 | spectra_subsetting                                              
⠇ |       609 | spectra_subsetting                                              
⠏ |       610 | spectra_subsetting                                              
⠋ |       611 | spectra_subsetting                                              
⠙ |       612 | spectra_subsetting                                              
⠸ |       614 | spectra_subsetting                                              
⠼ |       615 | spectra_subsetting                                              
⠴ |       616 | spectra_subsetting                                              
⠦ |       617 | spectra_subsetting                                              
⠧ |       618 | spectra_subsetting                                              
⠏ |       620 | spectra_subsetting                                              
⠋ |       621 | spectra_subsetting                                              
⠹ |       623 | spectra_subsetting                                              
⠸ |       624 | spectra_subsetting                                              
⠼ |       625 | spectra_subsetting                                              
⠴ |       626 | spectra_subsetting                                              
⠦ |       627 | spectra_subsetting                                              
⠧ |       628 | spectra_subsetting                                              
⠇ |       629 | spectra_subsetting                                              
⠏ |       630 | spectra_subsetting                                              
⠋ |       631 | spectra_subsetting                                              
⠙ |       632 | spectra_subsetting                                              
⠹ |       633 | spectra_subsetting                                              
⠼ |       635 | spectra_subsetting                                              
⠴ |       636 | spectra_subsetting                                              
⠧ |       638 | spectra_subsetting                                              
⠇ |       639 | spectra_subsetting                                              
⠏ |       640 | spectra_subsetting                                              
⠋ |       641 | spectra_subsetting                                              
⠙ |       642 | spectra_subsetting                                              
⠹ |       643 | spectra_subsetting                                              
⠸ |       644 | spectra_subsetting                                              
⠼ |       645 | spectra_subsetting                                              
⠴ |       646 | spectra_subsetting                                              
⠦ |       647 | spectra_subsetting                                              
⠇ |       649 | spectra_subsetting                                              
⠏ |       650 | spectra_subsetting                                              
⠋ |       651 | spectra_subsetting                                              
⠙ |       652 | spectra_subsetting                                              
⠹ |       653 | spectra_subsetting                                              
⠸ |       654 | spectra_subsetting                                              
⠼ |       655 | spectra_subsetting                                              
⠴ |       656 | spectra_subsetting                                              
⠦ |       657 | spectra_subsetting                                              
⠧ |       658 | spectra_subsetting                                              
⠇ |       659 | spectra_subsetting                                              
⠏ |       660 | spectra_subsetting                                              
⠋ |       661 | spectra_subsetting                                              
⠙ |       662 | spectra_subsetting                                              
⠹ |       663 | spectra_subsetting                                              
⠼ |       665 | spectra_subsetting                                              
⠴ |       666 | spectra_subsetting                                              
⠦ |       667 | spectra_subsetting                                              
⠇ |       669 | spectra_subsetting                                              
⠏ |       670 | spectra_subsetting                                              
⠙ |       672 | spectra_subsetting                                              
⠸ |       674 | spectra_subsetting                                              
⠼ |       675 | spectra_subsetting                                              
⠴ |       676 | spectra_subsetting                                              
⠦ |       677 | spectra_subsetting                                              
⠧ |       678 | spectra_subsetting                                              
⠏ |       680 | spectra_subsetting                                              
⠋ |       681 | spectra_subsetting                                              
⠹ |       683 | spectra_subsetting                                              
⠸ |       684 | spectra_subsetting                                              
⠼ |       685 | spectra_subsetting                                              
⠴ |       686 | spectra_subsetting                                              
⠦ |       687 | spectra_subsetting                                              
⠧ |       688 | spectra_subsetting                                              
⠇ |       689 | spectra_subsetting                                              
⠏ |       690 | spectra_subsetting                                              
⠋ |       691 | spectra_subsetting                                              
⠙ |       692 | spectra_subsetting                                              
⠹ |       693 | spectra_subsetting                                              
⠸ |       694 | spectra_subsetting                                              
⠼ |       695 | spectra_subsetting                                              
⠴ |       696 | spectra_subsetting                                              
⠧ |       698 | spectra_subsetting                                              
⠏ |       700 | spectra_subsetting                                              
⠋ |       701 | spectra_subsetting                                              
⠙ |       702 | spectra_subsetting                                              
⠹ |       703 | spectra_subsetting                                              
⠼ |       705 | spectra_subsetting                                              
⠦ |       707 | spectra_subsetting                                              
⠧ |       708 | spectra_subsetting                                              
⠇ |       709 | spectra_subsetting                                              
⠋ |       711 | spectra_subsetting                                              
⠙ |       712 | spectra_subsetting                                              
⠹ |       713 | spectra_subsetting                                              
⠼ |       715 | spectra_subsetting                                              
⠦ |       717 | spectra_subsetting                                              
⠇ |       719 | spectra_subsetting                                              
⠏ |       720 | spectra_subsetting                                              
⠙ |       722 | spectra_subsetting                                              
⠹ |       723 | spectra_subsetting                                              
⠼ |       725 | spectra_subsetting                                              
⠴ |       726 | spectra_subsetting                                              
⠦ |       727 | spectra_subsetting                                              
⠧ |       728 | spectra_subsetting                                              
⠇ |       729 | spectra_subsetting                                              
⠏ |       730 | spectra_subsetting                                              
⠋ |       731 | spectra_subsetting                                              
⠙ |       732 | spectra_subsetting                                              
⠹ |       733 | spectra_subsetting                                              
⠼ |       735 | spectra_subsetting                                              
⠴ |       736 | spectra_subsetting                                              
⠦ |       737 | spectra_subsetting                                              
⠧ |       738 | spectra_subsetting                                              
⠇ |       739 | spectra_subsetting                                              
⠏ |       740 | spectra_subsetting                                              
⠋ |       741 | spectra_subsetting                                              
⠙ |       742 | spectra_subsetting                                              
⠹ |       743 | spectra_subsetting                                              
⠸ |       744 | spectra_subsetting                                              
⠴ |       746 | spectra_subsetting                                              
⠧ |       748 | spectra_subsetting                                              
⠇ |       749 | spectra_subsetting                                              
⠏ |       750 | spectra_subsetting                                              
⠋ |       751 | spectra_subsetting                                              
⠙ |       752 | spectra_subsetting                                              
⠹ |       753 | spectra_subsetting                                              
⠸ |       754 | spectra_subsetting                                              
⠼ |       755 | spectra_subsetting                                              
⠴ |       756 | spectra_subsetting                                              
⠦ |       757 | spectra_subsetting                                              
⠧ |       758 | spectra_subsetting                                              
⠏ |       760 | spectra_subsetting                                              
⠋ |       761 | spectra_subsetting                                              
⠙ |       762 | spectra_subsetting                                              
⠸ |       764 | spectra_subsetting                                              
⠼ |       765 | spectra_subsetting                                              
⠦ |       767 | spectra_subsetting                                              
⠇ |       769 | spectra_subsetting                                              
⠏ |       770 | spectra_subsetting                                              
⠋ |       771 | spectra_subsetting                                              
⠙ |       772 | spectra_subsetting                                              
⠹ |       773 | spectra_subsetting                                              
⠸ |       774 | spectra_subsetting                                              
⠴ |       776 | spectra_subsetting                                              
⠦ |       777 | spectra_subsetting                                              
⠧ |       778 | spectra_subsetting                                              
⠏ |       780 | spectra_subsetting                                              
⠋ |       781 | spectra_subsetting                                              
⠙ |       782 | spectra_subsetting                                              
⠹ |       783 | spectra_subsetting                                              
⠸ |       784 | spectra_subsetting                                              
⠼ |       785 | spectra_subsetting                                              
⠴ |       786 | spectra_subsetting                                              
⠦ |       787 | spectra_subsetting                                              
⠧ |       788 | spectra_subsetting                                              
⠇ |       789 | spectra_subsetting                                              
⠏ |       790 | spectra_subsetting                                              
⠙ |       792 | spectra_subsetting                                              
⠸ |       794 | spectra_subsetting                                              
⠼ |       795 | spectra_subsetting                                              
⠴ |       796 | spectra_subsetting                                              
⠇ |       799 | spectra_subsetting                                              
⠋ |       801 | spectra_subsetting                                              
⠧ |       808 | spectra_subsetting                                              
⠹ |       813 | spectra_subsetting                                              
✔ |       813 | spectra_subsetting [26.5s]

⠏ |         0 | spectra_variables                                               
⠙ |        12 | spectra_variables                                               
⠸ |        14 | spectra_variables                                               
⠴ |        16 | spectra_variables                                               
⠦ |        27 | spectra_variables                                               
⠇ |        29 | spectra_variables                                               
⠋ |        31 | spectra_variables                                               
⠹ |        43 | spectra_variables                                               
⠸ |        54 | spectra_variables                                               
✔ |        64 | spectra_variables [2.1s]

══ Results ═════════════════════════════════════════════════════════════════════
Duration: 28.6 s

[ FAIL 0 | WARN 0 | SKIP 0 | PASS 877 ]
Warning message:
call dbDisconnect() when finished working with a connection 
> 
> be <- tmt_be[sample(seq_along(tmt_be), 300)]
> test_dir(test_suite, stop_on_failure = TRUE)
✔ | F W S  OK | Context

⠏ |         0 | spectra_subsetting                                              
⠸ |        14 | spectra_subsetting                                              
⠸ |        44 | spectra_subsetting                                              
⠴ |        76 | spectra_subsetting                                              
⠦ |       107 | spectra_subsetting                                              
⠇ |       139 | spectra_subsetting                                              
⠙ |       172 | spectra_subsetting                                              
⠼ |       205 | spectra_subsetting                                              
⠏ |       230 | spectra_subsetting                                              
⠹ |       253 | spectra_subsetting                                              
⠋ |       281 | spectra_subsetting                                              
⠦ |       307 | spectra_subsetting                                              
⠏ |       340 | spectra_subsetting                                              
⠋ |       371 | spectra_subsetting                                              
⠹ |       403 | spectra_subsetting                                              
⠴ |       436 | spectra_subsetting                                              
⠦ |       467 | spectra_subsetting                                              
⠸ |       494 | spectra_subsetting                                              
⠇ |       519 | spectra_subsetting                                              
⠏ |       540 | spectra_subsetting                                              
⠋ |       571 | spectra_subsetting                                              
⠋ |       601 | spectra_subsetting                                              
⠋ |       631 | spectra_subsetting                                              
⠙ |       662 | spectra_subsetting                                              
⠸ |       694 | spectra_subsetting                                              
⠼ |       725 | spectra_subsetting                                              
⠦ |       757 | spectra_subsetting                                              
⠧ |       788 | spectra_subsetting                                              
⠦ |       817 | spectra_subsetting                                              
⠧ |       848 | spectra_subsetting                                              
⠇ |       879 | spectra_subsetting                                              
⠼ |       905 | spectra_subsetting                                              
⠦ |       907 | spectra_subsetting                                              
⠧ |       908 | spectra_subsetting                                              
⠏ |       910 | spectra_subsetting                                              
⠙ |       912 | spectra_subsetting                                              
⠸ |       914 | spectra_subsetting                                              
⠼ |       915 | spectra_subsetting                                              
⠴ |       916 | spectra_subsetting                                              
⠦ |       917 | spectra_subsetting                                              
⠧ |       918 | spectra_subsetting                                              
⠇ |       919 | spectra_subsetting                                              
⠋ |       921 | spectra_subsetting                                              
⠙ |       922 | spectra_subsetting                                              
⠹ |       923 | spectra_subsetting                                              
⠼ |       925 | spectra_subsetting                                              
⠴ |       926 | spectra_subsetting                                              
⠦ |       927 | spectra_subsetting                                              
⠧ |       928 | spectra_subsetting                                              
⠇ |       929 | spectra_subsetting                                              
⠏ |       930 | spectra_subsetting                                              
⠙ |       932 | spectra_subsetting                                              
⠹ |       933 | spectra_subsetting                                              
⠸ |       934 | spectra_subsetting                                              
⠴ |       936 | spectra_subsetting                                              
⠦ |       937 | spectra_subsetting                                              
⠧ |       938 | spectra_subsetting                                              
⠇ |       939 | spectra_subsetting                                              
⠋ |       941 | spectra_subsetting                                              
⠙ |       942 | spectra_subsetting                                              
⠹ |       943 | spectra_subsetting                                              
⠼ |       945 | spectra_subsetting                                              
⠴ |       946 | spectra_subsetting                                              
⠧ |       948 | spectra_subsetting                                              
⠇ |       949 | spectra_subsetting                                              
⠏ |       950 | spectra_subsetting                                              
⠋ |       951 | spectra_subsetting                                              
⠙ |       952 | spectra_subsetting                                              
⠹ |       953 | spectra_subsetting                                              
⠼ |       955 | spectra_subsetting                                              
⠴ |       956 | spectra_subsetting                                              
⠦ |       957 | spectra_subsetting                                              
⠇ |       959 | spectra_subsetting                                              
⠏ |       960 | spectra_subsetting                                              
⠋ |       961 | spectra_subsetting                                              
⠙ |       962 | spectra_subsetting                                              
⠹ |       963 | spectra_subsetting                                              
⠸ |       964 | spectra_subsetting                                              
⠼ |       965 | spectra_subsetting                                              
⠴ |       966 | spectra_subsetting                                              
⠦ |       967 | spectra_subsetting                                              
⠧ |       968 | spectra_subsetting                                              
⠏ |       970 | spectra_subsetting                                              
⠙ |       972 | spectra_subsetting                                              
⠹ |       973 | spectra_subsetting                                              
⠼ |       975 | spectra_subsetting                                              
⠦ |       977 | spectra_subsetting                                              
⠧ |       978 | spectra_subsetting                                              
⠇ |       979 | spectra_subsetting                                              
⠏ |       980 | spectra_subsetting                                              
⠋ |       981 | spectra_subsetting                                              
⠹ |       983 | spectra_subsetting                                              
⠸ |       984 | spectra_subsetting                                              
⠴ |       986 | spectra_subsetting                                              
⠦ |       987 | spectra_subsetting                                              
⠇ |       989 | spectra_subsetting                                              
⠏ |       990 | spectra_subsetting                                              
⠋ |       991 | spectra_subsetting                                              
⠙ |       992 | spectra_subsetting                                              
⠸ |       994 | spectra_subsetting                                              
⠼ |       995 | spectra_subsetting                                              
⠴ |       996 | spectra_subsetting                                              
⠦ |       997 | spectra_subsetting                                              
⠧ |       998 | spectra_subsetting                                              
⠏ |       1000 | spectra_subsetting                                             
⠋ |       1001 | spectra_subsetting                                             
⠹ |       1003 | spectra_subsetting                                             
⠸ |       1004 | spectra_subsetting                                             
⠼ |       1005 | spectra_subsetting                                             
⠴ |       1006 | spectra_subsetting                                             
⠦ |       1007 | spectra_subsetting                                             
⠧ |       1008 | spectra_subsetting                                             
⠏ |       1010 | spectra_subsetting                                             
⠋ |       1011 | spectra_subsetting                                             
⠹ |       1013 | spectra_subsetting                                             
⠸ |       1014 | spectra_subsetting                                             
⠼ |       1015 | spectra_subsetting                                             
⠴ |       1016 | spectra_subsetting                                             
⠧ |       1018 | spectra_subsetting                                             
⠏ |       1020 | spectra_subsetting                                             
⠙ |       1022 | spectra_subsetting                                             
⠹ |       1023 | spectra_subsetting                                             
⠸ |       1024 | spectra_subsetting                                             
⠼ |       1025 | spectra_subsetting                                             
⠴ |       1026 | spectra_subsetting                                             
⠧ |       1028 | spectra_subsetting                                             
⠇ |       1029 | spectra_subsetting                                             
⠏ |       1030 | spectra_subsetting                                             
⠋ |       1031 | spectra_subsetting                                             
⠙ |       1032 | spectra_subsetting                                             
⠹ |       1033 | spectra_subsetting                                             
⠸ |       1034 | spectra_subsetting                                             
⠴ |       1036 | spectra_subsetting                                             
⠧ |       1038 | spectra_subsetting                                             
⠇ |       1039 | spectra_subsetting                                             
⠏ |       1040 | spectra_subsetting                                             
⠋ |       1041 | spectra_subsetting                                             
⠙ |       1042 | spectra_subsetting                                             
⠹ |       1043 | spectra_subsetting                                             
⠸ |       1044 | spectra_subsetting                                             
⠴ |       1046 | spectra_subsetting                                             
⠦ |       1047 | spectra_subsetting                                             
⠇ |       1049 | spectra_subsetting                                             
⠏ |       1050 | spectra_subsetting                                             
⠋ |       1051 | spectra_subsetting                                             
⠙ |       1052 | spectra_subsetting                                             
⠹ |       1053 | spectra_subsetting                                             
⠸ |       1054 | spectra_subsetting                                             
⠼ |       1055 | spectra_subsetting                                             
⠴ |       1056 | spectra_subsetting                                             
⠦ |       1057 | spectra_subsetting                                             
⠧ |       1058 | spectra_subsetting                                             
⠏ |       1060 | spectra_subsetting                                             
⠙ |       1062 | spectra_subsetting                                             
⠸ |       1064 | spectra_subsetting                                             
⠴ |       1066 | spectra_subsetting                                             
⠦ |       1067 | spectra_subsetting                                             
⠧ |       1068 | spectra_subsetting                                             
⠏ |       1070 | spectra_subsetting                                             
⠋ |       1071 | spectra_subsetting                                             
⠙ |       1072 | spectra_subsetting                                             
⠹ |       1073 | spectra_subsetting                                             
⠼ |       1075 | spectra_subsetting                                             
⠦ |       1077 | spectra_subsetting                                             
⠧ |       1078 | spectra_subsetting                                             
⠏ |       1080 | spectra_subsetting                                             
⠋ |       1081 | spectra_subsetting                                             
⠙ |       1082 | spectra_subsetting                                             
⠸ |       1084 | spectra_subsetting                                             
⠼ |       1085 | spectra_subsetting                                             
⠴ |       1086 | spectra_subsetting                                             
⠦ |       1087 | spectra_subsetting                                             
⠧ |       1088 | spectra_subsetting                                             
⠏ |       1090 | spectra_subsetting                                             
⠋ |       1091 | spectra_subsetting                                             
⠙ |       1092 | spectra_subsetting                                             
⠹ |       1093 | spectra_subsetting                                             
⠼ |       1095 | spectra_subsetting                                             
⠦ |       1097 | spectra_subsetting                                             
⠧ |       1098 | spectra_subsetting                                             
⠇ |       1099 | spectra_subsetting                                             
⠋ |       1101 | spectra_subsetting                                             
⠙ |       1102 | spectra_subsetting                                             
⠹ |       1103 | spectra_subsetting                                             
⠼ |       1105 | spectra_subsetting                                             
⠴ |       1106 | spectra_subsetting                                             
⠧ |       1108 | spectra_subsetting                                             
⠇ |       1109 | spectra_subsetting                                             
⠏ |       1110 | spectra_subsetting                                             
⠙ |       1112 | spectra_subsetting                                             
⠹ |       1113 | spectra_subsetting                                             
⠼ |       1115 | spectra_subsetting                                             
⠴ |       1116 | spectra_subsetting                                             
⠧ |       1118 | spectra_subsetting                                             
⠏ |       1120 | spectra_subsetting                                             
⠋ |       1121 | spectra_subsetting                                             
⠹ |       1123 | spectra_subsetting                                             
⠼ |       1125 | spectra_subsetting                                             
⠴ |       1126 | spectra_subsetting                                             
⠦ |       1127 | spectra_subsetting                                             
⠧ |       1128 | spectra_subsetting                                             
⠇ |       1129 | spectra_subsetting                                             
⠏ |       1130 | spectra_subsetting                                             
⠋ |       1131 | spectra_subsetting                                             
⠙ |       1132 | spectra_subsetting                                             
⠸ |       1134 | spectra_subsetting                                             
⠼ |       1135 | spectra_subsetting                                             
⠴ |       1136 | spectra_subsetting                                             
⠦ |       1137 | spectra_subsetting                                             
⠇ |       1139 | spectra_subsetting                                             
⠋ |       1141 | spectra_subsetting                                             
⠹ |       1143 | spectra_subsetting                                             
⠸ |       1144 | spectra_subsetting                                             
⠴ |       1146 | spectra_subsetting                                             
⠧ |       1148 | spectra_subsetting                                             
⠇ |       1149 | spectra_subsetting                                             
⠏ |       1150 | spectra_subsetting                                             
⠋ |       1151 | spectra_subsetting                                             
⠹ |       1153 | spectra_subsetting                                             
⠼ |       1155 | spectra_subsetting                                             
⠴ |       1156 | spectra_subsetting                                             
⠦ |       1157 | spectra_subsetting                                             
⠧ |       1158 | spectra_subsetting                                             
⠇ |       1159 | spectra_subsetting                                             
⠏ |       1160 | spectra_subsetting                                             
⠙ |       1162 | spectra_subsetting                                             
⠸ |       1164 | spectra_subsetting                                             
⠼ |       1165 | spectra_subsetting                                             
⠦ |       1167 | spectra_subsetting                                             
⠧ |       1168 | spectra_subsetting                                             
⠇ |       1169 | spectra_subsetting                                             
⠋ |       1171 | spectra_subsetting                                             
⠙ |       1172 | spectra_subsetting                                             
⠸ |       1174 | spectra_subsetting                                             
⠴ |       1176 | spectra_subsetting                                             
⠦ |       1177 | spectra_subsetting                                             
⠧ |       1178 | spectra_subsetting                                             
⠇ |       1179 | spectra_subsetting                                             
⠋ |       1181 | spectra_subsetting                                             
⠹ |       1183 | spectra_subsetting                                             
⠼ |       1185 | spectra_subsetting                                             
⠴ |       1186 | spectra_subsetting                                             
⠦ |       1187 | spectra_subsetting                                             
⠇ |       1189 | spectra_subsetting                                             
⠏ |       1190 | spectra_subsetting                                             
⠙ |       1192 | spectra_subsetting                                             
⠹ |       1193 | spectra_subsetting                                             
⠼ |       1195 | spectra_subsetting                                             
⠴ |       1196 | spectra_subsetting                                             
⠦ |       1197 | spectra_subsetting                                             
⠇ |       1199 | spectra_subsetting                                             
⠏ |       1200 | spectra_subsetting                                             
⠙ |       1202 | spectra_subsetting                                             
⠹ |       1203 | spectra_subsetting                                             
⠸ |       1204 | spectra_subsetting                                             
⠦ |       1207 | spectra_subsetting                                             
⠇ |       1209 | spectra_subsetting                                             
⠇ |       1219 | spectra_subsetting                                             
⠋ |       1221 | spectra_subsetting                                             
✔ |       1221 | spectra_subsetting [42.1s]

⠏ |         0 | spectra_variables                                               
⠙ |        12 | spectra_variables                                               
⠸ |        14 | spectra_variables                                               
⠴ |        16 | spectra_variables                                               
⠦ |        27 | spectra_variables                                               
⠇ |        29 | spectra_variables                                               
⠋ |        31 | spectra_variables                                               
⠹ |        43 | spectra_variables                                               
⠸ |        54 | spectra_variables                                               
✔ |        64 | spectra_variables [9.5s]

══ Results ═════════════════════════════════════════════════════════════════════
Duration: 51.6 s

[ FAIL 0 | WARN 0 | SKIP 0 | PASS 1285 ]

🎯 Your tests hit the mark 🎯
> 
> dbDisconnect(mm8_db)
> dbDisconnect(mm8_db_blob)
> dbDisconnect(mm_db)
> dbDisconnect(tmt_db)
> 
> proc.time()
   user  system elapsed 
 155.14   12.85  263.29 

Example timings

MsBackendSql.Rcheck/MsBackendSql-Ex.timings

nameusersystemelapsed
MsBackendSql 3.23 0.1513.40