Back to Multiple platform build/check report for BioC 3.17:   simplified   long
ABCDEFGHIJKLMNOPQ[R]STUVWXYZ

This page was generated on 2023-06-05 11:03:33 -0400 (Mon, 05 Jun 2023).

HostnameOSArch (*)R versionInstalled pkgs
nebbiolo1Linux (Ubuntu 22.04.2 LTS)x86_644.3.0 RC (2023-04-13 r84269) -- "Already Tomorrow" 4623
palomino3Windows Server 2022 Datacenterx644.3.0 RC (2023-04-13 r84269 ucrt) -- "Already Tomorrow" 4374
merida1macOS 12.6.4 Montereyx86_644.3.0 RC (2023-04-13 r84257) -- "Already Tomorrow" 4332
Click on any hostname to see more info about the system (e.g. compilers)      (*) as reported by 'uname -p', except on Windows and Mac OS X

All results for package Rhtslib


To the developers/maintainers of the Rhtslib package:
- Allow up to 24 hours (and sometimes 48 hours) for your latest push to git@git.bioconductor.org:packages/Rhtslib.git to reflect on this report. See Troubleshooting Build Report for more information.

- Use the following Renviron settings to reproduce errors and warnings.

Note: If "R CMD check" recently failed on the Linux builder over a missing dependency, add the missing dependency to "Suggests" in your DESCRIPTION file. See the Renviron.bioc for details.

raw results

Package 1712/2229HostnameOS / ArchINSTALLBUILDCHECKBUILD BIN
Rhtslib 2.2.0  (landing page)
Hervé Pagès
Snapshot Date: 2023-06-04 14:00:14 -0400 (Sun, 04 Jun 2023)
git_url: https://git.bioconductor.org/packages/Rhtslib
git_branch: RELEASE_3_17
git_last_commit: ac2e2a6
git_last_commit_date: 2023-04-25 10:37:54 -0400 (Tue, 25 Apr 2023)
nebbiolo1Linux (Ubuntu 22.04.2 LTS) / x86_64  OK    OK    WARNINGS  UNNEEDED, same version is already published
palomino3Windows Server 2022 Datacenter / x64  OK    OK    WARNINGS    OK  UNNEEDED, same version is already published
merida1macOS 12.6.4 Monterey / x86_64  OK    OK    WARNINGS    NA  

Results for Bioconductor software packages that depend directly on package Rhtslib

QUICK STATSOS / ArchINSTALLBUILDCHECKBUILD BIN
nebbiolo1Linux (Ubuntu 22.04.2 LTS) / x86_64
0220
0220
00200
palomino3Windows Server 2022 Datacenter / x64
0120
0219
00910
0019
merida1macOS 12.6.4 Monterey / x86_64
0418
1417
00170
006
Package 1/22HostnameOS / ArchINSTALLBUILDCHECKBUILD BIN
ArrayExpressHTS 1.50.0  (landing page)
Angela Goncalves , Andrew Tikhonov
git_last_commit: 7b79d4b
git_last_commit_date: 2023-04-25 10:19:47 -0400
nebbiolo1Linux (Ubuntu 22.04.2 LTS) / x86_64  ERROR    ERROR  skipped
palomino3Windows Server 2022 Datacenter / x64... NOT SUPPORTED ...
merida1macOS 12.6.4 Monterey / x86_64  ERROR    ERROR  skippedskipped
Package 2/22HostnameOS / ArchINSTALLBUILDCHECKBUILD BIN
bamsignals 1.32.0  (landing page)
Johannes Helmuth
git_last_commit: 34bfc4e
git_last_commit_date: 2023-04-25 10:38:18 -0400
nebbiolo1Linux (Ubuntu 22.04.2 LTS) / x86_64  OK    OK    WARNINGS  UNNEEDED, same version is already published
palomino3Windows Server 2022 Datacenter / x64  OK    OK    OK    OK  UNNEEDED, same version is already published
merida1macOS 12.6.4 Monterey / x86_64  OK    OK    WARNINGS    OK  UNNEEDED, same version is already published
Package 3/22HostnameOS / ArchINSTALLBUILDCHECKBUILD BIN
csaw 1.34.0  (landing page)
Aaron Lun
git_last_commit: a93327e
git_last_commit_date: 2023-04-25 10:35:43 -0400
nebbiolo1Linux (Ubuntu 22.04.2 LTS) / x86_64  OK    OK    WARNINGS  UNNEEDED, same version is already published
palomino3Windows Server 2022 Datacenter / x64  OK    OK    WARNINGS    OK  UNNEEDED, same version is already published
merida1macOS 12.6.4 Monterey / x86_64  OK    OK    WARNINGS    OK  UNNEEDED, same version is already published
Package 4/22HostnameOS / ArchINSTALLBUILDCHECKBUILD BIN
deepSNV 1.46.0  (landing page)
Moritz Gerstung
git_last_commit: 68b63ba
git_last_commit_date: 2023-04-25 10:22:16 -0400
nebbiolo1Linux (Ubuntu 22.04.2 LTS) / x86_64  OK    OK    WARNINGS  UNNEEDED, same version is already published
palomino3Windows Server 2022 Datacenter / x64  OK    OK    OK    OK  UNNEEDED, same version is already published
merida1macOS 12.6.4 Monterey / x86_64  OK    OK    WARNINGS    OK  UNNEEDED, same version is already published
Package 5/22HostnameOS / ArchINSTALLBUILDCHECKBUILD BIN
DiffBind 3.10.0  (landing page)
Rory Stark
git_last_commit: 8d49ab2
git_last_commit_date: 2023-04-25 10:21:02 -0400
nebbiolo1Linux (Ubuntu 22.04.2 LTS) / x86_64  OK    OK    WARNINGS  UNNEEDED, same version is already published
palomino3Windows Server 2022 Datacenter / x64  OK    OK    OK    OK  UNNEEDED, same version is already published
merida1macOS 12.6.4 Monterey / x86_64  OK    OK    WARNINGS    OK  UNNEEDED, same version is already published
Package 6/22HostnameOS / ArchINSTALLBUILDCHECKBUILD BIN
diffHic 1.32.0  (landing page)
Aaron Lun
git_last_commit: 6c577d2
git_last_commit_date: 2023-04-25 10:39:29 -0400
nebbiolo1Linux (Ubuntu 22.04.2 LTS) / x86_64  OK    OK    WARNINGS  UNNEEDED, same version is already published
palomino3Windows Server 2022 Datacenter / x64  OK    OK    WARNINGS    OK  UNNEEDED, same version is already published
merida1macOS 12.6.4 Monterey / x86_64  OK    OK    WARNINGS    OK  UNNEEDED, same version is already published
Package 7/22HostnameOS / ArchINSTALLBUILDCHECKBUILD BIN
epialleleR 1.8.0  (landing page)
Oleksii Nikolaienko
git_last_commit: 1e1c26d
git_last_commit_date: 2023-04-25 11:29:47 -0400
nebbiolo1Linux (Ubuntu 22.04.2 LTS) / x86_64  OK    OK    WARNINGS  UNNEEDED, same version is already published
palomino3Windows Server 2022 Datacenter / x64  OK    OK    OK    OK  UNNEEDED, same version is already published
merida1macOS 12.6.4 Monterey / x86_64  OK    OK    WARNINGS    OK  UNNEEDED, same version is already published
Package 8/22HostnameOS / ArchINSTALLBUILDCHECKBUILD BIN
FLAMES 1.6.0  (landing page)
Oliver Voogd
git_last_commit: 31277b6
git_last_commit_date: 2023-04-25 11:31:20 -0400
nebbiolo1Linux (Ubuntu 22.04.2 LTS) / x86_64  OK    OK    WARNINGS  UNNEEDED, same version is already published
palomino3Windows Server 2022 Datacenter / x64  OK    OK    OK    OK  UNNEEDED, same version is already published
merida1macOS 12.6.4 Monterey / x86_64  OK    OK    WARNINGS    NA  
Package 9/22HostnameOS / ArchINSTALLBUILDCHECKBUILD BIN
h5vc 2.34.0  (landing page)
Paul Theodor Pyl
git_last_commit: 9324f25
git_last_commit_date: 2023-04-25 10:29:31 -0400
nebbiolo1Linux (Ubuntu 22.04.2 LTS) / x86_64  OK    OK    WARNINGS  UNNEEDED, same version is already published
palomino3Windows Server 2022 Datacenter / x64  OK    ERROR  skippedskipped
merida1macOS 12.6.4 Monterey / x86_64  OK    OK    WARNINGS    NA  
Package 10/22HostnameOS / ArchINSTALLBUILDCHECKBUILD BIN
maftools 2.16.0  (landing page)
Anand Mayakonda
git_last_commit: 39bddc8
git_last_commit_date: 2023-04-25 10:48:19 -0400
nebbiolo1Linux (Ubuntu 22.04.2 LTS) / x86_64  OK    OK    WARNINGS  UNNEEDED, same version is already published
palomino3Windows Server 2022 Datacenter / x64  OK    OK    OK    OK  UNNEEDED, same version is already published
merida1macOS 12.6.4 Monterey / x86_64  OK    OK    WARNINGS    NA  
Package 11/22HostnameOS / ArchINSTALLBUILDCHECKBUILD BIN
methylKit 1.26.0  (landing page)
Altuna Akalin , Alexander Gosdschan
git_last_commit: a15614f
git_last_commit_date: 2023-04-25 10:48:14 -0400
nebbiolo1Linux (Ubuntu 22.04.2 LTS) / x86_64  OK    OK    WARNINGS  UNNEEDED, same version is already published
palomino3Windows Server 2022 Datacenter / x64  OK    OK    WARNINGS    OK  UNNEEDED, same version is already published
merida1macOS 12.6.4 Monterey / x86_64  OK    OK    WARNINGS    NA  
Package 12/22HostnameOS / ArchINSTALLBUILDCHECKBUILD BIN
mitoClone2 1.6.0  (landing page)
Benjamin Story
git_last_commit: add7e6c
git_last_commit_date: 2023-04-25 11:31:33 -0400
nebbiolo1Linux (Ubuntu 22.04.2 LTS) / x86_64  OK    OK    WARNINGS  UNNEEDED, same version is already published
palomino3Windows Server 2022 Datacenter / x64  OK    OK    WARNINGS    OK  UNNEEDED, same version is already published
merida1macOS 12.6.4 Monterey / x86_64  ERROR    ERROR  skippedskipped
Package 13/22HostnameOS / ArchINSTALLBUILDCHECKBUILD BIN
podkat 1.32.0  (landing page)
Ulrich Bodenhofer
git_last_commit: 68a149b
git_last_commit_date: 2023-04-25 10:38:38 -0400
nebbiolo1Linux (Ubuntu 22.04.2 LTS) / x86_64  OK    OK    WARNINGS  UNNEEDED, same version is already published
palomino3Windows Server 2022 Datacenter / x64  OK    OK    OK    OK  UNNEEDED, same version is already published
merida1macOS 12.6.4 Monterey / x86_64  OK    OK    WARNINGS    NA  
Package 14/22HostnameOS / ArchINSTALLBUILDCHECKBUILD BIN
qrqc 1.54.0  (landing page)
Vince Buffalo
git_last_commit: 794b32d
git_last_commit_date: 2023-04-25 10:19:23 -0400
nebbiolo1Linux (Ubuntu 22.04.2 LTS) / x86_64  ERROR    ERROR  skipped
palomino3Windows Server 2022 Datacenter / x64  ERROR    ERROR  skippedskipped
merida1macOS 12.6.4 Monterey / x86_64  ERROR    ERROR  skippedskipped
Package 15/22HostnameOS / ArchINSTALLBUILDCHECKBUILD BIN
QuasR 1.40.0  (landing page)
Michael Stadler
git_last_commit: ad385c1
git_last_commit_date: 2023-04-25 10:25:14 -0400
nebbiolo1Linux (Ubuntu 22.04.2 LTS) / x86_64  OK    OK    WARNINGS  UNNEEDED, same version is already published
palomino3Windows Server 2022 Datacenter / x64  OK    OK    OK    OK  UNNEEDED, same version is already published
merida1macOS 12.6.4 Monterey / x86_64  OK    OK    WARNINGS    NA  
Package 16/22HostnameOS / ArchINSTALLBUILDCHECKBUILD BIN
Rfastp 1.10.0  (landing page)
Thomas Carroll
git_last_commit: 90045b6
git_last_commit_date: 2023-04-25 11:22:10 -0400
nebbiolo1Linux (Ubuntu 22.04.2 LTS) / x86_64  OK    OK    WARNINGS  UNNEEDED, same version is already published
palomino3Windows Server 2022 Datacenter / x64  OK    OK    OK    OK  UNNEEDED, same version is already published
merida1macOS 12.6.4 Monterey / x86_64  OK    OK    WARNINGS    NA  
Package 17/22HostnameOS / ArchINSTALLBUILDCHECKBUILD BIN
Rsamtools 2.16.0  (landing page)
Bioconductor Package Maintainer
git_last_commit: 3eb6d03
git_last_commit_date: 2023-04-25 09:50:37 -0400
nebbiolo1Linux (Ubuntu 22.04.2 LTS) / x86_64  OK    OK    WARNINGS  UNNEEDED, same version is already published
palomino3Windows Server 2022 Datacenter / x64  OK    OK    WARNINGS    OK  UNNEEDED, same version is already published
merida1macOS 12.6.4 Monterey / x86_64  OK    OK    WARNINGS    NA  
Package 18/22HostnameOS / ArchINSTALLBUILDCHECKBUILD BIN
scPipe 2.0.0  (landing page)
Shian Su
git_last_commit: 2d9cb4c
git_last_commit_date: 2023-04-25 10:57:21 -0400
nebbiolo1Linux (Ubuntu 22.04.2 LTS) / x86_64  OK    OK    WARNINGS  UNNEEDED, same version is already published
palomino3Windows Server 2022 Datacenter / x64  OK    OK    WARNINGS    OK  UNNEEDED, same version is already published
merida1macOS 12.6.4 Monterey / x86_64  OK    TIMEOUT  skippedskipped
Package 19/22HostnameOS / ArchINSTALLBUILDCHECKBUILD BIN
seqbias 1.48.0  (landing page)
Daniel Jones
git_last_commit: 7e94228
git_last_commit_date: 2023-04-25 10:18:39 -0400
nebbiolo1Linux (Ubuntu 22.04.2 LTS) / x86_64  OK    OK    WARNINGS  UNNEEDED, same version is already published
palomino3Windows Server 2022 Datacenter / x64  OK    OK    WARNINGS    OK  UNNEEDED, same version is already published
merida1macOS 12.6.4 Monterey / x86_64  ERROR    ERROR  skippedskipped
Package 20/22HostnameOS / ArchINSTALLBUILDCHECKBUILD BIN
ShortRead 1.58.0  (landing page)
Bioconductor Package Maintainer
git_last_commit: 433d182
git_last_commit_date: 2023-04-25 09:46:47 -0400
nebbiolo1Linux (Ubuntu 22.04.2 LTS) / x86_64  OK    OK    WARNINGS  UNNEEDED, same version is already published
palomino3Windows Server 2022 Datacenter / x64  OK    OK    WARNINGS    OK  UNNEEDED, same version is already published
merida1macOS 12.6.4 Monterey / x86_64  OK    OK    WARNINGS    NA  
Package 21/22HostnameOS / ArchINSTALLBUILDCHECKBUILD BIN
TransView 1.44.0  (landing page)
Julius Muller
git_last_commit: eaf29b3
git_last_commit_date: 2023-04-25 10:24:30 -0400
nebbiolo1Linux (Ubuntu 22.04.2 LTS) / x86_64  OK    OK    WARNINGS  UNNEEDED, same version is already published
palomino3Windows Server 2022 Datacenter / x64  OK    OK    OK    OK  UNNEEDED, same version is already published
merida1macOS 12.6.4 Monterey / x86_64  OK    OK    WARNINGS    NA  
Package 22/22HostnameOS / ArchINSTALLBUILDCHECKBUILD BIN
VariantAnnotation 1.46.0  (landing page)
Bioconductor Package Maintainer
git_last_commit: 80d43e0
git_last_commit_date: 2023-04-25 10:20:30 -0400
nebbiolo1Linux (Ubuntu 22.04.2 LTS) / x86_64  OK    OK    WARNINGS  UNNEEDED, same version is already published
palomino3Windows Server 2022 Datacenter / x64  OK    OK    WARNINGS    OK  UNNEEDED, same version is already published
merida1macOS 12.6.4 Monterey / x86_64  OK    OK    WARNINGS    NA