Back to Multiple platform build/check report for BioC 3.17:   simplified   long
ABCDEFGHIJKLM[N]OPQRSTUVWXYZ

This page was generated on 2023-03-31 11:03:14 -0400 (Fri, 31 Mar 2023).

HostnameOSArch (*)R versionInstalled pkgs
nebbiolo1Linux (Ubuntu 22.04.1 LTS)x86_64R Under development (unstable) (2023-03-16 r83996) -- "Unsuffered Consequences" 4547
palomino3Windows Server 2022 Datacenterx64R Under development (unstable) (2023-03-15 r83984 ucrt) -- "Unsuffered Consequences" 4308
Click on any hostname to see more info about the system (e.g. compilers)      (*) as reported by 'uname -p', except on Windows and Mac OS X

BUILD results for nucleR on palomino3


To the developers/maintainers of the nucleR package:
- Allow up to 24 hours (and sometimes 48 hours) for your latest push to git@git.bioconductor.org:packages/nucleR.git to reflect on this report. See Troubleshooting Build Report for more information.

- Use the following Renviron settings to reproduce errors and warnings.

Note: If "R CMD check" recently failed on the Linux builder over a missing dependency, add the missing dependency to "Suggests" in your DESCRIPTION file. See the Renviron.bioc for details.

raw results

Package 1381/2195HostnameOS / ArchINSTALLBUILDCHECKBUILD BIN
nucleR 2.31.0  (landing page)
Alba Sala
Snapshot Date: 2023-03-30 14:00:16 -0400 (Thu, 30 Mar 2023)
git_url: https://git.bioconductor.org/packages/nucleR
git_branch: devel
git_last_commit: b03e676
git_last_commit_date: 2022-11-01 11:06:05 -0400 (Tue, 01 Nov 2022)
nebbiolo1Linux (Ubuntu 22.04.1 LTS) / x86_64  OK    OK    WARNINGS  UNNEEDED, same version is already published
palomino3Windows Server 2022 Datacenter / x64  OK    OK    WARNINGS    OK  UNNEEDED, same version is already published

Summary

Package: nucleR
Version: 2.31.0
Command: chmod a+r nucleR -R && F:\biocbuild\bbs-3.17-bioc\R\bin\R.exe CMD build --keep-empty-dirs --no-resave-data nucleR
StartedAt: 2023-03-30 20:37:16 -0400 (Thu, 30 Mar 2023)
EndedAt: 2023-03-30 20:38:38 -0400 (Thu, 30 Mar 2023)
EllapsedTime: 82.0 seconds
RetCode: 0
Status:   OK  
PackageFile: nucleR_2.31.0.tar.gz
PackageFileSize: 1.176 MiB

Command output

##############################################################################
##############################################################################
###
### Running command:
###
###   chmod a+r nucleR -R && F:\biocbuild\bbs-3.17-bioc\R\bin\R.exe CMD build --keep-empty-dirs --no-resave-data nucleR
###
##############################################################################
##############################################################################


* checking for file 'nucleR/DESCRIPTION' ... OK
* preparing 'nucleR':
* checking DESCRIPTION meta-information ... OK
* installing the package to build vignettes
* creating vignettes ... OK
* checking for LF line-endings in source and make files and shell scripts
* checking for empty or unneeded directories
* looking to see if a 'data/datalist' file should be added
  NB: this package now depends on R (>= 3.5.0)
  WARNING: Added dependency on R >= 3.5.0 because serialized objects in
  serialize/load version 3 cannot be read in older versions of R.
  File(s) containing such objects:
    'nucleR/data/nucleosome_htseq.rda'
* building 'nucleR_2.31.0.tar.gz'