Back to Multiple platform build/check report for BioC 3.17:   simplified   long
ABCDEF[G]HIJKLMNOPQRSTUVWXYZ

This page was generated on 2023-03-20 11:05:45 -0400 (Mon, 20 Mar 2023).

HostnameOSArch (*)R versionInstalled pkgs
nebbiolo1Linux (Ubuntu 22.04.1 LTS)x86_64R Under development (unstable) (2023-03-16 r83996) -- "Unsuffered Consequences" 4297
palomino3Windows Server 2022 Datacenterx64R Under development (unstable) (2023-03-15 r83984 ucrt) -- "Unsuffered Consequences" 4286
merida1macOS 10.14.6 Mojavex86_64R Under development (unstable) (2023-03-16 r83985) -- "Unsuffered Consequences" 4150
Click on any hostname to see more info about the system (e.g. compilers)      (*) as reported by 'uname -p', except on Windows and Mac OS X

BUILD results for GenomicFiles on palomino3


To the developers/maintainers of the GenomicFiles package:
- Please allow up to 24 hours (and sometimes 48 hours) for your latest push to git@git.bioconductor.org:packages/GenomicFiles.git to
reflect on this report. See How and When does the builder pull? When will my changes propagate? for more information.
- Make sure to use the following settings in order to reproduce any error or warning you see on this page.

raw results

Package 791/2189HostnameOS / ArchINSTALLBUILDCHECKBUILD BIN
GenomicFiles 1.35.1  (landing page)
Bioconductor Package Maintainer
Snapshot Date: 2023-03-19 14:00:12 -0400 (Sun, 19 Mar 2023)
git_url: https://git.bioconductor.org/packages/GenomicFiles
git_branch: master
git_last_commit: aeb833c
git_last_commit_date: 2023-03-17 15:01:20 -0400 (Fri, 17 Mar 2023)
nebbiolo1Linux (Ubuntu 22.04.1 LTS) / x86_64  OK    OK    WARNINGS  YES
palomino3Windows Server 2022 Datacenter / x64  OK    OK    WARNINGS    OK  YES
merida1macOS 10.14.6 Mojave / x86_64  OK    OK    WARNINGS    OK  YES

Summary

Package: GenomicFiles
Version: 1.35.1
Command: chmod a+r GenomicFiles -R && F:\biocbuild\bbs-3.17-bioc\R\bin\R.exe CMD build --keep-empty-dirs --no-resave-data GenomicFiles
StartedAt: 2023-03-19 19:06:10 -0400 (Sun, 19 Mar 2023)
EndedAt: 2023-03-19 19:10:02 -0400 (Sun, 19 Mar 2023)
EllapsedTime: 232.5 seconds
RetCode: 0
Status:   OK  
PackageFile: GenomicFiles_1.35.1.tar.gz
PackageFileSize: 712.9 KiB

Command output

##############################################################################
##############################################################################
###
### Running command:
###
###   chmod a+r GenomicFiles -R && F:\biocbuild\bbs-3.17-bioc\R\bin\R.exe CMD build --keep-empty-dirs --no-resave-data GenomicFiles
###
##############################################################################
##############################################################################


* checking for file 'GenomicFiles/DESCRIPTION' ... OK
* preparing 'GenomicFiles':
* checking DESCRIPTION meta-information ... OK
* installing the package to build vignettes
* creating vignettes ... OK
* checking for LF line-endings in source and make files and shell scripts
* checking for empty or unneeded directories
* building 'GenomicFiles_1.35.1.tar.gz'