Back to Multiple platform build/check report for BioC 3.17:   simplified   long
ABCDEFGHIJKL[M]NOPQRSTUVWXYZ

This page was generated on 2023-06-09 11:06:12 -0400 (Fri, 09 Jun 2023).

HostnameOSArch (*)R versionInstalled pkgs
nebbiolo1Linux (Ubuntu 22.04.2 LTS)x86_644.3.0 RC (2023-04-13 r84269) -- "Already Tomorrow" 4628
palomino3Windows Server 2022 Datacenterx644.3.0 RC (2023-04-13 r84269 ucrt) -- "Already Tomorrow" 4379
merida1macOS 12.6.4 Montereyx86_644.3.0 RC (2023-04-13 r84257) -- "Already Tomorrow" 4385
Click on any hostname to see more info about the system (e.g. compilers)      (*) as reported by 'uname -p', except on Windows and Mac OS X

CHECK results for MOFA2 on palomino3


To the developers/maintainers of the MOFA2 package:
- Allow up to 24 hours (and sometimes 48 hours) for your latest push to git@git.bioconductor.org:packages/MOFA2.git to reflect on this report. See Troubleshooting Build Report for more information.
- Use the following Renviron settings to reproduce errors and warnings.
- If 'R CMD check' started to fail recently on the Linux builder(s) over a missing dependency, add the missing dependency to 'Suggests:' in your DESCRIPTION file. See Renviron.bioc for more information.

raw results

Package 1269/2229HostnameOS / ArchINSTALLBUILDCHECKBUILD BIN
MOFA2 1.10.0  (landing page)
Ricard Argelaguet
Snapshot Date: 2023-06-08 14:00:15 -0400 (Thu, 08 Jun 2023)
git_url: https://git.bioconductor.org/packages/MOFA2
git_branch: RELEASE_3_17
git_last_commit: 2a167fb
git_last_commit_date: 2023-04-25 11:23:55 -0400 (Tue, 25 Apr 2023)
nebbiolo1Linux (Ubuntu 22.04.2 LTS) / x86_64  OK    OK    OK  UNNEEDED, same version is already published
palomino3Windows Server 2022 Datacenter / x64  OK    OK    OK    OK  UNNEEDED, same version is already published
merida1macOS 12.6.4 Monterey / x86_64  OK    OK    OK    OK  NO, package depends on 'basilisk' which is not available

Summary

Package: MOFA2
Version: 1.10.0
Command: F:\biocbuild\bbs-3.17-bioc\R\bin\R.exe CMD check --no-multiarch --install=check:MOFA2.install-out.txt --library=F:\biocbuild\bbs-3.17-bioc\R\library --no-vignettes --timings MOFA2_1.10.0.tar.gz
StartedAt: 2023-06-09 04:24:23 -0400 (Fri, 09 Jun 2023)
EndedAt: 2023-06-09 04:27:37 -0400 (Fri, 09 Jun 2023)
EllapsedTime: 194.1 seconds
RetCode: 0
Status:   OK  
CheckDir: MOFA2.Rcheck
Warnings: 0

Command output

##############################################################################
##############################################################################
###
### Running command:
###
###   F:\biocbuild\bbs-3.17-bioc\R\bin\R.exe CMD check --no-multiarch --install=check:MOFA2.install-out.txt --library=F:\biocbuild\bbs-3.17-bioc\R\library --no-vignettes --timings MOFA2_1.10.0.tar.gz
###
##############################################################################
##############################################################################


* using log directory 'F:/biocbuild/bbs-3.17-bioc/meat/MOFA2.Rcheck'
* using R version 4.3.0 RC (2023-04-13 r84269 ucrt)
* using platform: x86_64-w64-mingw32 (64-bit)
* R was compiled by
    gcc.exe (GCC) 12.2.0
    GNU Fortran (GCC) 12.2.0
* running under: Windows Server 2022 x64 (build 20348)
* using session charset: UTF-8
* using option '--no-vignettes'
* checking for file 'MOFA2/DESCRIPTION' ... OK
* checking extension type ... Package
* this is package 'MOFA2' version '1.10.0'
* package encoding: UTF-8
* checking package namespace information ... OK
* checking package dependencies ... OK
* checking if this is a source package ... OK
* checking if there is a namespace ... OK
* checking for hidden files and directories ... OK
* checking for portable file names ... OK
* checking whether package 'MOFA2' can be installed ... NOTE
Found the following notes/warnings:
  Non-staged installation was used
See 'F:/biocbuild/bbs-3.17-bioc/meat/MOFA2.Rcheck/00install.out' for details.
* checking installed package size ... OK
* checking package directory ... OK
* checking 'build' directory ... OK
* checking DESCRIPTION meta-information ... OK
* checking top-level files ... OK
* checking for left-over files ... OK
* checking index information ... OK
* checking package subdirectories ... OK
* checking R files for non-ASCII characters ... OK
* checking R files for syntax errors ... OK
* checking whether the package can be loaded ... OK
* checking whether the package can be loaded with stated dependencies ... OK
* checking whether the package can be unloaded cleanly ... OK
* checking whether the namespace can be loaded with stated dependencies ... OK
* checking whether the namespace can be unloaded cleanly ... OK
* checking dependencies in R code ... OK
* checking S3 generic/method consistency ... OK
* checking replacement functions ... OK
* checking foreign function calls ... OK
* checking R code for possible problems ... NOTE
.plot_factors_vs_cov_1d: no visible binding for global variable
  'value.factor'
.plot_factors_vs_cov_1d: no visible binding for global variable
  'value_scaled'
.plot_factors_vs_cov_1d: no visible binding for global variable
  'value.covariate'
.plot_factors_vs_cov_1d: no visible binding for global variable 'value'
.plot_factors_vs_cov_2d: no visible binding for global variable
  'value.factor'
.set_xax: no visible binding for global variable 'value'
add_mofa_factors_to_seurat: no visible global function definition for
  'CreateDimReducObject'
create_mofa_from_SingleCellExperiment: no visible global function
  definition for 'colData'
get_interpolated_factors: no visible binding for global variable 'L1'
get_interpolated_factors: no visible binding for global variable 'L2'
get_interpolated_factors: no visible binding for global variable
  'value'
get_interpolated_factors: no visible binding for global variable
  'covariate'
get_interpolated_factors: no visible binding for global variable
  'covariate_value'
get_interpolated_factors: no visible binding for global variable
  'sample_id'
interpolate_factors: no visible binding for global variable '.'
plot_alignment: no visible binding for global variable 'group'
plot_alignment: no visible binding for global variable 'value.warped'
plot_alignment: no visible binding for global variable
  'value.unaligned'
plot_contribution_scores: no visible binding for global variable 'view'
plot_data_overview: no visible binding for global variable 'view'
plot_data_overview: no visible binding for global variable 'ptotal'
plot_data_overview: no visible binding for global variable 'ntotal'
plot_data_overview: no visible binding for global variable 'group'
plot_data_overview: no visible binding for global variable
  'group_label'
plot_dimred: no visible binding for global variable '.'
plot_enrichment_detailed: no visible binding for global variable
  'pathway'
plot_enrichment_detailed: no visible binding for global variable
  'feature.statistic'
plot_factors_vs_cov: no visible binding for global variable 'E2'
plot_factors_vs_cov: no visible binding for global variable 'value'
plot_interpolation_vs_covariate: no visible binding for global variable
  'variance'
plot_interpolation_vs_covariate: no visible binding for global variable
  'group'
plot_interpolation_vs_covariate: no visible binding for global variable
  'value.covariate'
plot_interpolation_vs_covariate: no visible binding for global variable
  'value.factor'
plot_interpolation_vs_covariate: no visible binding for global variable
  'ymin'
plot_interpolation_vs_covariate: no visible binding for global variable
  'ymax'
plot_sharedness: no visible binding for global variable 'sharedness'
plot_sharedness: no visible binding for global variable 'value'
plot_smoothness: no visible binding for global variable 'value'
plot_smoothness: no visible binding for global variable 'smoothness'
plot_top_weights: no visible binding for global variable 'value'
plot_weights: no visible binding for global variable 'value'
plot_weights: no visible binding for global variable '.'
summarise_factors: no visible binding for global variable 'value'
summarise_factors: no visible binding for global variable 'level'
summarise_factors: no visible binding for global variable 'group'
Undefined global functions or variables:
  . CreateDimReducObject E2 L1 L2 colData covariate covariate_value
  feature.statistic group group_label level ntotal pathway ptotal
  sample_id sharedness smoothness value value.covariate value.factor
  value.unaligned value.warped value_scaled variance view ymax ymin
* checking Rd files ... OK
* checking Rd metadata ... OK
* checking Rd cross-references ... NOTE
Package unavailable to check Rd xrefs: 'PCGSE'
* checking for missing documentation entries ... OK
* checking for code/documentation mismatches ... OK
* checking Rd \usage sections ... OK
* checking Rd contents ... OK
* checking for unstated dependencies in examples ... OK
* checking line endings in shell scripts ... OK
* checking files in 'vignettes' ... OK
* checking examples ... OK
* checking for unstated dependencies in 'tests' ... OK
* checking tests ...
  Running 'testthat.R'
 OK
* checking for unstated dependencies in vignettes ... OK
* checking package vignettes in 'inst/doc' ... OK
* checking running R code from vignettes ... SKIPPED
* checking re-building of vignette outputs ... SKIPPED
* checking PDF version of manual ... OK
* DONE

Status: 3 NOTEs
See
  'F:/biocbuild/bbs-3.17-bioc/meat/MOFA2.Rcheck/00check.log'
for details.



Installation output

MOFA2.Rcheck/00install.out

##############################################################################
##############################################################################
###
### Running command:
###
###   F:\biocbuild\bbs-3.17-bioc\R\bin\R.exe CMD INSTALL MOFA2
###
##############################################################################
##############################################################################


* installing to library 'F:/biocbuild/bbs-3.17-bioc/R/library'
* installing *source* package 'MOFA2' ...
** using non-staged installation via StagedInstall field
** R
** inst
** byte-compile and prepare package for lazy loading
Creating a generic function for 'rownames' from package 'base' in package 'MOFA2'
Creating a generic function for 'colnames' from package 'base' in package 'MOFA2'
Creating a generic function for 'nrow' from package 'base' in package 'MOFA2'
Creating a generic function for 'ncol' from package 'base' in package 'MOFA2'
Creating a generic function for 'rownames<-' from package 'base' in package 'MOFA2'
Creating a generic function for 'colnames<-' from package 'base' in package 'MOFA2'
** help
*** installing help indices
** building package indices
** installing vignettes
** testing if installed package can be loaded
* DONE (MOFA2)

Tests output

MOFA2.Rcheck/tests/testthat.Rout


R version 4.3.0 RC (2023-04-13 r84269 ucrt) -- "Already Tomorrow"
Copyright (C) 2023 The R Foundation for Statistical Computing
Platform: x86_64-w64-mingw32/x64 (64-bit)

R is free software and comes with ABSOLUTELY NO WARRANTY.
You are welcome to redistribute it under certain conditions.
Type 'license()' or 'licence()' for distribution details.

R is a collaborative project with many contributors.
Type 'contributors()' for more information and
'citation()' on how to cite R or R packages in publications.

Type 'demo()' for some demos, 'help()' for on-line help, or
'help.start()' for an HTML browser interface to help.
Type 'q()' to quit R.

> library(testthat)
> library(MOFA2)

Attaching package: 'MOFA2'

The following object is masked from 'package:stats':

    predict

> 
> test_check("MOFA2")

               single_group 
                    100     
               ____________ 
              |            |
view_0  1000  |    100%    |
              |____________|
               ____________ 
              |            |
view_1  1000  |    100%    |
              |____________|

[ FAIL 0 | WARN 0 | SKIP 0 | PASS 25 ]
> 
> proc.time()
   user  system elapsed 
   9.89    0.64   10.54 

Example timings

MOFA2.Rcheck/MOFA2-Ex.timings

nameusersystemelapsed
add_mofa_factors_to_seurat000
calculate_contribution_scores0.170.010.22
calculate_variance_explained1.380.141.51
calculate_variance_explained_per_sample0.120.050.17
cluster_samples0.550.030.58
compare_elbo0.720.000.72
compare_factors0.380.020.39
covariates_names0.210.000.25
create_mofa0.500.000.52
create_mofa_from_df0.440.000.43
create_mofa_from_matrix000
factors_names0.140.050.19
features_metadata0.620.010.64
features_names0.160.020.17
get_covariates0.210.010.22
get_data0.400.080.49
get_default_data_options0.520.030.55
get_default_mefisto_options0.140.000.19
get_default_model_options0.950.041.00
get_default_stochastic_options0.440.050.48
get_default_training_options0.410.050.46
get_dimensions0.530.030.56
get_elbo0.140.010.15
get_expectations0.080.070.14
get_factors0.120.030.16
get_imputed_data0.160.000.16
get_lengthscales0.190.030.22
get_scales0.150.050.20
get_variance_explained0.170.010.19
get_weights0.210.000.20
groups_names0.150.030.19
impute0.180.020.18
interpolate_factors0.200.050.25
load_model0.170.000.18
make_example_data000
plot_ascii_data0.160.010.17
plot_data_heatmap0.180.030.22
plot_data_overview0.270.050.31
plot_data_scatter1.590.081.97
plot_data_vs_cov0.490.030.51
plot_dimred3.330.033.49
plot_factor0.980.021.00
plot_factor_cor0.140.040.19
plot_factors0.550.030.57
plot_factors_vs_cov0.400.040.44
plot_group_kernel0.330.010.35
plot_interpolation_vs_covariate0.460.030.48
plot_smoothness0.180.030.22
plot_top_weights0.770.030.80
plot_variance_explained1.560.041.59
plot_variance_explained_by_covariates1.080.061.14
plot_variance_explained_per_feature0.360.000.36
plot_weights2.030.062.09
plot_weights_heatmap0.310.030.35
plot_weights_scatter0.310.000.31
predict0.110.050.16
prepare_mofa0.630.050.67
run_mofa0.50.00.5
run_tsne0.200.010.22
run_umap0.140.020.15
samples_metadata0.190.000.19
samples_names0.160.000.16
set_covariates0.030.000.03
subset_factors0.170.040.22
subset_groups0.220.020.23
subset_samples0.190.000.19
subset_views0.170.030.20
views_names0.120.030.16