Back to Multiple platform build/check report for BioC 3.17:   simplified   long
ABCDEFGHIJKL[M]NOPQRSTUVWXYZ

This page was generated on 2023-03-18 11:04:52 -0400 (Sat, 18 Mar 2023).

HostnameOSArch (*)R versionInstalled pkgs
nebbiolo1Linux (Ubuntu 22.04.1 LTS)x86_64R Under development (unstable) (2023-03-16 r83996) -- "Unsuffered Consequences" 4282
palomino3Windows Server 2022 Datacenterx64R Under development (unstable) (2023-03-15 r83984 ucrt) -- "Unsuffered Consequences" 4279
merida1macOS 10.14.6 Mojavex86_64R Under development (unstable) (2023-03-16 r83985) -- "Unsuffered Consequences" 4145
Click on any hostname to see more info about the system (e.g. compilers)      (*) as reported by 'uname -p', except on Windows and Mac OS X

BUILD results for msgbsR on nebbiolo1


To the developers/maintainers of the msgbsR package:
- Please allow up to 24 hours (and sometimes 48 hours) for your latest push to git@git.bioconductor.org:packages/msgbsR.git to
reflect on this report. See How and When does the builder pull? When will my changes propagate? for more information.
- Make sure to use the following settings in order to reproduce any error or warning you see on this page.

raw results

Package 1281/2189HostnameOS / ArchINSTALLBUILDCHECKBUILD BIN
msgbsR 1.23.0  (landing page)
Benjamin Mayne
Snapshot Date: 2023-03-17 14:27:35 -0400 (Fri, 17 Mar 2023)
git_url: https://git.bioconductor.org/packages/msgbsR
git_branch: master
git_last_commit: 642ad30
git_last_commit_date: 2022-11-01 11:15:43 -0400 (Tue, 01 Nov 2022)
nebbiolo1Linux (Ubuntu 22.04.1 LTS) / x86_64  OK    OK    OK  UNNEEDED, same version is already published
palomino3Windows Server 2022 Datacenter / x64  OK    OK    OK    NA  
merida1macOS 10.14.6 Mojave / x86_64  OK    OK    OK    OK  UNNEEDED, same version is already published

Summary

Package: msgbsR
Version: 1.23.0
Command: /home/biocbuild/bbs-3.17-bioc/R/bin/R CMD build --keep-empty-dirs --no-resave-data msgbsR
StartedAt: 2023-03-17 17:47:51 -0400 (Fri, 17 Mar 2023)
EndedAt: 2023-03-17 17:49:22 -0400 (Fri, 17 Mar 2023)
EllapsedTime: 90.8 seconds
RetCode: 0
Status:   OK  
PackageFile: msgbsR_1.23.0.tar.gz
PackageFileSize: 15.16 MiB

Command output

##############################################################################
##############################################################################
###
### Running command:
###
###   /home/biocbuild/bbs-3.17-bioc/R/bin/R CMD build --keep-empty-dirs --no-resave-data msgbsR
###
##############################################################################
##############################################################################


* checking for file ‘msgbsR/DESCRIPTION’ ... OK
* preparing ‘msgbsR’:
* checking DESCRIPTION meta-information ... OK
* installing the package to build vignettes
* creating vignettes ... OK
* checking for LF line-endings in source and make files and shell scripts
* checking for empty or unneeded directories
* looking to see if a ‘data/datalist’ file should be added
  NB: this package now depends on R (>= 3.5.0)
  WARNING: Added dependency on R >= 3.5.0 because serialized objects in
  serialize/load version 3 cannot be read in older versions of R.
  File(s) containing such objects:
    ‘msgbsR/data/cuts.rda’ ‘msgbsR/data/ratdata.rda’
    ‘msgbsR/data/ratdata2.rda’
* building ‘msgbsR_1.23.0.tar.gz’