Back to Multiple platform build/check report for BioC 3.17: simplified long |
|
This page was generated on 2023-03-31 11:03:16 -0400 (Fri, 31 Mar 2023).
Hostname | OS | Arch (*) | R version | Installed pkgs |
---|---|---|---|---|
nebbiolo1 | Linux (Ubuntu 22.04.1 LTS) | x86_64 | R Under development (unstable) (2023-03-16 r83996) -- "Unsuffered Consequences" | 4547 |
palomino3 | Windows Server 2022 Datacenter | x64 | R Under development (unstable) (2023-03-15 r83984 ucrt) -- "Unsuffered Consequences" | 4308 |
Click on any hostname to see more info about the system (e.g. compilers) (*) as reported by 'uname -p', except on Windows and Mac OS X |
To the developers/maintainers of the pipeFrame package: - Allow up to 24 hours (and sometimes 48 hours) for your latest push to git@git.bioconductor.org:packages/pipeFrame.git to reflect on this report. See Troubleshooting Build Report for more information. - Use the following Renviron settings to reproduce errors and warnings. Note: If "R CMD check" recently failed on the Linux builder over a missing dependency, add the missing dependency to "Suggests" in your DESCRIPTION file. See the Renviron.bioc for details. |
Package 1503/2195 | Hostname | OS / Arch | INSTALL | BUILD | CHECK | BUILD BIN | ||||||||
pipeFrame 1.15.0 (landing page) Zheng Wei
| nebbiolo1 | Linux (Ubuntu 22.04.1 LTS) / x86_64 | OK | OK | ERROR | |||||||||
palomino3 | Windows Server 2022 Datacenter / x64 | OK | OK | OK | OK | ![]() | ||||||||
Package: pipeFrame |
Version: 1.15.0 |
Command: chmod a+r pipeFrame -R && F:\biocbuild\bbs-3.17-bioc\R\bin\R.exe CMD build --keep-empty-dirs --no-resave-data pipeFrame |
StartedAt: 2023-03-30 21:03:16 -0400 (Thu, 30 Mar 2023) |
EndedAt: 2023-03-30 21:04:24 -0400 (Thu, 30 Mar 2023) |
EllapsedTime: 68.0 seconds |
RetCode: 0 |
Status: OK |
PackageFile: pipeFrame_1.15.0.tar.gz |
PackageFileSize: 1.184 MiB |
############################################################################## ############################################################################## ### ### Running command: ### ### chmod a+r pipeFrame -R && F:\biocbuild\bbs-3.17-bioc\R\bin\R.exe CMD build --keep-empty-dirs --no-resave-data pipeFrame ### ############################################################################## ############################################################################## * checking for file 'pipeFrame/DESCRIPTION' ... OK * preparing 'pipeFrame': * checking DESCRIPTION meta-information ... OK * installing the package to build vignettes * creating vignettes ... OK * checking for LF line-endings in source and make files and shell scripts * checking for empty or unneeded directories Omitted 'LazyData' from DESCRIPTION * building 'pipeFrame_1.15.0.tar.gz'