Back to Multiple platform build/check report for BioC 3.17:   simplified   long
ABC[D]EFGHIJKLMNOPQRSTUVWXYZ

This page was generated on 2023-03-28 11:05:11 -0400 (Tue, 28 Mar 2023).

HostnameOSArch (*)R versionInstalled pkgs
nebbiolo1Linux (Ubuntu 22.04.1 LTS)x86_64R Under development (unstable) (2023-03-16 r83996) -- "Unsuffered Consequences" 4547
palomino3Windows Server 2022 Datacenterx64R Under development (unstable) (2023-03-15 r83984 ucrt) -- "Unsuffered Consequences" 4308
merida1macOS 10.14.6 Mojavex86_64R Under development (unstable) (2023-03-16 r83985) -- "Unsuffered Consequences" 4301
Click on any hostname to see more info about the system (e.g. compilers)      (*) as reported by 'uname -p', except on Windows and Mac OS X

INSTALL results for DeepBlueR on nebbiolo1


To the developers/maintainers of the DeepBlueR package:
- Please allow up to 24 hours (and sometimes 48 hours) for your latest push to git@git.bioconductor.org:packages/DeepBlueR.git to
reflect on this report. See How and When does the builder pull? When will my changes propagate? for more information.
- Make sure to use the following settings in order to reproduce any error or warning you see on this page.

raw results

Package 503/2195HostnameOS / ArchINSTALLBUILDCHECKBUILD BIN
DeepBlueR 1.25.1  (landing page)
Felipe Albrecht , Markus List , Quirin Manz
Snapshot Date: 2023-03-27 14:00:21 -0400 (Mon, 27 Mar 2023)
git_url: https://git.bioconductor.org/packages/DeepBlueR
git_branch: devel
git_last_commit: 950d10c
git_last_commit_date: 2023-01-10 05:24:28 -0400 (Tue, 10 Jan 2023)
nebbiolo1Linux (Ubuntu 22.04.1 LTS) / x86_64  OK    OK    OK  UNNEEDED, same version is already published
palomino3Windows Server 2022 Datacenter / x64  OK    OK    OK    OK  UNNEEDED, same version is already published
merida1macOS 10.14.6 Mojave / x86_64  OK    OK    OK    OK  UNNEEDED, same version is already published

Summary

Package: DeepBlueR
Version: 1.25.1
Command: /home/biocbuild/bbs-3.17-bioc/R/bin/R CMD INSTALL DeepBlueR
StartedAt: 2023-03-27 15:26:41 -0400 (Mon, 27 Mar 2023)
EndedAt: 2023-03-27 15:27:20 -0400 (Mon, 27 Mar 2023)
EllapsedTime: 39.1 seconds
RetCode: 0
Status:   OK  

Command output

##############################################################################
##############################################################################
###
### Running command:
###
###   /home/biocbuild/bbs-3.17-bioc/R/bin/R CMD INSTALL DeepBlueR
###
##############################################################################
##############################################################################


* installing to library ‘/home/biocbuild/bbs-3.17-bioc/R/site-library’
* installing *source* package ‘DeepBlueR’ ...
** using staged installation
** R
** demo
** inst
** byte-compile and prepare package for lazy loading
Called method: deepblue_list_column_types
Reported status was: okay
Called method: deepblue_info
Reported status was: okay
** help
*** installing help indices
** building package indices
** installing vignettes
** testing if installed package can be loaded from temporary location
** testing if installed package can be loaded from final location
** testing if installed package keeps a record of temporary installation path
* DONE (DeepBlueR)