Back to Multiple platform build/check report for BioC 3.17:   simplified   long
ABCDEFGHIJKLMNOPQR[S]TUVWXYZ

This page was generated on 2023-06-07 11:05:01 -0400 (Wed, 07 Jun 2023).

HostnameOSArch (*)R versionInstalled pkgs
nebbiolo1Linux (Ubuntu 22.04.2 LTS)x86_644.3.0 RC (2023-04-13 r84269) -- "Already Tomorrow" 4628
palomino3Windows Server 2022 Datacenterx644.3.0 RC (2023-04-13 r84269 ucrt) -- "Already Tomorrow" 4379
merida1macOS 12.6.4 Montereyx86_644.3.0 RC (2023-04-13 r84257) -- "Already Tomorrow" 4385
Click on any hostname to see more info about the system (e.g. compilers)      (*) as reported by 'uname -p', except on Windows and Mac OS X

All results for package SpatialExperiment


To the developers/maintainers of the SpatialExperiment package:
- Allow up to 24 hours (and sometimes 48 hours) for your latest push to git@git.bioconductor.org:packages/SpatialExperiment.git to reflect on this report. See Troubleshooting Build Report for more information.
- Use the following Renviron settings to reproduce errors and warnings.
- If 'R CMD check' started to fail recently on the Linux builder(s) over a missing dependency, add the missing dependency to 'Suggests:' in your DESCRIPTION file. See Renviron.bioc for more information.

raw results

Package 1973/2229HostnameOS / ArchINSTALLBUILDCHECKBUILD BIN
SpatialExperiment 1.10.0  (landing page)
Dario Righelli
Snapshot Date: 2023-06-06 14:00:07 -0400 (Tue, 06 Jun 2023)
git_url: https://git.bioconductor.org/packages/SpatialExperiment
git_branch: RELEASE_3_17
git_last_commit: 6142b65
git_last_commit_date: 2023-04-25 11:20:46 -0400 (Tue, 25 Apr 2023)
nebbiolo1Linux (Ubuntu 22.04.2 LTS) / x86_64  OK    OK    OK  UNNEEDED, same version is already published
palomino3Windows Server 2022 Datacenter / x64  OK    OK    OK    OK  UNNEEDED, same version is already published
merida1macOS 12.6.4 Monterey / x86_64  OK    OK    OK    OK  UNNEEDED, same version is already published

Results for Bioconductor software packages that depend directly on package SpatialExperiment

QUICK STATSOS / ArchINSTALLBUILDCHECKBUILD BIN
nebbiolo1Linux (Ubuntu 22.04.2 LTS) / x86_64
0021
0021
01119
palomino3Windows Server 2022 Datacenter / x64
0021
0021
01119
0021
merida1macOS 12.6.4 Monterey / x86_64
0021
0021
01119
0021
Package 1/21HostnameOS / ArchINSTALLBUILDCHECKBUILD BIN
alabaster.spatial 1.0.0  (landing page)
Aaron Lun
git_last_commit: 0a9683f
git_last_commit_date: 2023-04-25 11:42:58 -0400
nebbiolo1Linux (Ubuntu 22.04.2 LTS) / x86_64  OK    OK    OK  UNNEEDED, same version is already published
palomino3Windows Server 2022 Datacenter / x64  OK    OK    OK    OK  UNNEEDED, same version is already published
merida1macOS 12.6.4 Monterey / x86_64  OK    OK    OK    OK  UNNEEDED, same version is already published
Package 2/21HostnameOS / ArchINSTALLBUILDCHECKBUILD BIN
CTSV 1.2.0  (landing page)
Jinge Yu Developer
git_last_commit: a68ec55
git_last_commit_date: 2023-04-25 11:38:47 -0400
nebbiolo1Linux (Ubuntu 22.04.2 LTS) / x86_64  OK    OK    OK  UNNEEDED, same version is already published
palomino3Windows Server 2022 Datacenter / x64  OK    OK    OK    OK  UNNEEDED, same version is already published
merida1macOS 12.6.4 Monterey / x86_64  OK    OK    OK    OK  UNNEEDED, same version is already published
Package 3/21HostnameOS / ArchINSTALLBUILDCHECKBUILD BIN
cytomapper 1.12.0  (landing page)
Nils Eling
git_last_commit: b2edd20
git_last_commit_date: 2023-04-25 11:16:41 -0400
nebbiolo1Linux (Ubuntu 22.04.2 LTS) / x86_64  OK    OK    OK  UNNEEDED, same version is already published
palomino3Windows Server 2022 Datacenter / x64  OK    OK    OK    OK  UNNEEDED, same version is already published
merida1macOS 12.6.4 Monterey / x86_64  OK    OK    OK    OK  UNNEEDED, same version is already published
Package 4/21HostnameOS / ArchINSTALLBUILDCHECKBUILD BIN
DESpace 1.0.0  (landing page)
Peiying Cai
git_last_commit: 8a6b785
git_last_commit_date: 2023-04-25 11:43:38 -0400
nebbiolo1Linux (Ubuntu 22.04.2 LTS) / x86_64  OK    OK    OK  UNNEEDED, same version is already published
palomino3Windows Server 2022 Datacenter / x64  OK    OK    OK    OK  UNNEEDED, same version is already published
merida1macOS 12.6.4 Monterey / x86_64  OK    OK    OK    OK  UNNEEDED, same version is already published
Package 5/21HostnameOS / ArchINSTALLBUILDCHECKBUILD BIN
escheR 1.0.0  (landing page)
Boyi Guo
git_last_commit: 902e060
git_last_commit_date: 2023-04-25 11:43:51 -0400
nebbiolo1Linux (Ubuntu 22.04.2 LTS) / x86_64  OK    OK    OK  UNNEEDED, same version is already published
palomino3Windows Server 2022 Datacenter / x64  OK    OK    OK    OK  UNNEEDED, same version is already published
merida1macOS 12.6.4 Monterey / x86_64  OK    OK    OK    OK  UNNEEDED, same version is already published
Package 6/21HostnameOS / ArchINSTALLBUILDCHECKBUILD BIN
ExperimentSubset 1.10.0  (landing page)
Irzam Sarfraz
git_last_commit: 851db21
git_last_commit_date: 2023-04-25 11:23:50 -0400
nebbiolo1Linux (Ubuntu 22.04.2 LTS) / x86_64  OK    OK    OK  UNNEEDED, same version is already published
palomino3Windows Server 2022 Datacenter / x64  OK    OK    OK    OK  UNNEEDED, same version is already published
merida1macOS 12.6.4 Monterey / x86_64  OK    OK    OK    OK  UNNEEDED, same version is already published
Package 7/21HostnameOS / ArchINSTALLBUILDCHECKBUILD BIN
ggspavis 1.6.0  (landing page)
Lukas M. Weber
git_last_commit: edd71fb
git_last_commit_date: 2023-04-25 11:32:06 -0400
nebbiolo1Linux (Ubuntu 22.04.2 LTS) / x86_64  OK    OK    OK  UNNEEDED, same version is already published
palomino3Windows Server 2022 Datacenter / x64  OK    OK    OK    OK  UNNEEDED, same version is already published
merida1macOS 12.6.4 Monterey / x86_64  OK    OK    OK    OK  UNNEEDED, same version is already published
Package 8/21HostnameOS / ArchINSTALLBUILDCHECKBUILD BIN
imcRtools 1.6.1  (landing page)
Nils Eling
git_last_commit: c15cdcf
git_last_commit_date: 2023-05-24 03:16:26 -0400
nebbiolo1Linux (Ubuntu 22.04.2 LTS) / x86_64  OK    OK    OK  UNNEEDED, same version is already published
palomino3Windows Server 2022 Datacenter / x64  OK    OK    OK    OK  UNNEEDED, same version is already published
merida1macOS 12.6.4 Monterey / x86_64  OK    OK    OK    OK  UNNEEDED, same version is already published
Package 9/21HostnameOS / ArchINSTALLBUILDCHECKBUILD BIN
lisaClust 1.8.0  (landing page)
Ellis Patrick
git_last_commit: 801566f
git_last_commit_date: 2023-04-25 11:27:29 -0400
nebbiolo1Linux (Ubuntu 22.04.2 LTS) / x86_64  OK    OK    OK  UNNEEDED, same version is already published
palomino3Windows Server 2022 Datacenter / x64  OK    OK    OK    OK  UNNEEDED, same version is already published
merida1macOS 12.6.4 Monterey / x86_64  OK    OK    OK    OK  UNNEEDED, same version is already published
Package 10/21HostnameOS / ArchINSTALLBUILDCHECKBUILD BIN
MoleculeExperiment 1.0.1  (landing page)
Shila Ghazanfar
git_last_commit: b21c085
git_last_commit_date: 2023-05-08 00:17:01 -0400
nebbiolo1Linux (Ubuntu 22.04.2 LTS) / x86_64  OK    OK    WARNINGS  UNNEEDED, same version is already published
palomino3Windows Server 2022 Datacenter / x64  OK    OK    WARNINGS    OK  UNNEEDED, same version is already published
merida1macOS 12.6.4 Monterey / x86_64  OK    OK    WARNINGS    OK  UNNEEDED, same version is already published
Package 11/21HostnameOS / ArchINSTALLBUILDCHECKBUILD BIN
nnSVG 1.4.1  (landing page)
Lukas M. Weber
git_last_commit: 7f895f3
git_last_commit_date: 2023-05-04 23:06:59 -0400
nebbiolo1Linux (Ubuntu 22.04.2 LTS) / x86_64  OK    OK    OK  UNNEEDED, same version is already published
palomino3Windows Server 2022 Datacenter / x64  OK    OK    OK    OK  UNNEEDED, same version is already published
merida1macOS 12.6.4 Monterey / x86_64  OK    OK    OK    OK  UNNEEDED, same version is already published
Package 12/21HostnameOS / ArchINSTALLBUILDCHECKBUILD BIN
scFeatures 1.0.0  (landing page)
Yue Cao
git_last_commit: b8b24b5
git_last_commit_date: 2023-04-25 11:42:27 -0400
nebbiolo1Linux (Ubuntu 22.04.2 LTS) / x86_64  OK    OK    OK  UNNEEDED, same version is already published
palomino3Windows Server 2022 Datacenter / x64  OK    OK    OK    OK  UNNEEDED, same version is already published
merida1macOS 12.6.4 Monterey / x86_64  OK    OK    OK    OK  UNNEEDED, same version is already published
Package 13/21HostnameOS / ArchINSTALLBUILDCHECKBUILD BIN
spaSim 1.2.1  (landing page)
Yuzhou Feng
git_last_commit: 6d6ad38
git_last_commit_date: 2023-05-21 23:24:17 -0400
nebbiolo1Linux (Ubuntu 22.04.2 LTS) / x86_64  OK    OK    OK  UNNEEDED, same version is already published
palomino3Windows Server 2022 Datacenter / x64  OK    OK    OK    OK  UNNEEDED, same version is already published
merida1macOS 12.6.4 Monterey / x86_64  OK    OK    OK    OK  UNNEEDED, same version is already published
Package 14/21HostnameOS / ArchINSTALLBUILDCHECKBUILD BIN
spatialDE 1.6.0  (landing page)
Gabriele Sales
git_last_commit: be7acd4
git_last_commit_date: 2023-04-25 11:32:03 -0400
nebbiolo1Linux (Ubuntu 22.04.2 LTS) / x86_64  OK    OK    OK  UNNEEDED, same version is already published
palomino3Windows Server 2022 Datacenter / x64  OK    OK    OK    OK  UNNEEDED, same version is already published
merida1macOS 12.6.4 Monterey / x86_64  OK    OK    OK    OK  NO, package depends on 'basilisk' which is not available
Package 15/21HostnameOS / ArchINSTALLBUILDCHECKBUILD BIN
SpatialFeatureExperiment 1.2.1  (landing page)
Lambda Moses
git_last_commit: bf34cd9
git_last_commit_date: 2023-05-15 21:01:52 -0400
nebbiolo1Linux (Ubuntu 22.04.2 LTS) / x86_64  OK    OK    OK  UNNEEDED, same version is already published
palomino3Windows Server 2022 Datacenter / x64  OK    OK    OK    OK  UNNEEDED, same version is already published
merida1macOS 12.6.4 Monterey / x86_64  OK    OK    OK    OK  UNNEEDED, same version is already published
Package 16/21HostnameOS / ArchINSTALLBUILDCHECKBUILD BIN
SPIAT 1.2.2  (landing page)
Yuzhou Feng
git_last_commit: 18acd01
git_last_commit_date: 2023-05-23 20:56:43 -0400
nebbiolo1Linux (Ubuntu 22.04.2 LTS) / x86_64  OK    OK    OK  UNNEEDED, same version is already published
palomino3Windows Server 2022 Datacenter / x64  OK    OK    OK    OK  UNNEEDED, same version is already published
merida1macOS 12.6.4 Monterey / x86_64  OK    OK    OK    OK  UNNEEDED, same version is already published
Package 17/21HostnameOS / ArchINSTALLBUILDCHECKBUILD BIN
spicyR 1.12.0  (landing page)
Ellis Patrick
git_last_commit: 738519b
git_last_commit_date: 2023-04-25 11:16:32 -0400
nebbiolo1Linux (Ubuntu 22.04.2 LTS) / x86_64  OK    OK    OK  UNNEEDED, same version is already published
palomino3Windows Server 2022 Datacenter / x64  OK    OK    OK    OK  UNNEEDED, same version is already published
merida1macOS 12.6.4 Monterey / x86_64  OK    OK    OK    OK  UNNEEDED, same version is already published
Package 18/21HostnameOS / ArchINSTALLBUILDCHECKBUILD BIN
SpotClean 1.2.0  (landing page)
Zijian Ni
git_last_commit: c2c34d0
git_last_commit_date: 2023-04-25 11:38:24 -0400
nebbiolo1Linux (Ubuntu 22.04.2 LTS) / x86_64  OK    OK    OK  UNNEEDED, same version is already published
palomino3Windows Server 2022 Datacenter / x64  OK    OK    OK    OK  UNNEEDED, same version is already published
merida1macOS 12.6.4 Monterey / x86_64  OK    OK    OK    OK  UNNEEDED, same version is already published
Package 19/21HostnameOS / ArchINSTALLBUILDCHECKBUILD BIN
standR 1.4.1  (landing page)
Ning Liu
git_last_commit: f1721ec
git_last_commit_date: 2023-06-06 01:16:39 -0400
nebbiolo1Linux (Ubuntu 22.04.2 LTS) / x86_64  OK    OK    ERROR  
palomino3Windows Server 2022 Datacenter / x64  OK    OK    ERROR    OK  
merida1macOS 12.6.4 Monterey / x86_64  OK    OK    ERROR    OK  
Package 20/21HostnameOS / ArchINSTALLBUILDCHECKBUILD BIN
stJoincount 1.2.0  (landing page)
Jiarong Song
git_last_commit: 61cc1fd
git_last_commit_date: 2023-04-25 11:41:07 -0400
nebbiolo1Linux (Ubuntu 22.04.2 LTS) / x86_64  OK    OK    OK  UNNEEDED, same version is already published
palomino3Windows Server 2022 Datacenter / x64  OK    OK    OK    OK  UNNEEDED, same version is already published
merida1macOS 12.6.4 Monterey / x86_64  OK    OK    OK    OK  UNNEEDED, same version is already published
Package 21/21HostnameOS / ArchINSTALLBUILDCHECKBUILD BIN
Voyager 1.2.3  (landing page)
Lambda Moses
git_last_commit: 741f5f9
git_last_commit_date: 2023-05-15 21:54:23 -0400
nebbiolo1Linux (Ubuntu 22.04.2 LTS) / x86_64  OK    OK    OK  UNNEEDED, same version is already published
palomino3Windows Server 2022 Datacenter / x64  OK    OK    OK    OK  UNNEEDED, same version is already published
merida1macOS 12.6.4 Monterey / x86_64  OK    OK    OK    OK  UNNEEDED, same version is already published