Back to Multiple platform build/check report for BioC 3.17:   simplified   long
A[B]CDEFGHIJKLMNOPQRSTUVWXYZ

This page was generated on 2023-03-21 11:05:47 -0400 (Tue, 21 Mar 2023).

HostnameOSArch (*)R versionInstalled pkgs
nebbiolo1Linux (Ubuntu 22.04.1 LTS)x86_64R Under development (unstable) (2023-03-16 r83996) -- "Unsuffered Consequences" 4305
palomino3Windows Server 2022 Datacenterx64R Under development (unstable) (2023-03-15 r83984 ucrt) -- "Unsuffered Consequences" 4287
merida1macOS 10.14.6 Mojavex86_64R Under development (unstable) (2023-03-16 r83985) -- "Unsuffered Consequences" 4286
Click on any hostname to see more info about the system (e.g. compilers)      (*) as reported by 'uname -p', except on Windows and Mac OS X

CHECK results for biocViews on palomino3


To the developers/maintainers of the biocViews package:
- Please allow up to 24 hours (and sometimes 48 hours) for your latest push to git@git.bioconductor.org:packages/biocViews.git to
reflect on this report. See How and When does the builder pull? When will my changes propagate? for more information.
- Make sure to use the following settings in order to reproduce any error or warning you see on this page.

raw results

Package 190/2189HostnameOS / ArchINSTALLBUILDCHECKBUILD BIN
biocViews 1.67.3  (landing page)
Bioconductor Package Maintainer
Snapshot Date: 2023-03-20 14:00:22 -0400 (Mon, 20 Mar 2023)
git_url: https://git.bioconductor.org/packages/biocViews
git_branch: master
git_last_commit: 58eda22
git_last_commit_date: 2023-03-06 08:38:32 -0400 (Mon, 06 Mar 2023)
nebbiolo1Linux (Ubuntu 22.04.1 LTS) / x86_64  OK    OK    OK  UNNEEDED, same version is already published
palomino3Windows Server 2022 Datacenter / x64  OK    OK    OK    OK  UNNEEDED, same version is already published
merida1macOS 10.14.6 Mojave / x86_64  OK    OK    OK    OK  UNNEEDED, same version is already published

Summary

Package: biocViews
Version: 1.67.3
Command: F:\biocbuild\bbs-3.17-bioc\R\bin\R.exe CMD check --no-multiarch --install=check:biocViews.install-out.txt --library=F:\biocbuild\bbs-3.17-bioc\R\library --no-vignettes --timings biocViews_1.67.3.tar.gz
StartedAt: 2023-03-20 23:45:57 -0400 (Mon, 20 Mar 2023)
EndedAt: 2023-03-20 23:47:20 -0400 (Mon, 20 Mar 2023)
EllapsedTime: 82.7 seconds
RetCode: 0
Status:   OK  
CheckDir: biocViews.Rcheck
Warnings: 0

Command output

##############################################################################
##############################################################################
###
### Running command:
###
###   F:\biocbuild\bbs-3.17-bioc\R\bin\R.exe CMD check --no-multiarch --install=check:biocViews.install-out.txt --library=F:\biocbuild\bbs-3.17-bioc\R\library --no-vignettes --timings biocViews_1.67.3.tar.gz
###
##############################################################################
##############################################################################


* using log directory 'F:/biocbuild/bbs-3.17-bioc/meat/biocViews.Rcheck'
* using R Under development (unstable) (2023-03-15 r83984 ucrt)
* using platform: x86_64-w64-mingw32 (64-bit)
* R was compiled by
    gcc.exe (GCC) 12.2.0
    GNU Fortran (GCC) 12.2.0
* running under: Windows Server 2022 x64 (build 20348)
* using session charset: UTF-8
* using option '--no-vignettes'
* checking for file 'biocViews/DESCRIPTION' ... OK
* this is package 'biocViews' version '1.67.3'
* checking package namespace information ... OK
* checking package dependencies ... OK
* checking if this is a source package ... OK
* checking if there is a namespace ... OK
* checking for hidden files and directories ... OK
* checking for portable file names ... OK
* checking whether package 'biocViews' can be installed ... OK
* checking installed package size ... OK
* checking package directory ... OK
* checking 'build' directory ... OK
* checking DESCRIPTION meta-information ... OK
* checking top-level files ... OK
* checking for left-over files ... OK
* checking index information ... OK
* checking package subdirectories ... OK
* checking R files for non-ASCII characters ... OK
* checking R files for syntax errors ... OK
* checking whether the package can be loaded ... OK
* checking whether the package can be loaded with stated dependencies ... OK
* checking whether the package can be unloaded cleanly ... OK
* checking whether the namespace can be loaded with stated dependencies ... OK
* checking whether the namespace can be unloaded cleanly ... OK
* checking dependencies in R code ... NOTE
':::' call which should be '::': 'tools:::vignetteInfo'
  See the note in ?`:::` about the use of this operator.
Unexported objects imported by ':::' calls:
  'tools:::.build_news_db_from_package_NEWS_Rd'
  'tools:::.build_news_db_from_package_NEWS_md'
  'tools:::.build_repository_package_db'
  'tools:::.expand_package_description_db_R_fields'
  'tools:::.get_standard_repository_db_fields'
  'tools:::.news_reader_default' 'tools:::.read_description'
  'tools:::.split_dependencies'
  See the note in ?`:::` about the use of this operator.
* checking S3 generic/method consistency ... OK
* checking replacement functions ... OK
* checking foreign function calls ... OK
* checking R code for possible problems ... NOTE
getPackageNEWS : getNews: no visible binding for global variable
  'Version'
getReverseDepends : <anonymous>: no visible binding for global variable
  'Package'
Undefined global functions or variables:
  Package Version
* checking Rd files ... OK
* checking Rd metadata ... OK
* checking Rd cross-references ... OK
* checking for missing documentation entries ... OK
* checking for code/documentation mismatches ... OK
* checking Rd \usage sections ... OK
* checking Rd contents ... OK
* checking for unstated dependencies in examples ... OK
* checking contents of 'data' directory ... OK
* checking data for non-ASCII characters ... OK
* checking data for ASCII and uncompressed saves ... OK
* checking installed files from 'inst/doc' ... OK
* checking files in 'vignettes' ... OK
* checking examples ... OK
* checking for unstated dependencies in 'tests' ... OK
* checking tests ...
  Running 'runTests.R'
 OK
* checking for unstated dependencies in vignettes ... OK
* checking package vignettes in 'inst/doc' ... OK
* checking running R code from vignettes ... SKIPPED
* checking re-building of vignette outputs ... SKIPPED
* checking PDF version of manual ... OK
* DONE

Status: 2 NOTEs
See
  'F:/biocbuild/bbs-3.17-bioc/meat/biocViews.Rcheck/00check.log'
for details.



Installation output

biocViews.Rcheck/00install.out

##############################################################################
##############################################################################
###
### Running command:
###
###   F:\biocbuild\bbs-3.17-bioc\R\bin\R.exe CMD INSTALL biocViews
###
##############################################################################
##############################################################################


* installing to library 'F:/biocbuild/bbs-3.17-bioc/R/library'
* installing *source* package 'biocViews' ...
** using staged installation
** R
** data
** inst
** byte-compile and prepare package for lazy loading
** help
*** installing help indices
** building package indices
** installing vignettes
** testing if installed package can be loaded from temporary location
** testing if installed package can be loaded from final location
** testing if installed package keeps a record of temporary installation path
* DONE (biocViews)

Tests output

biocViews.Rcheck/tests/runTests.Rout


R Under development (unstable) (2023-03-15 r83984 ucrt) -- "Unsuffered Consequences"
Copyright (C) 2023 The R Foundation for Statistical Computing
Platform: x86_64-w64-mingw32/x64 (64-bit)

R is free software and comes with ABSOLUTELY NO WARRANTY.
You are welcome to redistribute it under certain conditions.
Type 'license()' or 'licence()' for distribution details.

R is a collaborative project with many contributors.
Type 'contributors()' for more information and
'citation()' on how to cite R or R packages in publications.

Type 'demo()' for some demos, 'help()' for on-line help, or
'help.start()' for an HTML browser interface to help.
Type 'q()' to quit R.

> BiocGenerics:::testPackage("biocViews")
Generate citation for F:\biocbuild\bbs-3.17-bioc\tmpdir\Rtmp2fc77X/testing/testrepos/src/contrib/biocViews2_1.67.3.tar.gz ... (try to process CITATION file) OK
Generate citation for F:\biocbuild\bbs-3.17-bioc\tmpdir\Rtmp2fc77X/testing/testrepos/src/contrib/biocViews_1.67.3.tar.gz ... tar.exe: biocViews/inst/CITATION: Not found in archive
tar.exe: Error exit delayed from previous errors.
(auto-generate from DESCRIPTION file) OK


RUNIT TEST PROTOCOL -- Mon Mar 20 23:47:07 2023 
*********************************************** 
Number of test functions: 5 
Number of errors: 0 
Number of failures: 0 

 
1 Test Suite : 
biocViews RUnit Tests - 5 test functions, 0 errors, 0 failures
Number of test functions: 5 
Number of errors: 0 
Number of failures: 0 
Warning message:
In untar(tarball, tpaths, exdir = tmpdir) :
  'tar.exe -xf "F:\biocbuild\bbs-3.17-bioc\tmpdir\Rtmp2fc77X/testing/testrepos/src/contrib/biocViews_1.67.3.tar.gz" -C "F:/biocbuild/bbs-3.17-bioc/tmpdir/Rtmp2fc77X" "biocViews/DESCRIPTION" "biocViews/inst/CITATION"' returned error code 1
> 
> proc.time()
   user  system elapsed 
   3.93    0.23    4.29 

Example timings

biocViews.Rcheck/biocViews-Ex.timings

nameusersystemelapsed
PackageDetail-class0.080.000.08
biocViews-package0.080.000.07
biocViewsVocab000
getBiocSubViews1.090.011.12
getBiocViews0.780.000.79
getCurrentbiocViews0.020.000.01
getPackageTitles000
getSubTerms0.140.000.14
guessPackageType0.020.000.02
recommendPackages0.640.020.67
validation_tests000