Back to Multiple platform build/check report for BioC 3.17: simplified long |
|
This page was generated on 2023-03-24 11:07:01 -0400 (Fri, 24 Mar 2023).
Hostname | OS | Arch (*) | R version | Installed pkgs |
---|---|---|---|---|
nebbiolo1 | Linux (Ubuntu 22.04.1 LTS) | x86_64 | R Under development (unstable) (2023-03-16 r83996) -- "Unsuffered Consequences" | 4546 |
palomino3 | Windows Server 2022 Datacenter | x64 | R Under development (unstable) (2023-03-15 r83984 ucrt) -- "Unsuffered Consequences" | 4307 |
merida1 | macOS 10.14.6 Mojave | x86_64 | R Under development (unstable) (2023-03-16 r83985) -- "Unsuffered Consequences" | 4299 |
Click on any hostname to see more info about the system (e.g. compilers) (*) as reported by 'uname -p', except on Windows and Mac OS X |
To the developers/maintainers of the NxtIRFcore package: - Please allow up to 24 hours (and sometimes 48 hours) for your latest push to git@git.bioconductor.org:packages/NxtIRFcore.git to reflect on this report. See How and When does the builder pull? When will my changes propagate? for more information. - Make sure to use the following settings in order to reproduce any error or warning you see on this page. |
Package 1385/2195 | Hostname | OS / Arch | INSTALL | BUILD | CHECK | BUILD BIN | ||||||||
NxtIRFcore 1.5.0 (landing page) Alex Chit Hei Wong
| nebbiolo1 | Linux (Ubuntu 22.04.1 LTS) / x86_64 | OK | OK | OK | ![]() | ||||||||
palomino3 | Windows Server 2022 Datacenter / x64 | OK | OK | OK | OK | ![]() | ||||||||
merida1 | macOS 10.14.6 Mojave / x86_64 | OK | OK | OK | OK | ![]() | ||||||||
Package: NxtIRFcore |
Version: 1.5.0 |
Command: rm -rf NxtIRFcore.buildbin-libdir && mkdir NxtIRFcore.buildbin-libdir && /Users/biocbuild/BBS/utils/build-universal.sh NxtIRFcore_1.5.0.tar.gz /Library/Frameworks/R.framework/Resources/bin/R NxtIRFcore.buildbin-libdir |
StartedAt: 2023-03-24 09:38:23 -0400 (Fri, 24 Mar 2023) |
EndedAt: 2023-03-24 09:43:37 -0400 (Fri, 24 Mar 2023) |
EllapsedTime: 313.8 seconds |
RetCode: 0 |
Status: OK |
PackageFile: NxtIRFcore_1.5.0.tgz |
PackageFileSize: 3.65 MiB |
############################################################################## ############################################################################## ### ### Running command: ### ### rm -rf NxtIRFcore.buildbin-libdir && mkdir NxtIRFcore.buildbin-libdir && /Users/biocbuild/BBS/utils/build-universal.sh NxtIRFcore_1.5.0.tar.gz /Library/Frameworks/R.framework/Resources/bin/R NxtIRFcore.buildbin-libdir ### ############################################################################## ############################################################################## >>>>>>> >>>>>>> INSTALLATION WITH 'R CMD INSTALL --preclean --no-multiarch --library=NxtIRFcore.buildbin-libdir NxtIRFcore_1.5.0.tar.gz' >>>>>>> * installing *source* package ‘NxtIRFcore’ ... ** using staged installation Configuring without OpenMP for MacOS ** libs using C++ compiler: ‘Apple clang version 11.0.0 (clang-1100.0.33.17)’ using C++11 using SDK: ‘’ clang++ -mmacosx-version-min=10.13 -std=gnu++11 -I"/Library/Frameworks/R.framework/Resources/include" -DNDEBUG -I'/Library/Frameworks/R.framework/Versions/4.3/Resources/library/Rcpp/include' -I'/Library/Frameworks/R.framework/Versions/4.3/Resources/library/zlibbioc/include' -I'/Library/Frameworks/R.framework/Versions/4.3/Resources/library/RcppProgress/include' -I/usr/local/include -DRNXTIRF -fPIC -Wall -g -O2 -c BAM2blocks.cpp -o BAM2blocks.o clang++ -mmacosx-version-min=10.13 -std=gnu++11 -I"/Library/Frameworks/R.framework/Resources/include" -DNDEBUG -I'/Library/Frameworks/R.framework/Versions/4.3/Resources/library/Rcpp/include' -I'/Library/Frameworks/R.framework/Versions/4.3/Resources/library/zlibbioc/include' -I'/Library/Frameworks/R.framework/Versions/4.3/Resources/library/RcppProgress/include' -I/usr/local/include -DRNXTIRF -fPIC -Wall -g -O2 -c FastaReader.cpp -o FastaReader.o clang++ -mmacosx-version-min=10.13 -std=gnu++11 -I"/Library/Frameworks/R.framework/Resources/include" -DNDEBUG -I'/Library/Frameworks/R.framework/Versions/4.3/Resources/library/Rcpp/include' -I'/Library/Frameworks/R.framework/Versions/4.3/Resources/library/zlibbioc/include' -I'/Library/Frameworks/R.framework/Versions/4.3/Resources/library/RcppProgress/include' -I/usr/local/include -DRNXTIRF -fPIC -Wall -g -O2 -c FragmentBlocks.cpp -o FragmentBlocks.o clang++ -mmacosx-version-min=10.13 -std=gnu++11 -I"/Library/Frameworks/R.framework/Resources/include" -DNDEBUG -I'/Library/Frameworks/R.framework/Versions/4.3/Resources/library/Rcpp/include' -I'/Library/Frameworks/R.framework/Versions/4.3/Resources/library/zlibbioc/include' -I'/Library/Frameworks/R.framework/Versions/4.3/Resources/library/RcppProgress/include' -I/usr/local/include -DRNXTIRF -fPIC -Wall -g -O2 -c GZTools.cpp -o GZTools.o clang++ -mmacosx-version-min=10.13 -std=gnu++11 -I"/Library/Frameworks/R.framework/Resources/include" -DNDEBUG -I'/Library/Frameworks/R.framework/Versions/4.3/Resources/library/Rcpp/include' -I'/Library/Frameworks/R.framework/Versions/4.3/Resources/library/zlibbioc/include' -I'/Library/Frameworks/R.framework/Versions/4.3/Resources/library/RcppProgress/include' -I/usr/local/include -DRNXTIRF -fPIC -Wall -g -O2 -c IRFinder.cpp -o IRFinder.o clang++ -mmacosx-version-min=10.13 -std=gnu++11 -I"/Library/Frameworks/R.framework/Resources/include" -DNDEBUG -I'/Library/Frameworks/R.framework/Versions/4.3/Resources/library/Rcpp/include' -I'/Library/Frameworks/R.framework/Versions/4.3/Resources/library/zlibbioc/include' -I'/Library/Frameworks/R.framework/Versions/4.3/Resources/library/RcppProgress/include' -I/usr/local/include -DRNXTIRF -fPIC -Wall -g -O2 -c RcppExports.cpp -o RcppExports.o clang++ -mmacosx-version-min=10.13 -std=gnu++11 -I"/Library/Frameworks/R.framework/Resources/include" -DNDEBUG -I'/Library/Frameworks/R.framework/Versions/4.3/Resources/library/Rcpp/include' -I'/Library/Frameworks/R.framework/Versions/4.3/Resources/library/zlibbioc/include' -I'/Library/Frameworks/R.framework/Versions/4.3/Resources/library/RcppProgress/include' -I/usr/local/include -DRNXTIRF -fPIC -Wall -g -O2 -c ReadBlockProcessor.cpp -o ReadBlockProcessor.o clang++ -mmacosx-version-min=10.13 -std=gnu++11 -I"/Library/Frameworks/R.framework/Resources/include" -DNDEBUG -I'/Library/Frameworks/R.framework/Versions/4.3/Resources/library/Rcpp/include' -I'/Library/Frameworks/R.framework/Versions/4.3/Resources/library/zlibbioc/include' -I'/Library/Frameworks/R.framework/Versions/4.3/Resources/library/RcppProgress/include' -I/usr/local/include -DRNXTIRF -fPIC -Wall -g -O2 -c ReadBlockProcessor_CoverageBlocks.cpp -o ReadBlockProcessor_CoverageBlocks.o clang++ -mmacosx-version-min=10.13 -std=gnu++11 -I"/Library/Frameworks/R.framework/Resources/include" -DNDEBUG -I'/Library/Frameworks/R.framework/Versions/4.3/Resources/library/Rcpp/include' -I'/Library/Frameworks/R.framework/Versions/4.3/Resources/library/zlibbioc/include' -I'/Library/Frameworks/R.framework/Versions/4.3/Resources/library/RcppProgress/include' -I/usr/local/include -DRNXTIRF -fPIC -Wall -g -O2 -c covTools.cpp -o covTools.o clang++ -mmacosx-version-min=10.13 -std=gnu++11 -dynamiclib -Wl,-headerpad_max_install_names -undefined dynamic_lookup -single_module -multiply_defined suppress -L/Library/Frameworks/R.framework/Resources/lib -L/usr/local/lib -o NxtIRFcore.so BAM2blocks.o FastaReader.o FragmentBlocks.o GZTools.o IRFinder.o RcppExports.o ReadBlockProcessor.o ReadBlockProcessor_CoverageBlocks.o covTools.o -DRNXTIRF -F/Library/Frameworks/R.framework/.. -framework R -Wl,-framework -Wl,CoreFoundation installing to /Users/biocbuild/bbs-3.17-bioc/meat/NxtIRFcore.buildbin-libdir/00LOCK-NxtIRFcore/00new/NxtIRFcore/libs ** R ** inst ** byte-compile and prepare package for lazy loading ** help *** installing help indices ** building package indices ** installing vignettes ** testing if installed package can be loaded from temporary location ** checking absolute paths in shared objects and dynamic libraries ** testing if installed package can be loaded from final location ** testing if installed package keeps a record of temporary installation path * DONE (NxtIRFcore) >>>>>>> >>>>>>> FIXING LINKS FOR NxtIRFcore.buildbin-libdir/NxtIRFcore/libs/NxtIRFcore.so >>>>>>> install_name_tool -change "/usr/local/lib/libgcc_s.1.dylib" "/Library/Frameworks/R.framework/Versions/4.3/Resources/lib/libgcc_s.1.dylib" "NxtIRFcore.buildbin-libdir/NxtIRFcore/libs/NxtIRFcore.so" install_name_tool -change "/usr/local/lib/libgfortran.5.dylib" "/Library/Frameworks/R.framework/Versions/4.3/Resources/lib/libgfortran.5.dylib" "NxtIRFcore.buildbin-libdir/NxtIRFcore/libs/NxtIRFcore.so" install_name_tool -change "/usr/local/lib/libquadmath.0.dylib" "/Library/Frameworks/R.framework/Versions/4.3/Resources/lib/libquadmath.0.dylib" "NxtIRFcore.buildbin-libdir/NxtIRFcore/libs/NxtIRFcore.so"