Back to Multiple platform build/check report for BioC 3.17: simplified long |
|
This page was generated on 2023-03-29 11:05:18 -0400 (Wed, 29 Mar 2023).
Hostname | OS | Arch (*) | R version | Installed pkgs |
---|---|---|---|---|
nebbiolo1 | Linux (Ubuntu 22.04.1 LTS) | x86_64 | R Under development (unstable) (2023-03-16 r83996) -- "Unsuffered Consequences" | 4547 |
palomino3 | Windows Server 2022 Datacenter | x64 | R Under development (unstable) (2023-03-15 r83984 ucrt) -- "Unsuffered Consequences" | 4308 |
merida1 | macOS 10.14.6 Mojave | x86_64 | R Under development (unstable) (2023-03-16 r83985) -- "Unsuffered Consequences" | 4301 |
Click on any hostname to see more info about the system (e.g. compilers) (*) as reported by 'uname -p', except on Windows and Mac OS X |
To the developers/maintainers of the CAGEr package: - Please allow up to 24 hours (and sometimes 48 hours) for your latest push to git@git.bioconductor.org:packages/CAGEr.git to reflect on this report. See How and When does the builder pull? When will my changes propagate? for more information. - Make sure to use the following settings in order to reproduce any error or warning you see on this page. |
Package 256/2195 | Hostname | OS / Arch | INSTALL | BUILD | CHECK | BUILD BIN | ||||||||
CAGEr 2.5.0 (landing page) Charles Plessy
| nebbiolo1 | Linux (Ubuntu 22.04.1 LTS) / x86_64 | OK | OK | OK | ![]() | ||||||||
palomino3 | Windows Server 2022 Datacenter / x64 | OK | OK | OK | OK | ![]() | ||||||||
merida1 | macOS 10.14.6 Mojave / x86_64 | OK | OK | OK | OK | ![]() | ||||||||
Package: CAGEr |
Version: 2.5.0 |
Command: F:\biocbuild\bbs-3.17-bioc\R\bin\R.exe CMD check --no-multiarch --install=check:CAGEr.install-out.txt --library=F:\biocbuild\bbs-3.17-bioc\R\library --no-vignettes --timings CAGEr_2.5.0.tar.gz |
StartedAt: 2023-03-28 23:13:54 -0400 (Tue, 28 Mar 2023) |
EndedAt: 2023-03-28 23:21:36 -0400 (Tue, 28 Mar 2023) |
EllapsedTime: 462.2 seconds |
RetCode: 0 |
Status: OK |
CheckDir: CAGEr.Rcheck |
Warnings: 0 |
############################################################################## ############################################################################## ### ### Running command: ### ### F:\biocbuild\bbs-3.17-bioc\R\bin\R.exe CMD check --no-multiarch --install=check:CAGEr.install-out.txt --library=F:\biocbuild\bbs-3.17-bioc\R\library --no-vignettes --timings CAGEr_2.5.0.tar.gz ### ############################################################################## ############################################################################## * using log directory 'F:/biocbuild/bbs-3.17-bioc/meat/CAGEr.Rcheck' * using R Under development (unstable) (2023-03-15 r83984 ucrt) * using platform: x86_64-w64-mingw32 (64-bit) * R was compiled by gcc.exe (GCC) 12.2.0 GNU Fortran (GCC) 12.2.0 * running under: Windows Server 2022 x64 (build 20348) * using session charset: UTF-8 * using option '--no-vignettes' * checking for file 'CAGEr/DESCRIPTION' ... OK * this is package 'CAGEr' version '2.5.0' * package encoding: UTF-8 * checking package namespace information ... OK * checking package dependencies ... OK * checking if this is a source package ... OK * checking if there is a namespace ... OK * checking for hidden files and directories ... OK * checking for portable file names ... OK * checking whether package 'CAGEr' can be installed ... OK * checking installed package size ... OK * checking package directory ... OK * checking 'build' directory ... OK * checking DESCRIPTION meta-information ... OK * checking top-level files ... OK * checking for left-over files ... OK * checking index information ... OK * checking package subdirectories ... OK * checking R files for non-ASCII characters ... OK * checking R files for syntax errors ... OK * checking whether the package can be loaded ... OK * checking whether the package can be loaded with stated dependencies ... OK * checking whether the package can be unloaded cleanly ... OK * checking whether the namespace can be loaded with stated dependencies ... OK * checking whether the namespace can be unloaded cleanly ... OK * checking dependencies in R code ... OK * checking S3 generic/method consistency ... OK * checking replacement functions ... OK * checking foreign function calls ... OK * checking R code for possible problems ... OK * checking Rd files ... OK * checking Rd metadata ... OK * checking Rd cross-references ... OK * checking for missing documentation entries ... OK * checking for code/documentation mismatches ... OK * checking Rd \usage sections ... OK * checking Rd contents ... OK * checking for unstated dependencies in examples ... OK * checking contents of 'data' directory ... OK * checking data for non-ASCII characters ... OK * checking LazyData ... OK * checking data for ASCII and uncompressed saves ... OK * checking files in 'vignettes' ... OK * checking examples ... OK Examples with CPU (user + system) or elapsed time > 5s user system elapsed cumulativeCTSSdistribution 40.64 2.59 43.25 clusterCTSS 32.58 0.47 33.08 exportToTrack 30.51 0.37 30.89 quantilePositions 17.76 0.31 18.08 aggregateTagClusters 6.53 0.11 6.64 plotExpressionProfiles 5.76 0.18 5.95 CAGEexp-class 4.08 1.25 5.77 * checking for unstated dependencies in vignettes ... OK * checking package vignettes in 'inst/doc' ... OK * checking running R code from vignettes ... SKIPPED * checking re-building of vignette outputs ... SKIPPED * checking PDF version of manual ... OK * DONE Status: OK
CAGEr.Rcheck/00install.out
############################################################################## ############################################################################## ### ### Running command: ### ### F:\biocbuild\bbs-3.17-bioc\R\bin\R.exe CMD INSTALL CAGEr ### ############################################################################## ############################################################################## * installing to library 'F:/biocbuild/bbs-3.17-bioc/R/library' * installing *source* package 'CAGEr' ... ** using staged installation ** R ** data *** moving datasets to lazyload DB ** inst ** byte-compile and prepare package for lazy loading ** help *** installing help indices ** building package indices ** installing vignettes ** testing if installed package can be loaded from temporary location ** testing if installed package can be loaded from final location ** testing if installed package keeps a record of temporary installation path * DONE (CAGEr)
CAGEr.Rcheck/CAGEr-Ex.timings
name | user | system | elapsed | |
CAGEexp-class | 4.08 | 1.25 | 5.77 | |
CAGEr_Multicore | 1.97 | 0.00 | 1.96 | |
CTSS-class | 0.26 | 0.00 | 0.27 | |
CTSSclusteringMethod | 0 | 0 | 0 | |
CTSScoordinates | 0.06 | 0.02 | 0.07 | |
CTSSnormalizedTpm | 0.68 | 0.04 | 0.72 | |
CTSStagCount | 0.86 | 0.03 | 0.89 | |
CTSStoGenes | 0.34 | 0.02 | 0.36 | |
CustomConsensusClusters | 0.87 | 0.00 | 0.88 | |
GeneExpDESeq2 | 0.44 | 0.00 | 0.44 | |
GeneExpSE | 0 | 0 | 0 | |
QuantileWidthFunctions | 0.13 | 0.00 | 0.13 | |
aggregateTagClusters | 6.53 | 0.11 | 6.64 | |
annotateCTSS | 1.56 | 0.00 | 1.56 | |
byCtss | 0 | 0 | 0 | |
clusterCTSS | 32.58 | 0.47 | 33.08 | |
consensusClusters | 0.11 | 0.00 | 0.11 | |
consensusClustersDESeq2 | 0.15 | 0.00 | 0.15 | |
consensusClustersTpm | 0 | 0 | 0 | |
coverage-functions | 3.34 | 0.06 | 3.40 | |
cumulativeCTSSdistribution | 40.64 | 2.59 | 43.25 | |
distclu-functions | 4.21 | 0.18 | 4.38 | |
exampleCAGEexp | 0 | 0 | 0 | |
exportToTrack | 30.51 | 0.37 | 30.89 | |
expressionClasses | 0.02 | 0.00 | 0.02 | |
genomeName | 0 | 0 | 0 | |
getCTSS | 0.94 | 0.03 | 0.96 | |
getExpressionProfiles | 1.82 | 0.02 | 1.85 | |
getShiftingPromoters | 0 | 0 | 0 | |
hanabi | 0.24 | 0.00 | 0.23 | |
hanabiPlot | 0.33 | 0.00 | 0.33 | |
import.CAGEscanMolecule | 0 | 0 | 0 | |
import.CTSS | 0.08 | 0.00 | 0.08 | |
import.bam | 0 | 0 | 0 | |
import.bedCTSS | 0 | 0 | 0 | |
import.bedScore | 0 | 0 | 0 | |
import.bedmolecule | 0 | 0 | 0 | |
inputFiles | 0.01 | 0.00 | 0.01 | |
inputFilesType | 0 | 0 | 0 | |
librarySizes | 0 | 0 | 0 | |
mapStats | 0.05 | 0.00 | 0.05 | |
mergeCAGEsets | 2.06 | 0.03 | 2.10 | |
mergeSamples | 0.48 | 0.02 | 0.50 | |
moleculesGR2CTSS | 0.15 | 0.00 | 0.14 | |
normalizeTagCount | 0.59 | 0.00 | 0.59 | |
parseCAGEscanBlocksToGrangeTSS | 0.05 | 0.00 | 0.05 | |
plotAnnot | 2.68 | 0.03 | 2.72 | |
plotCorrelation | 0.25 | 0.00 | 0.25 | |
plotExpressionProfiles | 5.76 | 0.18 | 5.95 | |
plotInterquantileWidth | 2.27 | 0.05 | 2.32 | |
plotReverseCumulatives | 0.30 | 0.00 | 0.31 | |
quantilePositions | 17.76 | 0.31 | 18.08 | |
ranges2annot | 0.33 | 0.00 | 0.33 | |
ranges2genes | 0.05 | 0.00 | 0.05 | |
ranges2names | 0.06 | 0.00 | 0.06 | |
sampleLabels | 0 | 0 | 0 | |
scoreShift | 0 | 0 | 0 | |
seqNameTotalsSE | 0 | 0 | 0 | |
setColors | 0.39 | 0.01 | 0.41 | |
strandInvaders | 1.78 | 0.15 | 2.57 | |
summariseChrExpr | 0.52 | 0.00 | 0.52 | |
tagClusters | 0.08 | 0.00 | 0.07 | |