Back to Multiple platform build/check report for BioC 3.17:   simplified   long
AB[C]DEFGHIJKLMNOPQRSTUVWXYZ

This page was generated on 2023-03-21 11:05:52 -0400 (Tue, 21 Mar 2023).

HostnameOSArch (*)R versionInstalled pkgs
nebbiolo1Linux (Ubuntu 22.04.1 LTS)x86_64R Under development (unstable) (2023-03-16 r83996) -- "Unsuffered Consequences" 4305
palomino3Windows Server 2022 Datacenterx64R Under development (unstable) (2023-03-15 r83984 ucrt) -- "Unsuffered Consequences" 4287
merida1macOS 10.14.6 Mojavex86_64R Under development (unstable) (2023-03-16 r83985) -- "Unsuffered Consequences" 4286
Click on any hostname to see more info about the system (e.g. compilers)      (*) as reported by 'uname -p', except on Windows and Mac OS X

BUILD results for condiments on palomino3


To the developers/maintainers of the condiments package:
- Please allow up to 24 hours (and sometimes 48 hours) for your latest push to git@git.bioconductor.org:packages/condiments.git to
reflect on this report. See How and When does the builder pull? When will my changes propagate? for more information.
- Make sure to use the following settings in order to reproduce any error or warning you see on this page.

raw results

Package 408/2189HostnameOS / ArchINSTALLBUILDCHECKBUILD BIN
condiments 1.7.0  (landing page)
Hector Roux de Bezieux
Snapshot Date: 2023-03-20 14:00:22 -0400 (Mon, 20 Mar 2023)
git_url: https://git.bioconductor.org/packages/condiments
git_branch: master
git_last_commit: afad889
git_last_commit_date: 2022-11-01 11:24:29 -0400 (Tue, 01 Nov 2022)
nebbiolo1Linux (Ubuntu 22.04.1 LTS) / x86_64  OK    OK    OK  UNNEEDED, same version is already published
palomino3Windows Server 2022 Datacenter / x64  OK    OK    OK    OK  UNNEEDED, same version is already published
merida1macOS 10.14.6 Mojave / x86_64  OK    OK    OK    OK  UNNEEDED, same version is already published

Summary

Package: condiments
Version: 1.7.0
Command: chmod a+r condiments -R && F:\biocbuild\bbs-3.17-bioc\R\bin\R.exe CMD build --keep-empty-dirs --no-resave-data condiments
StartedAt: 2023-03-20 18:14:00 -0400 (Mon, 20 Mar 2023)
EndedAt: 2023-03-20 18:17:17 -0400 (Mon, 20 Mar 2023)
EllapsedTime: 197.3 seconds
RetCode: 0
Status:   OK  
PackageFile: condiments_1.7.0.tar.gz
PackageFileSize: 1.138 MiB

Command output

##############################################################################
##############################################################################
###
### Running command:
###
###   chmod a+r condiments -R && F:\biocbuild\bbs-3.17-bioc\R\bin\R.exe CMD build --keep-empty-dirs --no-resave-data condiments
###
##############################################################################
##############################################################################


* checking for file 'condiments/DESCRIPTION' ... OK
* preparing 'condiments':
* checking DESCRIPTION meta-information ... OK
* installing the package to build vignettes
* creating vignettes ... OK
* checking for LF line-endings in source and make files and shell scripts
* checking for empty or unneeded directories
* looking to see if a 'data/datalist' file should be added
* building 'condiments_1.7.0.tar.gz'