Back to Multiple platform build/check report for BioC 3.17:   simplified   long
A[B]CDEFGHIJKLMNOPQRSTUVWXYZ

This page was generated on 2023-03-29 11:04:41 -0400 (Wed, 29 Mar 2023).

HostnameOSArch (*)R versionInstalled pkgs
nebbiolo1Linux (Ubuntu 22.04.1 LTS)x86_64R Under development (unstable) (2023-03-16 r83996) -- "Unsuffered Consequences" 4547
palomino3Windows Server 2022 Datacenterx64R Under development (unstable) (2023-03-15 r83984 ucrt) -- "Unsuffered Consequences" 4308
merida1macOS 10.14.6 Mojavex86_64R Under development (unstable) (2023-03-16 r83985) -- "Unsuffered Consequences" 4301
Click on any hostname to see more info about the system (e.g. compilers)      (*) as reported by 'uname -p', except on Windows and Mac OS X

CHECK results for branchpointer on nebbiolo1


To the developers/maintainers of the branchpointer package:
- Please allow up to 24 hours (and sometimes 48 hours) for your latest push to git@git.bioconductor.org:packages/branchpointer.git to
reflect on this report. See How and When does the builder pull? When will my changes propagate? for more information.
- Make sure to use the following settings in order to reproduce any error or warning you see on this page.

raw results

Package 233/2195HostnameOS / ArchINSTALLBUILDCHECKBUILD BIN
branchpointer 1.25.0  (landing page)
Beth Signal
Snapshot Date: 2023-03-28 14:00:22 -0400 (Tue, 28 Mar 2023)
git_url: https://git.bioconductor.org/packages/branchpointer
git_branch: devel
git_last_commit: fdc3264
git_last_commit_date: 2022-11-01 11:15:20 -0400 (Tue, 01 Nov 2022)
nebbiolo1Linux (Ubuntu 22.04.1 LTS) / x86_64  OK    OK    OK  UNNEEDED, same version is already published
palomino3Windows Server 2022 Datacenter / x64  OK    OK    ERROR    OK  
merida1macOS 10.14.6 Mojave / x86_64  OK    OK    ERROR    OK  

Summary

Package: branchpointer
Version: 1.25.0
Command: /home/biocbuild/bbs-3.17-bioc/R/bin/R CMD check --install=check:branchpointer.install-out.txt --library=/home/biocbuild/bbs-3.17-bioc/R/site-library --timings branchpointer_1.25.0.tar.gz
StartedAt: 2023-03-28 18:44:54 -0400 (Tue, 28 Mar 2023)
EndedAt: 2023-03-28 18:50:36 -0400 (Tue, 28 Mar 2023)
EllapsedTime: 342.8 seconds
RetCode: 0
Status:   OK  
CheckDir: branchpointer.Rcheck
Warnings: 0

Command output

##############################################################################
##############################################################################
###
### Running command:
###
###   /home/biocbuild/bbs-3.17-bioc/R/bin/R CMD check --install=check:branchpointer.install-out.txt --library=/home/biocbuild/bbs-3.17-bioc/R/site-library --timings branchpointer_1.25.0.tar.gz
###
##############################################################################
##############################################################################


* using log directory ‘/home/biocbuild/bbs-3.17-bioc/meat/branchpointer.Rcheck’
* using R Under development (unstable) (2023-03-16 r83996)
* using platform: x86_64-pc-linux-gnu (64-bit)
* R was compiled by
    gcc (Ubuntu 11.3.0-1ubuntu1~22.04) 11.3.0
    GNU Fortran (Ubuntu 11.3.0-1ubuntu1~22.04) 11.3.0
* running under: Ubuntu 22.04.2 LTS
* using session charset: UTF-8
* checking for file ‘branchpointer/DESCRIPTION’ ... OK
* checking extension type ... Package
* this is package ‘branchpointer’ version ‘1.25.0’
* checking package namespace information ... OK
* checking package dependencies ... OK
* checking if this is a source package ... OK
* checking if there is a namespace ... OK
* checking for hidden files and directories ... OK
* checking for portable file names ... OK
* checking for sufficient/correct file permissions ... OK
* checking whether package ‘branchpointer’ can be installed ... OK
* checking installed package size ... OK
* checking package directory ... OK
* checking ‘build’ directory ... OK
* checking DESCRIPTION meta-information ... OK
* checking top-level files ... OK
* checking for left-over files ... OK
* checking index information ... OK
* checking package subdirectories ... OK
* checking R files for non-ASCII characters ... OK
* checking R files for syntax errors ... OK
* checking whether the package can be loaded ... OK
* checking whether the package can be loaded with stated dependencies ... OK
* checking whether the package can be unloaded cleanly ... OK
* checking whether the namespace can be loaded with stated dependencies ... OK
* checking whether the namespace can be unloaded cleanly ... OK
* checking loading without being on the library search path ... OK
* checking dependencies in R code ... OK
* checking S3 generic/method consistency ... OK
* checking replacement functions ... OK
* checking foreign function calls ... OK
* checking R code for possible problems ... OK
* checking Rd files ... OK
* checking Rd metadata ... OK
* checking Rd cross-references ... OK
* checking for missing documentation entries ... OK
* checking for code/documentation mismatches ... OK
* checking Rd \usage sections ... OK
* checking Rd contents ... OK
* checking for unstated dependencies in examples ... OK
* checking R/sysdata.rda ... OK
* checking files in ‘vignettes’ ... OK
* checking examples ... OK
Examples with CPU (user + system) or elapsed time > 5s
                             user system elapsed
makeBranchpointWindowForSNP 2.364  0.152   5.698
* checking for unstated dependencies in vignettes ... OK
* checking package vignettes in ‘inst/doc’ ... OK
* checking running R code from vignettes ...
  ‘branchpointer.Rnw’ using ‘UTF-8’... OK
 NONE
* checking re-building of vignette outputs ... OK
* checking PDF version of manual ... OK
* DONE

Status: OK


Installation output

branchpointer.Rcheck/00install.out

##############################################################################
##############################################################################
###
### Running command:
###
###   /home/biocbuild/bbs-3.17-bioc/R/bin/R CMD INSTALL branchpointer
###
##############################################################################
##############################################################################


* installing to library ‘/home/biocbuild/bbs-3.17-bioc/R/site-library’
* installing *source* package ‘branchpointer’ ...
** using staged installation
** R
** inst
** byte-compile and prepare package for lazy loading
** help
*** installing help indices
** building package indices
** installing vignettes
** testing if installed package can be loaded from temporary location
** testing if installed package can be loaded from final location
** testing if installed package keeps a record of temporary installation path
* DONE (branchpointer)

Tests output


Example timings

branchpointer.Rcheck/branchpointer-Ex.timings

nameusersystemelapsed
gtfToExons1.1300.0481.178
makeBranchpointWindowForExons1.3970.0081.405
makeBranchpointWindowForSNP2.3640.1525.698
plotBranchpointWindow4.4290.5084.938
predictBranchpoints2.6120.2042.815
predictionsToSummary2.6360.1882.824
readQueryFile1.9500.1202.069