Back to Multiple platform build/check report for BioC 3.17: simplified long |
|
This page was generated on 2023-05-27 11:05:50 -0400 (Sat, 27 May 2023).
Hostname | OS | Arch (*) | R version | Installed pkgs |
---|---|---|---|---|
nebbiolo1 | Linux (Ubuntu 22.04.2 LTS) | x86_64 | 4.3.0 RC (2023-04-13 r84269) -- "Already Tomorrow" | 4617 |
palomino3 | Windows Server 2022 Datacenter | x64 | 4.3.0 RC (2023-04-13 r84269 ucrt) -- "Already Tomorrow" | 4368 |
merida1 | macOS 12.6.4 Monterey | x86_64 | 4.3.0 RC (2023-04-13 r84257) -- "Already Tomorrow" | 4326 |
Click on any hostname to see more info about the system (e.g. compilers) (*) as reported by 'uname -p', except on Windows and Mac OS X |
To the developers/maintainers of the girafe package: - Allow up to 24 hours (and sometimes 48 hours) for your latest push to git@git.bioconductor.org:packages/girafe.git to reflect on this report. See Troubleshooting Build Report for more information. - Use the following Renviron settings to reproduce errors and warnings. Note: If "R CMD check" recently failed on the Linux builder over a missing dependency, add the missing dependency to "Suggests" in your DESCRIPTION file. See the Renviron.bioc for details. |
Package 841/2229 | Hostname | OS / Arch | INSTALL | BUILD | CHECK | BUILD BIN | ||||||||
girafe 1.52.0 (landing page) J. Toedling
| nebbiolo1 | Linux (Ubuntu 22.04.2 LTS) / x86_64 | OK | OK | OK | ![]() | ||||||||
palomino3 | Windows Server 2022 Datacenter / x64 | OK | OK | OK | OK | ![]() | ||||||||
merida1 | macOS 12.6.4 Monterey / x86_64 | OK | OK | OK | OK | ![]() | ||||||||
Package: girafe |
Version: 1.52.0 |
Command: F:\biocbuild\bbs-3.17-bioc\R\bin\R.exe CMD INSTALL girafe |
StartedAt: 2023-05-26 16:16:32 -0400 (Fri, 26 May 2023) |
EndedAt: 2023-05-26 16:17:21 -0400 (Fri, 26 May 2023) |
EllapsedTime: 48.3 seconds |
RetCode: 0 |
Status: OK |
############################################################################## ############################################################################## ### ### Running command: ### ### F:\biocbuild\bbs-3.17-bioc\R\bin\R.exe CMD INSTALL girafe ### ############################################################################## ############################################################################## * installing to library 'F:/biocbuild/bbs-3.17-bioc/R/library' * installing *source* package 'girafe' ... ** using staged installation ** libs using C compiler: 'gcc.exe (GCC) 12.2.0' using C++ compiler: 'G__~1.EXE (GCC) 12.2.0' g++ -std=gnu++17 -I"F:/biocbuild/bbs-3.17-bioc/R/include" -DNDEBUG -I"C:/rtools43/x86_64-w64-mingw32.static.posix/include" -O2 -Wall -mfpmath=sse -msse2 -mstackrealign -c coverage.cpp -o coverage.o gcc -I"F:/biocbuild/bbs-3.17-bioc/R/include" -DNDEBUG -I"C:/rtools43/x86_64-w64-mingw32.static.posix/include" -O2 -Wall -mfpmath=sse -msse2 -mstackrealign -c girafe_init.c -o girafe_init.o g++ -std=gnu++17 -shared -s -static-libgcc -o girafe.dll tmp.def coverage.o girafe_init.o -LC:/rtools43/x86_64-w64-mingw32.static.posix/lib/x64 -LC:/rtools43/x86_64-w64-mingw32.static.posix/lib -LF:/biocbuild/bbs-3.17-bioc/R/bin/x64 -lR installing to F:/biocbuild/bbs-3.17-bioc/R/library/00LOCK-girafe/00new/girafe/libs/x64 ** R ** inst ** byte-compile and prepare package for lazy loading No methods found in package 'IRanges' for requests: 'score', 'score<-', 'sort' when loading 'girafe' Creating a generic function for 'sample' from package 'base' in package 'girafe' ** help *** installing help indices ** building package indices ** installing vignettes ** testing if installed package can be loaded from temporary location No methods found in package 'IRanges' for requests: 'score', 'score<-', 'sort' when loading 'girafe' ** testing if installed package can be loaded from final location No methods found in package 'IRanges' for requests: 'score', 'score<-', 'sort' when loading 'girafe' ** testing if installed package keeps a record of temporary installation path * DONE (girafe)