Back to Multiple platform build/check report for BioC 3.17:   simplified   long
AB[C]DEFGHIJKLMNOPQRSTUVWXYZ

This page was generated on 2023-03-22 11:05:43 -0400 (Wed, 22 Mar 2023).

HostnameOSArch (*)R versionInstalled pkgs
nebbiolo1Linux (Ubuntu 22.04.1 LTS)x86_64R Under development (unstable) (2023-03-16 r83996) -- "Unsuffered Consequences" 4508
palomino3Windows Server 2022 Datacenterx64R Under development (unstable) (2023-03-15 r83984 ucrt) -- "Unsuffered Consequences" 4293
merida1macOS 10.14.6 Mojavex86_64R Under development (unstable) (2023-03-16 r83985) -- "Unsuffered Consequences" 4290
Click on any hostname to see more info about the system (e.g. compilers)      (*) as reported by 'uname -p', except on Windows and Mac OS X

BUILD results for CNEr on palomino3


To the developers/maintainers of the CNEr package:
- Please allow up to 24 hours (and sometimes 48 hours) for your latest push to git@git.bioconductor.org:packages/CNEr.git to
reflect on this report. See How and When does the builder pull? When will my changes propagate? for more information.
- Make sure to use the following settings in order to reproduce any error or warning you see on this page.

raw results

Package 372/2189HostnameOS / ArchINSTALLBUILDCHECKBUILD BIN
CNEr 1.35.0  (landing page)
Ge Tan
Snapshot Date: 2023-03-21 14:00:22 -0400 (Tue, 21 Mar 2023)
git_url: https://git.bioconductor.org/packages/CNEr
git_branch: master
git_last_commit: 7f627d6
git_last_commit_date: 2022-11-01 11:09:13 -0400 (Tue, 01 Nov 2022)
nebbiolo1Linux (Ubuntu 22.04.1 LTS) / x86_64  OK    OK    WARNINGS  UNNEEDED, same version is already published
palomino3Windows Server 2022 Datacenter / x64  OK    OK    WARNINGS    OK  UNNEEDED, same version is already published
merida1macOS 10.14.6 Mojave / x86_64  OK    OK    WARNINGS    OK  UNNEEDED, same version is already published

Summary

Package: CNEr
Version: 1.35.0
Command: chmod a+r CNEr -R && F:\biocbuild\bbs-3.17-bioc\R\bin\R.exe CMD build --keep-empty-dirs --no-resave-data CNEr
StartedAt: 2023-03-21 18:04:57 -0400 (Tue, 21 Mar 2023)
EndedAt: 2023-03-21 18:07:08 -0400 (Tue, 21 Mar 2023)
EllapsedTime: 130.7 seconds
RetCode: 0
Status:   OK  
PackageFile: CNEr_1.35.0.tar.gz
PackageFileSize: 9.283 MiB

Command output

##############################################################################
##############################################################################
###
### Running command:
###
###   chmod a+r CNEr -R && F:\biocbuild\bbs-3.17-bioc\R\bin\R.exe CMD build --keep-empty-dirs --no-resave-data CNEr
###
##############################################################################
##############################################################################


* checking for file 'CNEr/DESCRIPTION' ... OK
* preparing 'CNEr':
* checking DESCRIPTION meta-information ... OK
* cleaning src
* installing the package to build vignettes
* creating vignettes ... OK
* cleaning src
* checking for LF line-endings in source and make files and shell scripts
* checking for empty or unneeded directories
* looking to see if a 'data/datalist' file should be added
  NB: this package now depends on R (>= 3.5.0)
  WARNING: Added dependency on R >= 3.5.0 because serialized objects in
  serialize/load version 3 cannot be read in older versions of R.
  File(s) containing such objects:
    'CNEr/data/CNEDanRer10Hg38.rda' 'CNEr/data/CNEHg38DanRer10.rda'
    'CNEr/data/axisTrack.rda' 'CNEr/data/cneFinalListDanRer10Hg38.rda'
    'CNEr/data/cpgIslands.rda' 'CNEr/data/grangesPairsForDotplot.rda'
    'CNEr/data/refGenes.rda'
* building 'CNEr_1.35.0.tar.gz'