Back to Build/check report for BioC 3.17:   simplified   long
ABC[D]EFGHIJKLMNOPQRSTUVWXYZ

This page was generated on 2023-03-30 12:33:43 -0400 (Thu, 30 Mar 2023).

HostnameOSArch (*)R versionInstalled pkgs
nebbiolo1Linux (Ubuntu 22.04.1 LTS)x86_64R Under development (unstable) (2023-03-16 r83996) -- "Unsuffered Consequences" 4547
Click on any hostname to see more info about the system (e.g. compilers)      (*) as reported by 'uname -p', except on Windows and Mac OS X

BUILD results for DAMEfinder on nebbiolo1


To the developers/maintainers of the DAMEfinder package:
- Allow up to 24 hours (and sometimes 48 hours) for your latest push to git@git.bioconductor.org:packages/DAMEfinder.git to reflect on this report. See Troubleshooting Build Report for more information.

- Use the following Renviron settings to reproduce errors and warnings.

Note: If "R CMD check" recently failed on the Linux builder over a missing dependency, add the missing dependency to "Suggests" in your DESCRIPTION file. See the Renviron.bioc for details.

raw results

Package 483/2195HostnameOS / ArchINSTALLBUILDCHECKBUILD BIN
DAMEfinder 1.11.1  (landing page)
Stephany Orjuela
Snapshot Date: 2023-03-29 14:00:20 -0400 (Wed, 29 Mar 2023)
git_url: https://git.bioconductor.org/packages/DAMEfinder
git_branch: devel
git_last_commit: 3f4d9bf
git_last_commit_date: 2022-12-06 08:46:37 -0400 (Tue, 06 Dec 2022)
nebbiolo1Linux (Ubuntu 22.04.1 LTS) / x86_64  ERROR    ERROR  skipped

Summary

Package: DAMEfinder
Version: 1.11.1
Command: /home/biocbuild/bbs-3.17-bioc/R/bin/R CMD build --keep-empty-dirs --no-resave-data DAMEfinder
StartedAt: 2023-03-29 16:15:49 -0400 (Wed, 29 Mar 2023)
EndedAt: 2023-03-29 16:15:51 -0400 (Wed, 29 Mar 2023)
EllapsedTime: 2.3 seconds
RetCode: 1
Status:   ERROR  
PackageFile: None
PackageFileSize: NA

Command output

##############################################################################
##############################################################################
###
### Running command:
###
###   /home/biocbuild/bbs-3.17-bioc/R/bin/R CMD build --keep-empty-dirs --no-resave-data DAMEfinder
###
##############################################################################
##############################################################################


* checking for file ‘DAMEfinder/DESCRIPTION’ ... OK
* preparing ‘DAMEfinder’:
* checking DESCRIPTION meta-information ... OK
* installing the package to build vignettes
      -----------------------------------
* installing *source* package ‘DAMEfinder’ ...
** using staged installation
** R
** data
** inst
** byte-compile and prepare package for lazy loading
Error: object ‘rowSums’ is not exported by 'namespace:BiocGenerics'
Execution halted
ERROR: lazy loading failed for package ‘DAMEfinder’
* removing ‘/tmp/RtmpgDjqyL/Rinst36c08e51c80e02/DAMEfinder’
      -----------------------------------
ERROR: package installation failed