Back to Multiple platform build/check report for BioC 3.17:   simplified   long
ABCDEFGHIJKLMNOPQR[S]TUVWXYZ

This page was generated on 2023-06-09 11:06:31 -0400 (Fri, 09 Jun 2023).

HostnameOSArch (*)R versionInstalled pkgs
nebbiolo1Linux (Ubuntu 22.04.2 LTS)x86_644.3.0 RC (2023-04-13 r84269) -- "Already Tomorrow" 4628
palomino3Windows Server 2022 Datacenterx644.3.0 RC (2023-04-13 r84269 ucrt) -- "Already Tomorrow" 4379
merida1macOS 12.6.4 Montereyx86_644.3.0 RC (2023-04-13 r84257) -- "Already Tomorrow" 4385
Click on any hostname to see more info about the system (e.g. compilers)      (*) as reported by 'uname -p', except on Windows and Mac OS X

INSTALL results for SpliceWiz on palomino3


To the developers/maintainers of the SpliceWiz package:
- Allow up to 24 hours (and sometimes 48 hours) for your latest push to git@git.bioconductor.org:packages/SpliceWiz.git to reflect on this report. See Troubleshooting Build Report for more information.
- Use the following Renviron settings to reproduce errors and warnings.
- If 'R CMD check' started to fail recently on the Linux builder(s) over a missing dependency, add the missing dependency to 'Suggests:' in your DESCRIPTION file. See Renviron.bioc for more information.

raw results

Package 1992/2229HostnameOS / ArchINSTALLBUILDCHECKBUILD BIN
SpliceWiz 1.2.2  (landing page)
Alex Chit Hei Wong
Snapshot Date: 2023-06-08 14:00:15 -0400 (Thu, 08 Jun 2023)
git_url: https://git.bioconductor.org/packages/SpliceWiz
git_branch: RELEASE_3_17
git_last_commit: f690f49
git_last_commit_date: 2023-06-04 23:35:52 -0400 (Sun, 04 Jun 2023)
nebbiolo1Linux (Ubuntu 22.04.2 LTS) / x86_64  OK    OK    OK  UNNEEDED, same version is already published
palomino3Windows Server 2022 Datacenter / x64  OK    OK    OK    OK  UNNEEDED, same version is already published
merida1macOS 12.6.4 Monterey / x86_64  OK    OK    OK    OK  UNNEEDED, same version is already published

Summary

Package: SpliceWiz
Version: 1.2.2
Command: F:\biocbuild\bbs-3.17-bioc\R\bin\R.exe CMD INSTALL SpliceWiz
StartedAt: 2023-06-08 16:56:46 -0400 (Thu, 08 Jun 2023)
EndedAt: 2023-06-08 16:59:50 -0400 (Thu, 08 Jun 2023)
EllapsedTime: 184.1 seconds
RetCode: 0
Status:   OK  

Command output

##############################################################################
##############################################################################
###
### Running command:
###
###   F:\biocbuild\bbs-3.17-bioc\R\bin\R.exe CMD INSTALL SpliceWiz
###
##############################################################################
##############################################################################


* installing to library 'F:/biocbuild/bbs-3.17-bioc/R/library'
* installing *source* package 'SpliceWiz' ...
** using staged installation
** libs
using C++ compiler: 'G__~1.EXE (GCC) 12.2.0'
using C++11
g++  -std=gnu++11 -I"F:/biocbuild/bbs-3.17-bioc/R/include" -DNDEBUG  -I'F:/biocbuild/bbs-3.17-bioc/R/library/ompBAM/include' -I'F:/biocbuild/bbs-3.17-bioc/R/library/Rcpp/include' -I'F:/biocbuild/bbs-3.17-bioc/R/library/zlibbioc/include' -I'F:/biocbuild/bbs-3.17-bioc/R/library/RcppProgress/include'   -I"C:/rtools43/x86_64-w64-mingw32.static.posix/include"  -fopenmp -DSPLICEWIZ   -O2 -Wall  -mfpmath=sse -msse2 -mstackrealign  -c BAM2blocks.cpp -o BAM2blocks.o
g++  -std=gnu++11 -I"F:/biocbuild/bbs-3.17-bioc/R/include" -DNDEBUG  -I'F:/biocbuild/bbs-3.17-bioc/R/library/ompBAM/include' -I'F:/biocbuild/bbs-3.17-bioc/R/library/Rcpp/include' -I'F:/biocbuild/bbs-3.17-bioc/R/library/zlibbioc/include' -I'F:/biocbuild/bbs-3.17-bioc/R/library/RcppProgress/include'   -I"C:/rtools43/x86_64-w64-mingw32.static.posix/include"  -fopenmp -DSPLICEWIZ   -O2 -Wall  -mfpmath=sse -msse2 -mstackrealign  -c FastaReader.cpp -o FastaReader.o
g++  -std=gnu++11 -I"F:/biocbuild/bbs-3.17-bioc/R/include" -DNDEBUG  -I'F:/biocbuild/bbs-3.17-bioc/R/library/ompBAM/include' -I'F:/biocbuild/bbs-3.17-bioc/R/library/Rcpp/include' -I'F:/biocbuild/bbs-3.17-bioc/R/library/zlibbioc/include' -I'F:/biocbuild/bbs-3.17-bioc/R/library/RcppProgress/include'   -I"C:/rtools43/x86_64-w64-mingw32.static.posix/include"  -fopenmp -DSPLICEWIZ   -O2 -Wall  -mfpmath=sse -msse2 -mstackrealign  -c FragmentBlocks.cpp -o FragmentBlocks.o
g++  -std=gnu++11 -I"F:/biocbuild/bbs-3.17-bioc/R/include" -DNDEBUG  -I'F:/biocbuild/bbs-3.17-bioc/R/library/ompBAM/include' -I'F:/biocbuild/bbs-3.17-bioc/R/library/Rcpp/include' -I'F:/biocbuild/bbs-3.17-bioc/R/library/zlibbioc/include' -I'F:/biocbuild/bbs-3.17-bioc/R/library/RcppProgress/include'   -I"C:/rtools43/x86_64-w64-mingw32.static.posix/include"  -fopenmp -DSPLICEWIZ   -O2 -Wall  -mfpmath=sse -msse2 -mstackrealign  -c GZTools.cpp -o GZTools.o
g++  -std=gnu++11 -I"F:/biocbuild/bbs-3.17-bioc/R/include" -DNDEBUG  -I'F:/biocbuild/bbs-3.17-bioc/R/library/ompBAM/include' -I'F:/biocbuild/bbs-3.17-bioc/R/library/Rcpp/include' -I'F:/biocbuild/bbs-3.17-bioc/R/library/zlibbioc/include' -I'F:/biocbuild/bbs-3.17-bioc/R/library/RcppProgress/include'   -I"C:/rtools43/x86_64-w64-mingw32.static.posix/include"  -fopenmp -DSPLICEWIZ   -O2 -Wall  -mfpmath=sse -msse2 -mstackrealign  -c RcppExports.cpp -o RcppExports.o
g++  -std=gnu++11 -I"F:/biocbuild/bbs-3.17-bioc/R/include" -DNDEBUG  -I'F:/biocbuild/bbs-3.17-bioc/R/library/ompBAM/include' -I'F:/biocbuild/bbs-3.17-bioc/R/library/Rcpp/include' -I'F:/biocbuild/bbs-3.17-bioc/R/library/zlibbioc/include' -I'F:/biocbuild/bbs-3.17-bioc/R/library/RcppProgress/include'   -I"C:/rtools43/x86_64-w64-mingw32.static.posix/include"  -fopenmp -DSPLICEWIZ   -O2 -Wall  -mfpmath=sse -msse2 -mstackrealign  -c ReadBlockProcessor.cpp -o ReadBlockProcessor.o
g++  -std=gnu++11 -I"F:/biocbuild/bbs-3.17-bioc/R/include" -DNDEBUG  -I'F:/biocbuild/bbs-3.17-bioc/R/library/ompBAM/include' -I'F:/biocbuild/bbs-3.17-bioc/R/library/Rcpp/include' -I'F:/biocbuild/bbs-3.17-bioc/R/library/zlibbioc/include' -I'F:/biocbuild/bbs-3.17-bioc/R/library/RcppProgress/include'   -I"C:/rtools43/x86_64-w64-mingw32.static.posix/include"  -fopenmp -DSPLICEWIZ   -O2 -Wall  -mfpmath=sse -msse2 -mstackrealign  -c ReadBlockProcessor_CoverageBlocks.cpp -o ReadBlockProcessor_CoverageBlocks.o
g++  -std=gnu++11 -I"F:/biocbuild/bbs-3.17-bioc/R/include" -DNDEBUG  -I'F:/biocbuild/bbs-3.17-bioc/R/library/ompBAM/include' -I'F:/biocbuild/bbs-3.17-bioc/R/library/Rcpp/include' -I'F:/biocbuild/bbs-3.17-bioc/R/library/zlibbioc/include' -I'F:/biocbuild/bbs-3.17-bioc/R/library/RcppProgress/include'   -I"C:/rtools43/x86_64-w64-mingw32.static.posix/include"  -fopenmp -DSPLICEWIZ   -O2 -Wall  -mfpmath=sse -msse2 -mstackrealign  -c ReadBlockProcessor_FragmentsMap.cpp -o ReadBlockProcessor_FragmentsMap.o
g++  -std=gnu++11 -I"F:/biocbuild/bbs-3.17-bioc/R/include" -DNDEBUG  -I'F:/biocbuild/bbs-3.17-bioc/R/library/ompBAM/include' -I'F:/biocbuild/bbs-3.17-bioc/R/library/Rcpp/include' -I'F:/biocbuild/bbs-3.17-bioc/R/library/zlibbioc/include' -I'F:/biocbuild/bbs-3.17-bioc/R/library/RcppProgress/include'   -I"C:/rtools43/x86_64-w64-mingw32.static.posix/include"  -fopenmp -DSPLICEWIZ   -O2 -Wall  -mfpmath=sse -msse2 -mstackrealign  -c ReadBlockProcessor_TandemJunctions.cpp -o ReadBlockProcessor_TandemJunctions.o
g++  -std=gnu++11 -I"F:/biocbuild/bbs-3.17-bioc/R/include" -DNDEBUG  -I'F:/biocbuild/bbs-3.17-bioc/R/library/ompBAM/include' -I'F:/biocbuild/bbs-3.17-bioc/R/library/Rcpp/include' -I'F:/biocbuild/bbs-3.17-bioc/R/library/zlibbioc/include' -I'F:/biocbuild/bbs-3.17-bioc/R/library/RcppProgress/include'   -I"C:/rtools43/x86_64-w64-mingw32.static.posix/include"  -fopenmp -DSPLICEWIZ   -O2 -Wall  -mfpmath=sse -msse2 -mstackrealign  -c covTools.cpp -o covTools.o
g++  -std=gnu++11 -I"F:/biocbuild/bbs-3.17-bioc/R/include" -DNDEBUG  -I'F:/biocbuild/bbs-3.17-bioc/R/library/ompBAM/include' -I'F:/biocbuild/bbs-3.17-bioc/R/library/Rcpp/include' -I'F:/biocbuild/bbs-3.17-bioc/R/library/zlibbioc/include' -I'F:/biocbuild/bbs-3.17-bioc/R/library/RcppProgress/include'   -I"C:/rtools43/x86_64-w64-mingw32.static.posix/include"  -fopenmp -DSPLICEWIZ   -O2 -Wall  -mfpmath=sse -msse2 -mstackrealign  -c main.cpp -o main.o
g++  -std=gnu++11 -I"F:/biocbuild/bbs-3.17-bioc/R/include" -DNDEBUG  -I'F:/biocbuild/bbs-3.17-bioc/R/library/ompBAM/include' -I'F:/biocbuild/bbs-3.17-bioc/R/library/Rcpp/include' -I'F:/biocbuild/bbs-3.17-bioc/R/library/zlibbioc/include' -I'F:/biocbuild/bbs-3.17-bioc/R/library/RcppProgress/include'   -I"C:/rtools43/x86_64-w64-mingw32.static.posix/include"  -fopenmp -DSPLICEWIZ   -O2 -Wall  -mfpmath=sse -msse2 -mstackrealign  -c swEngine.cpp -o swEngine.o
g++  -std=gnu++11 -I"F:/biocbuild/bbs-3.17-bioc/R/include" -DNDEBUG  -I'F:/biocbuild/bbs-3.17-bioc/R/library/ompBAM/include' -I'F:/biocbuild/bbs-3.17-bioc/R/library/Rcpp/include' -I'F:/biocbuild/bbs-3.17-bioc/R/library/zlibbioc/include' -I'F:/biocbuild/bbs-3.17-bioc/R/library/RcppProgress/include'   -I"C:/rtools43/x86_64-w64-mingw32.static.posix/include"  -fopenmp -DSPLICEWIZ   -O2 -Wall  -mfpmath=sse -msse2 -mstackrealign  -c synthReadGenerator.cpp -o synthReadGenerator.o
g++ -shared -s -static-libgcc -o SpliceWiz.dll tmp.def BAM2blocks.o FastaReader.o FragmentBlocks.o GZTools.o RcppExports.o ReadBlockProcessor.o ReadBlockProcessor_CoverageBlocks.o ReadBlockProcessor_FragmentsMap.o ReadBlockProcessor_TandemJunctions.o covTools.o main.o swEngine.o synthReadGenerator.o -fopenmp -DSPLICEWIZ -LF:/biocbuild/bbs-3.17-bioc/R/library/zlibbioc/libs/x64 -lzlib1bioc -LC:/rtools43/x86_64-w64-mingw32.static.posix/lib/x64 -LC:/rtools43/x86_64-w64-mingw32.static.posix/lib -LF:/biocbuild/bbs-3.17-bioc/R/bin/x64 -lR
installing to F:/biocbuild/bbs-3.17-bioc/R/library/00LOCK-SpliceWiz/00new/SpliceWiz/libs/x64
** R
** inst
** byte-compile and prepare package for lazy loading
** help
*** installing help indices
** building package indices
** installing vignettes
** testing if installed package can be loaded from temporary location
** testing if installed package can be loaded from final location
** testing if installed package keeps a record of temporary installation path
* DONE (SpliceWiz)