Back to Multiple platform build/check report for BioC 3.17:   simplified   long
ABCDE[F]GHIJKLMNOPQRSTUVWXYZ

This page was generated on 2023-03-29 11:05:27 -0400 (Wed, 29 Mar 2023).

HostnameOSArch (*)R versionInstalled pkgs
nebbiolo1Linux (Ubuntu 22.04.1 LTS)x86_64R Under development (unstable) (2023-03-16 r83996) -- "Unsuffered Consequences" 4547
palomino3Windows Server 2022 Datacenterx64R Under development (unstable) (2023-03-15 r83984 ucrt) -- "Unsuffered Consequences" 4308
merida1macOS 10.14.6 Mojavex86_64R Under development (unstable) (2023-03-16 r83985) -- "Unsuffered Consequences" 4301
Click on any hostname to see more info about the system (e.g. compilers)      (*) as reported by 'uname -p', except on Windows and Mac OS X

BUILD results for flowWorkspace on palomino3


To the developers/maintainers of the flowWorkspace package:
- Please allow up to 24 hours (and sometimes 48 hours) for your latest push to git@git.bioconductor.org:packages/flowWorkspace.git to
reflect on this report. See How and When does the builder pull? When will my changes propagate? for more information.
- Make sure to use the following settings in order to reproduce any error or warning you see on this page.

raw results

Package 720/2195HostnameOS / ArchINSTALLBUILDCHECKBUILD BIN
flowWorkspace 4.11.1  (landing page)
Greg Finak , Mike Jiang
Snapshot Date: 2023-03-28 14:00:22 -0400 (Tue, 28 Mar 2023)
git_url: https://git.bioconductor.org/packages/flowWorkspace
git_branch: devel
git_last_commit: 3f5adab
git_last_commit_date: 2022-12-28 20:58:18 -0400 (Wed, 28 Dec 2022)
nebbiolo1Linux (Ubuntu 22.04.1 LTS) / x86_64  OK    OK    WARNINGS  UNNEEDED, same version is already published
palomino3Windows Server 2022 Datacenter / x64  OK    OK    WARNINGS    OK  UNNEEDED, same version is already published
merida1macOS 10.14.6 Mojave / x86_64  OK    OK    WARNINGS    OK  UNNEEDED, same version is already published

Summary

Package: flowWorkspace
Version: 4.11.1
Command: chmod a+r flowWorkspace -R && F:\biocbuild\bbs-3.17-bioc\R\bin\R.exe CMD build --keep-empty-dirs --no-resave-data flowWorkspace
StartedAt: 2023-03-28 18:46:26 -0400 (Tue, 28 Mar 2023)
EndedAt: 2023-03-28 18:49:43 -0400 (Tue, 28 Mar 2023)
EllapsedTime: 197.1 seconds
RetCode: 0
Status:   OK  
PackageFile: flowWorkspace_4.11.1.tar.gz
PackageFileSize: 3.754 MiB

Command output

##############################################################################
##############################################################################
###
### Running command:
###
###   chmod a+r flowWorkspace -R && F:\biocbuild\bbs-3.17-bioc\R\bin\R.exe CMD build --keep-empty-dirs --no-resave-data flowWorkspace
###
##############################################################################
##############################################################################


* checking for file 'flowWorkspace/DESCRIPTION' ... OK
* preparing 'flowWorkspace':
* checking DESCRIPTION meta-information ... OK
* cleaning src
* installing the package to build vignettes
* creating vignettes ... OK
* cleaning src
* checking for LF line-endings in source and make files and shell scripts
* checking for empty or unneeded directories
WARNING: Removing directory 'flowWorkspace/Meta' which should only
  occur in an installed package
  NB: this package now depends on R (>= 3.5.0)
  WARNING: Added dependency on R >= 3.5.0 because serialized objects in
  serialize/load version 3 cannot be read in older versions of R.
  File(s) containing such objects:
    'flowWorkspace/tests/testthat/expect_result/empty_pop.rds'
* building 'flowWorkspace_4.11.1.tar.gz'