Back to Multiple platform build/check report for BioC 3.17:   simplified   long
AB[C]DEFGHIJKLMNOPQRSTUVWXYZ

This page was generated on 2023-05-27 11:05:43 -0400 (Sat, 27 May 2023).

HostnameOSArch (*)R versionInstalled pkgs
nebbiolo1Linux (Ubuntu 22.04.2 LTS)x86_644.3.0 RC (2023-04-13 r84269) -- "Already Tomorrow" 4617
palomino3Windows Server 2022 Datacenterx644.3.0 RC (2023-04-13 r84269 ucrt) -- "Already Tomorrow" 4368
merida1macOS 12.6.4 Montereyx86_644.3.0 RC (2023-04-13 r84257) -- "Already Tomorrow" 4326
Click on any hostname to see more info about the system (e.g. compilers)      (*) as reported by 'uname -p', except on Windows and Mac OS X

CHECK results for customProDB on palomino3


To the developers/maintainers of the customProDB package:
- Allow up to 24 hours (and sometimes 48 hours) for your latest push to git@git.bioconductor.org:packages/customProDB.git to reflect on this report. See Troubleshooting Build Report for more information.

- Use the following Renviron settings to reproduce errors and warnings.

Note: If "R CMD check" recently failed on the Linux builder over a missing dependency, add the missing dependency to "Suggests" in your DESCRIPTION file. See the Renviron.bioc for details.

raw results

Package 473/2229HostnameOS / ArchINSTALLBUILDCHECKBUILD BIN
customProDB 1.40.0  (landing page)
Xiaojing Wang
Snapshot Date: 2023-05-26 14:00:16 -0400 (Fri, 26 May 2023)
git_url: https://git.bioconductor.org/packages/customProDB
git_branch: RELEASE_3_17
git_last_commit: 267665c
git_last_commit_date: 2023-04-25 10:27:25 -0400 (Tue, 25 Apr 2023)
nebbiolo1Linux (Ubuntu 22.04.2 LTS) / x86_64  OK    OK    OK  UNNEEDED, same version is already published
palomino3Windows Server 2022 Datacenter / x64  OK    OK    OK    OK  UNNEEDED, same version is already published
merida1macOS 12.6.4 Monterey / x86_64  OK    OK    OK    OK  UNNEEDED, same version is already published

Summary

Package: customProDB
Version: 1.40.0
Command: F:\biocbuild\bbs-3.17-bioc\R\bin\R.exe CMD check --no-multiarch --install=check:customProDB.install-out.txt --library=F:\biocbuild\bbs-3.17-bioc\R\library --no-vignettes --timings customProDB_1.40.0.tar.gz
StartedAt: 2023-05-27 01:07:11 -0400 (Sat, 27 May 2023)
EndedAt: 2023-05-27 01:12:06 -0400 (Sat, 27 May 2023)
EllapsedTime: 295.0 seconds
RetCode: 0
Status:   OK  
CheckDir: customProDB.Rcheck
Warnings: 0

Command output

##############################################################################
##############################################################################
###
### Running command:
###
###   F:\biocbuild\bbs-3.17-bioc\R\bin\R.exe CMD check --no-multiarch --install=check:customProDB.install-out.txt --library=F:\biocbuild\bbs-3.17-bioc\R\library --no-vignettes --timings customProDB_1.40.0.tar.gz
###
##############################################################################
##############################################################################


* using log directory 'F:/biocbuild/bbs-3.17-bioc/meat/customProDB.Rcheck'
* using R version 4.3.0 RC (2023-04-13 r84269 ucrt)
* using platform: x86_64-w64-mingw32 (64-bit)
* R was compiled by
    gcc.exe (GCC) 12.2.0
    GNU Fortran (GCC) 12.2.0
* running under: Windows Server 2022 x64 (build 20348)
* using session charset: UTF-8
* using option '--no-vignettes'
* checking for file 'customProDB/DESCRIPTION' ... OK
* checking extension type ... Package
* this is package 'customProDB' version '1.40.0'
* checking package namespace information ... OK
* checking package dependencies ... OK
* checking if this is a source package ... OK
* checking if there is a namespace ... OK
* checking for hidden files and directories ... OK
* checking for portable file names ... OK
* checking whether package 'customProDB' can be installed ... OK
* checking installed package size ... OK
* checking package directory ... OK
* checking 'build' directory ... OK
* checking DESCRIPTION meta-information ... OK
* checking top-level files ... OK
* checking for left-over files ... OK
* checking index information ... OK
* checking package subdirectories ... OK
* checking R files for non-ASCII characters ... OK
* checking R files for syntax errors ... OK
* checking whether the package can be loaded ... OK
* checking whether the package can be loaded with stated dependencies ... OK
* checking whether the package can be unloaded cleanly ... OK
* checking whether the namespace can be loaded with stated dependencies ... OK
* checking whether the namespace can be unloaded cleanly ... OK
* checking dependencies in R code ... NOTE
Unexported objects imported by ':::' calls:
  'biomaRt:::martBM' 'biomaRt:::martDataset' 'biomaRt:::martHost'
  See the note in ?`:::` about the use of this operator.
* checking S3 generic/method consistency ... OK
* checking replacement functions ... OK
* checking foreign function calls ... OK
* checking R code for possible problems ... NOTE
Bed2Range: no visible binding for global variable 'V5'
OutputNovelJun: no visible binding for global variable 'jun_type'
OutputVarproseq: no visible binding for global variable 'genename'
OutputVarproseq: no visible binding for global variable 'txname'
OutputVarproseq: no visible binding for global variable 'proname'
OutputVarproseq: no visible binding for global variable 'aaref'
OutputVarproseq: no visible binding for global variable 'aapos'
OutputVarproseq: no visible binding for global variable 'aavar'
OutputVarproseq: no visible binding for global variable 'rsid'
OutputVarproseq_single: no visible binding for global variable
  'genename'
OutputVarproseq_single: no visible binding for global variable 'txname'
OutputVarproseq_single: no visible binding for global variable
  'proname'
OutputVarproseq_single: no visible binding for global variable 'aaref'
OutputVarproseq_single: no visible binding for global variable 'aapos'
OutputVarproseq_single: no visible binding for global variable 'aavar'
OutputVarproseq_single: no visible binding for global variable 'rsid'
Outputaberrant: no visible binding for global variable 'pro_name'
Positionincoding: no visible binding for global variable 'cds_start'
Positionincoding: no visible binding for global variable 'cds_end'
PrepareAnnotationEnsembl: no visible binding for global variable
  'ensembl_gene_id'
PrepareAnnotationEnsembl: no visible binding for global variable
  'pro_name'
PrepareAnnotationEnsembl: no visible binding for global variable
  'chrom'
PrepareAnnotationEnsembl: no visible binding for global variable 'name'
PrepareAnnotationEnsembl: no visible binding for global variable
  'alleleCount'
PrepareAnnotationEnsembl: no visible binding for global variable
  'alleles'
PrepareAnnotationRefseq: no visible binding for global variable 'name'
PrepareAnnotationRefseq: no visible binding for global variable
  'mrnaAcc'
PrepareAnnotationRefseq: no visible binding for global variable
  'protAcc'
PrepareAnnotationRefseq: no visible binding for global variable
  'transcript'
PrepareAnnotationRefseq: no visible binding for global variable 'chrom'
PrepareAnnotationRefseq: no visible binding for global variable
  'alleleCount'
PrepareAnnotationRefseq: no visible binding for global variable
  'alleles'
PrepareAnnotationRefseq: no visible binding for global variable
  'COSMIC'
Varlocation: no visible binding for global variable 'pro_name'
Undefined global functions or variables:
  COSMIC V5 aapos aaref aavar alleleCount alleles cds_end cds_start
  chrom ensembl_gene_id genename jun_type mrnaAcc name pro_name proname
  protAcc rsid transcript txname
* checking Rd files ... OK
* checking Rd metadata ... OK
* checking Rd cross-references ... OK
* checking for missing documentation entries ... OK
* checking for code/documentation mismatches ... OK
* checking Rd \usage sections ... OK
* checking Rd contents ... OK
* checking for unstated dependencies in examples ... OK
* checking sizes of PDF files under 'inst/doc' ... OK
* checking files in 'vignettes' ... OK
* checking examples ... OK
Examples with CPU (user + system) or elapsed time > 5s
                         user system elapsed
PrepareAnnotationEnsembl  5.4   0.39   17.41
* checking for unstated dependencies in vignettes ... OK
* checking package vignettes in 'inst/doc' ... OK
* checking running R code from vignettes ... SKIPPED
* checking re-building of vignette outputs ... SKIPPED
* checking PDF version of manual ... OK
* DONE

Status: 2 NOTEs
See
  'F:/biocbuild/bbs-3.17-bioc/meat/customProDB.Rcheck/00check.log'
for details.



Installation output

customProDB.Rcheck/00install.out

##############################################################################
##############################################################################
###
### Running command:
###
###   F:\biocbuild\bbs-3.17-bioc\R\bin\R.exe CMD INSTALL customProDB
###
##############################################################################
##############################################################################


* installing to library 'F:/biocbuild/bbs-3.17-bioc/R/library'
* installing *source* package 'customProDB' ...
** using staged installation
** R
** inst
** byte-compile and prepare package for lazy loading
** help
*** installing help indices
** building package indices
** installing vignettes
** testing if installed package can be loaded from temporary location
** testing if installed package can be loaded from final location
** testing if installed package keeps a record of temporary installation path
* DONE (customProDB)

Tests output


Example timings

customProDB.Rcheck/customProDB-Ex.timings

nameusersystemelapsed
Bed2Range0.090.000.09
InputVcf0.690.050.75
JunctionType1.600.031.64
Multiple_VCF0.740.060.81
OutputNovelJun1.420.141.56
OutputVarprocodingseq0.600.030.65
OutputVarproseq0.500.050.55
OutputVarproseq_single0.500.020.51
Outputaberrant0.290.000.30
Outputproseq0.570.000.61
OutputsharedPro1.630.061.75
Positionincoding0.440.030.48
PrepareAnnotationEnsembl 5.40 0.3917.41
PrepareAnnotationRefseq000
SharedJunc0.500.000.51
Varlocation000
aaVariation0.520.000.52
calculateRPKM0.50.00.5
easyRun1.190.001.19
easyRun_mul2.570.072.64