Back to Multiple platform build/check report for BioC 3.17:   simplified   long
AB[C]DEFGHIJKLMNOPQRSTUVWXYZ

This page was generated on 2023-03-18 11:05:17 -0400 (Sat, 18 Mar 2023).

HostnameOSArch (*)R versionInstalled pkgs
nebbiolo1Linux (Ubuntu 22.04.1 LTS)x86_64R Under development (unstable) (2023-03-16 r83996) -- "Unsuffered Consequences" 4282
palomino3Windows Server 2022 Datacenterx64R Under development (unstable) (2023-03-15 r83984 ucrt) -- "Unsuffered Consequences" 4279
merida1macOS 10.14.6 Mojavex86_64R Under development (unstable) (2023-03-16 r83985) -- "Unsuffered Consequences" 4145
Click on any hostname to see more info about the system (e.g. compilers)      (*) as reported by 'uname -p', except on Windows and Mac OS X

BUILD results for consensusOV on palomino3


To the developers/maintainers of the consensusOV package:
- Please allow up to 24 hours (and sometimes 48 hours) for your latest push to git@git.bioconductor.org:packages/consensusOV.git to
reflect on this report. See How and When does the builder pull? When will my changes propagate? for more information.
- Make sure to use the following settings in order to reproduce any error or warning you see on this page.

raw results

Package 413/2189HostnameOS / ArchINSTALLBUILDCHECKBUILD BIN
consensusOV 1.21.0  (landing page)
Benjamin Haibe-Kains
Snapshot Date: 2023-03-17 14:27:35 -0400 (Fri, 17 Mar 2023)
git_url: https://git.bioconductor.org/packages/consensusOV
git_branch: master
git_last_commit: fe97b4b
git_last_commit_date: 2022-11-01 11:15:57 -0400 (Tue, 01 Nov 2022)
nebbiolo1Linux (Ubuntu 22.04.1 LTS) / x86_64  OK    OK    OK  UNNEEDED, same version is already published
palomino3Windows Server 2022 Datacenter / x64  OK    OK    OK    OK  UNNEEDED, same version is already published
merida1macOS 10.14.6 Mojave / x86_64  OK    OK    OK    OK  UNNEEDED, same version is already published

Summary

Package: consensusOV
Version: 1.21.0
Command: chmod a+r consensusOV -R && F:\biocbuild\bbs-3.17-bioc\R\bin\R.exe CMD build --keep-empty-dirs --no-resave-data consensusOV
StartedAt: 2023-03-17 18:17:58 -0400 (Fri, 17 Mar 2023)
EndedAt: 2023-03-17 18:20:16 -0400 (Fri, 17 Mar 2023)
EllapsedTime: 137.5 seconds
RetCode: 0
Status:   OK  
PackageFile: consensusOV_1.21.0.tar.gz
PackageFileSize: 3.168 MiB

Command output

##############################################################################
##############################################################################
###
### Running command:
###
###   chmod a+r consensusOV -R && F:\biocbuild\bbs-3.17-bioc\R\bin\R.exe CMD build --keep-empty-dirs --no-resave-data consensusOV
###
##############################################################################
##############################################################################


* checking for file 'consensusOV/DESCRIPTION' ... OK
* preparing 'consensusOV':
* checking DESCRIPTION meta-information ... OK
* installing the package to build vignettes
* creating vignettes ... OK
* checking for LF line-endings in source and make files and shell scripts
* checking for empty or unneeded directories
* building 'consensusOV_1.21.0.tar.gz'