Back to Multiple platform build/check report for BioC 3.17: simplified long |
|
This page was generated on 2023-03-20 11:04:56 -0400 (Mon, 20 Mar 2023).
Hostname | OS | Arch (*) | R version | Installed pkgs |
---|---|---|---|---|
nebbiolo1 | Linux (Ubuntu 22.04.1 LTS) | x86_64 | R Under development (unstable) (2023-03-16 r83996) -- "Unsuffered Consequences" | 4297 |
palomino3 | Windows Server 2022 Datacenter | x64 | R Under development (unstable) (2023-03-15 r83984 ucrt) -- "Unsuffered Consequences" | 4286 |
merida1 | macOS 10.14.6 Mojave | x86_64 | R Under development (unstable) (2023-03-16 r83985) -- "Unsuffered Consequences" | 4150 |
Click on any hostname to see more info about the system (e.g. compilers) (*) as reported by 'uname -p', except on Windows and Mac OS X |
To the developers/maintainers of the BSgenome package: - Please allow up to 24 hours (and sometimes 48 hours) for your latest push to git@git.bioconductor.org:packages/BSgenome.git to reflect on this report. See How and When does the builder pull? When will my changes propagate? for more information. - Make sure to use the following settings in order to reproduce any error or warning you see on this page. |
Package 239/2189 | Hostname | OS / Arch | INSTALL | BUILD | CHECK | BUILD BIN | ||||||||
BSgenome 1.67.4 (landing page) Hervé Pagès
| nebbiolo1 | Linux (Ubuntu 22.04.1 LTS) / x86_64 | OK | OK | WARNINGS | ![]() | ||||||||
palomino3 | Windows Server 2022 Datacenter / x64 | OK | OK | WARNINGS | OK | ![]() | ||||||||
merida1 | macOS 10.14.6 Mojave / x86_64 | OK | OK | WARNINGS | OK | ![]() | ||||||||
Package: BSgenome |
Version: 1.67.4 |
Command: /home/biocbuild/bbs-3.17-bioc/R/bin/R CMD build --keep-empty-dirs --no-resave-data BSgenome |
StartedAt: 2023-03-19 15:58:53 -0400 (Sun, 19 Mar 2023) |
EndedAt: 2023-03-19 16:00:30 -0400 (Sun, 19 Mar 2023) |
EllapsedTime: 96.5 seconds |
RetCode: 0 |
Status: OK |
PackageFile: BSgenome_1.67.4.tar.gz |
PackageFileSize: 5.635 MiB |
############################################################################## ############################################################################## ### ### Running command: ### ### /home/biocbuild/bbs-3.17-bioc/R/bin/R CMD build --keep-empty-dirs --no-resave-data BSgenome ### ############################################################################## ############################################################################## * checking for file ‘BSgenome/DESCRIPTION’ ... OK * preparing ‘BSgenome’: * checking DESCRIPTION meta-information ... OK * installing the package to build vignettes * creating vignettes ... OK * checking for LF line-endings in source and make files and shell scripts * checking for empty or unneeded directories WARNING: directory ‘BSgenome/inst/pkgtemplates/BSgenome_datapkg/inst/extdata’ is empty WARNING: directory ‘BSgenome/inst/pkgtemplates/MaskedBSgenome_datapkg/inst/extdata’ is empty * building ‘BSgenome_1.67.4.tar.gz’ Warning in utils::tar(filepath, pkgname, compression = compression, compression_level = 9L, : storing paths of more than 100 bytes is not portable: ‘BSgenome/inst/extdata/GentlemanLab/BSgenome.Gmellonella.NCBI.ASM364042v2-tools/fasta_to_sorted_2bit.R’