Back to Multiple platform build/check report for BioC 3.17:   simplified   long
AB[C]DEFGHIJKLMNOPQRSTUVWXYZ

This page was generated on 2023-03-20 11:05:36 -0400 (Mon, 20 Mar 2023).

HostnameOSArch (*)R versionInstalled pkgs
nebbiolo1Linux (Ubuntu 22.04.1 LTS)x86_64R Under development (unstable) (2023-03-16 r83996) -- "Unsuffered Consequences" 4297
palomino3Windows Server 2022 Datacenterx64R Under development (unstable) (2023-03-15 r83984 ucrt) -- "Unsuffered Consequences" 4286
merida1macOS 10.14.6 Mojavex86_64R Under development (unstable) (2023-03-16 r83985) -- "Unsuffered Consequences" 4150
Click on any hostname to see more info about the system (e.g. compilers)      (*) as reported by 'uname -p', except on Windows and Mac OS X

BUILD results for ChemmineOB on palomino3


To the developers/maintainers of the ChemmineOB package:
- Please allow up to 24 hours (and sometimes 48 hours) for your latest push to git@git.bioconductor.org:packages/ChemmineOB.git to
reflect on this report. See How and When does the builder pull? When will my changes propagate? for more information.
- Make sure to use the following settings in order to reproduce any error or warning you see on this page.

raw results

Package 312/2189HostnameOS / ArchINSTALLBUILDCHECKBUILD BIN
ChemmineOB 1.37.0  (landing page)
Thomas Girke
Snapshot Date: 2023-03-19 14:00:12 -0400 (Sun, 19 Mar 2023)
git_url: https://git.bioconductor.org/packages/ChemmineOB
git_branch: master
git_last_commit: db24c1f
git_last_commit_date: 2022-11-01 11:08:37 -0400 (Tue, 01 Nov 2022)
nebbiolo1Linux (Ubuntu 22.04.1 LTS) / x86_64  OK    OK    WARNINGS  UNNEEDED, same version is already published
palomino3Windows Server 2022 Datacenter / x64  OK    OK    WARNINGS    OK  UNNEEDED, same version is already published
merida1macOS 10.14.6 Mojave / x86_64  OK    OK    ERROR    OK  

Summary

Package: ChemmineOB
Version: 1.37.0
Command: chmod a+r ChemmineOB -R && F:\biocbuild\bbs-3.17-bioc\R\bin\R.exe CMD build --keep-empty-dirs --no-resave-data ChemmineOB
StartedAt: 2023-03-19 17:46:44 -0400 (Sun, 19 Mar 2023)
EndedAt: 2023-03-19 17:49:20 -0400 (Sun, 19 Mar 2023)
EllapsedTime: 156.5 seconds
RetCode: 0
Status:   OK  
PackageFile: ChemmineOB_1.37.0.tar.gz
PackageFileSize: 1.289 MiB

Command output

##############################################################################
##############################################################################
###
### Running command:
###
###   chmod a+r ChemmineOB -R && F:\biocbuild\bbs-3.17-bioc\R\bin\R.exe CMD build --keep-empty-dirs --no-resave-data ChemmineOB
###
##############################################################################
##############################################################################


* checking for file 'ChemmineOB/DESCRIPTION' ... OK
* preparing 'ChemmineOB':
* checking DESCRIPTION meta-information ... OK
* cleaning src
* installing the package to build vignettes
* creating vignettes ... OK
* cleaning src
* checking for LF line-endings in source and make files and shell scripts
* checking for empty or unneeded directories
* building 'ChemmineOB_1.37.0.tar.gz'
Warning: file 'ChemmineOB/cleanup' did not have execute permissions: corrected
Warning: file 'ChemmineOB/configure' did not have execute permissions: corrected