Back to Multiple platform build/check report for BioC 3.17:   simplified   long
AB[C]DEFGHIJKLMNOPQRSTUVWXYZ

This page was generated on 2023-04-01 11:05:15 -0400 (Sat, 01 Apr 2023).

HostnameOSArch (*)R versionInstalled pkgs
nebbiolo1Linux (Ubuntu 22.04.1 LTS)x86_64R Under development (unstable) (2023-03-16 r83996) -- "Unsuffered Consequences" 4551
palomino3Windows Server 2022 Datacenterx64R Under development (unstable) (2023-03-15 r83984 ucrt) -- "Unsuffered Consequences" 4312
merida1macOS 10.14.6 Mojavex86_64R Under development (unstable) (2023-03-16 r83985) -- "Unsuffered Consequences" 4309
Click on any hostname to see more info about the system (e.g. compilers)      (*) as reported by 'uname -p', except on Windows and Mac OS X

BUILD results for crisprViz on palomino3


To the developers/maintainers of the crisprViz package:
- Allow up to 24 hours (and sometimes 48 hours) for your latest push to git@git.bioconductor.org:packages/crisprViz.git to reflect on this report. See Troubleshooting Build Report for more information.

- Use the following Renviron settings to reproduce errors and warnings.

Note: If "R CMD check" recently failed on the Linux builder over a missing dependency, add the missing dependency to "Suggests" in your DESCRIPTION file. See the Renviron.bioc for details.

raw results

Package 452/2199HostnameOS / ArchINSTALLBUILDCHECKBUILD BIN
crisprViz 1.1.3  (landing page)
Jean-Philippe Fortin
Snapshot Date: 2023-03-31 14:00:12 -0400 (Fri, 31 Mar 2023)
git_url: https://git.bioconductor.org/packages/crisprViz
git_branch: devel
git_last_commit: cb79dac
git_last_commit_date: 2023-02-28 10:41:37 -0400 (Tue, 28 Feb 2023)
nebbiolo1Linux (Ubuntu 22.04.1 LTS) / x86_64  OK    OK    OK  UNNEEDED, same version is already published
palomino3Windows Server 2022 Datacenter / x64  OK    OK    OK    NA  
merida1macOS 10.14.6 Mojave / x86_64  OK    OK    OK    OK  UNNEEDED, same version is already published

Summary

Package: crisprViz
Version: 1.1.3
Command: chmod a+r crisprViz -R && F:\biocbuild\bbs-3.17-bioc\R\bin\R.exe CMD build --keep-empty-dirs --no-resave-data crisprViz
StartedAt: 2023-03-31 18:21:40 -0400 (Fri, 31 Mar 2023)
EndedAt: 2023-03-31 18:24:18 -0400 (Fri, 31 Mar 2023)
EllapsedTime: 158.4 seconds
RetCode: 0
Status:   OK  
PackageFile: crisprViz_1.1.3.tar.gz
PackageFileSize: 675.5 KiB

Command output

##############################################################################
##############################################################################
###
### Running command:
###
###   chmod a+r crisprViz -R && F:\biocbuild\bbs-3.17-bioc\R\bin\R.exe CMD build --keep-empty-dirs --no-resave-data crisprViz
###
##############################################################################
##############################################################################


* checking for file 'crisprViz/DESCRIPTION' ... OK
* preparing 'crisprViz':
* checking DESCRIPTION meta-information ... OK
* installing the package to build vignettes
* creating vignettes ... OK
* checking for LF line-endings in source and make files and shell scripts
* checking for empty or unneeded directories
* looking to see if a 'data/datalist' file should be added
* building 'crisprViz_1.1.3.tar.gz'