Back to Multiple platform build/check report for BioC 3.17:   simplified   long
ABCDEFGHIJKL[M]NOPQRSTUVWXYZ

This page was generated on 2023-03-29 11:06:22 -0400 (Wed, 29 Mar 2023).

HostnameOSArch (*)R versionInstalled pkgs
nebbiolo1Linux (Ubuntu 22.04.1 LTS)x86_64R Under development (unstable) (2023-03-16 r83996) -- "Unsuffered Consequences" 4547
palomino3Windows Server 2022 Datacenterx64R Under development (unstable) (2023-03-15 r83984 ucrt) -- "Unsuffered Consequences" 4308
merida1macOS 10.14.6 Mojavex86_64R Under development (unstable) (2023-03-16 r83985) -- "Unsuffered Consequences" 4301
Click on any hostname to see more info about the system (e.g. compilers)      (*) as reported by 'uname -p', except on Windows and Mac OS X

INSTALL results for methylKit on merida1


To the developers/maintainers of the methylKit package:
- Please allow up to 24 hours (and sometimes 48 hours) for your latest push to git@git.bioconductor.org:packages/methylKit.git to
reflect on this report. See How and When does the builder pull? When will my changes propagate? for more information.
- Make sure to use the following settings in order to reproduce any error or warning you see on this page.

raw results

Package 1184/2195HostnameOS / ArchINSTALLBUILDCHECKBUILD BIN
methylKit 1.25.0  (landing page)
Altuna Akalin , Alexander Gosdschan
Snapshot Date: 2023-03-28 14:00:22 -0400 (Tue, 28 Mar 2023)
git_url: https://git.bioconductor.org/packages/methylKit
git_branch: devel
git_last_commit: 9fdb2d6
git_last_commit_date: 2022-11-01 11:14:04 -0400 (Tue, 01 Nov 2022)
nebbiolo1Linux (Ubuntu 22.04.1 LTS) / x86_64  OK    OK    WARNINGS  UNNEEDED, same version is already published
palomino3Windows Server 2022 Datacenter / x64  OK    OK    WARNINGS    OK  UNNEEDED, same version is already published
merida1macOS 10.14.6 Mojave / x86_64  OK    OK    WARNINGS    OK  UNNEEDED, same version is already published

Summary

Package: methylKit
Version: 1.25.0
Command: /Library/Frameworks/R.framework/Resources/bin/R CMD INSTALL methylKit
StartedAt: 2023-03-28 15:29:59 -0400 (Tue, 28 Mar 2023)
EndedAt: 2023-03-28 15:33:01 -0400 (Tue, 28 Mar 2023)
EllapsedTime: 181.8 seconds
RetCode: 0
Status:   OK  

Command output

##############################################################################
##############################################################################
###
### Running command:
###
###   /Library/Frameworks/R.framework/Resources/bin/R CMD INSTALL methylKit
###
##############################################################################
##############################################################################


* installing to library ‘/Library/Frameworks/R.framework/Versions/4.3/Resources/library’
* installing *source* package ‘methylKit’ ...
** using staged installation
** libs
using C++ compiler: ‘Apple clang version 11.0.0 (clang-1100.0.33.17)’
using C++11
using SDK: ‘’
clang++ -mmacosx-version-min=10.13 -std=gnu++11 -I"/Library/Frameworks/R.framework/Resources/include" -DNDEBUG -D_FILE_OFFSET_BITS=64 -I'/Library/Frameworks/R.framework/Versions/4.3/Resources/library/Rcpp/include' -I'/Library/Frameworks/R.framework/Versions/4.3/Resources/library/Rhtslib/include' -I'/Library/Frameworks/R.framework/Versions/4.3/Resources/library/zlibbioc/include' -I/usr/local/include    -fPIC  -Wall -g -O2  -c RcppExports.cpp -o RcppExports.o
clang++ -mmacosx-version-min=10.13 -std=gnu++11 -I"/Library/Frameworks/R.framework/Resources/include" -DNDEBUG -D_FILE_OFFSET_BITS=64 -I'/Library/Frameworks/R.framework/Versions/4.3/Resources/library/Rcpp/include' -I'/Library/Frameworks/R.framework/Versions/4.3/Resources/library/Rhtslib/include' -I'/Library/Frameworks/R.framework/Versions/4.3/Resources/library/zlibbioc/include' -I/usr/local/include    -fPIC  -Wall -g -O2  -c methCall.cpp -o methCall.o
clang++ -mmacosx-version-min=10.13 -std=gnu++11 -dynamiclib -Wl,-headerpad_max_install_names -undefined dynamic_lookup -single_module -multiply_defined suppress -L/Library/Frameworks/R.framework/Resources/lib -L/usr/local/lib -o methylKit.so RcppExports.o methCall.o /Library/Frameworks/R.framework/Versions/4.3/Resources/library/Rhtslib/usrlib/libhts.a -lcurl -F/Library/Frameworks/R.framework/.. -framework R -Wl,-framework -Wl,CoreFoundation
installing to /Library/Frameworks/R.framework/Versions/4.3/Resources/library/00LOCK-methylKit/00new/methylKit/libs
** R
** data
** inst
** byte-compile and prepare package for lazy loading
** help
*** installing help indices
** building package indices
** installing vignettes
** testing if installed package can be loaded from temporary location
** checking absolute paths in shared objects and dynamic libraries
** testing if installed package can be loaded from final location
** testing if installed package keeps a record of temporary installation path
* DONE (methylKit)