Back to Multiple platform build/check report for BioC 3.17:   simplified   long
ABCDEFGHIJKL[M]NOPQRSTUVWXYZ

This page was generated on 2023-03-24 11:07:00 -0400 (Fri, 24 Mar 2023).

HostnameOSArch (*)R versionInstalled pkgs
nebbiolo1Linux (Ubuntu 22.04.1 LTS)x86_64R Under development (unstable) (2023-03-16 r83996) -- "Unsuffered Consequences" 4546
palomino3Windows Server 2022 Datacenterx64R Under development (unstable) (2023-03-15 r83984 ucrt) -- "Unsuffered Consequences" 4307
merida1macOS 10.14.6 Mojavex86_64R Under development (unstable) (2023-03-16 r83985) -- "Unsuffered Consequences" 4299
Click on any hostname to see more info about the system (e.g. compilers)      (*) as reported by 'uname -p', except on Windows and Mac OS X

BUILD BIN results for musicatk on merida1


To the developers/maintainers of the musicatk package:
- Please allow up to 24 hours (and sometimes 48 hours) for your latest push to git@git.bioconductor.org:packages/musicatk.git to
reflect on this report. See How and When does the builder pull? When will my changes propagate? for more information.
- Make sure to use the following settings in order to reproduce any error or warning you see on this page.

raw results

Package 1326/2195HostnameOS / ArchINSTALLBUILDCHECKBUILD BIN
musicatk 1.9.0  (landing page)
Aaron Chevalier
Snapshot Date: 2023-03-23 14:00:15 -0400 (Thu, 23 Mar 2023)
git_url: https://git.bioconductor.org/packages/musicatk
git_branch: devel
git_last_commit: 69829e2
git_last_commit_date: 2022-11-01 11:23:15 -0400 (Tue, 01 Nov 2022)
nebbiolo1Linux (Ubuntu 22.04.1 LTS) / x86_64  OK    OK    OK  NO, package depends on 'TCGAbiolinks' which is not available
palomino3Windows Server 2022 Datacenter / x64  OK    OK    OK    OK  UNNEEDED, same version is already published
merida1macOS 10.14.6 Mojave / x86_64  OK    OK    OK    OK  UNNEEDED, same version is already published

Summary

Package: musicatk
Version: 1.9.0
Command: rm -rf musicatk.buildbin-libdir && mkdir musicatk.buildbin-libdir && /Users/biocbuild/BBS/utils/build-universal.sh musicatk_1.9.0.tar.gz /Library/Frameworks/R.framework/Resources/bin/R musicatk.buildbin-libdir
StartedAt: 2023-03-24 09:36:08 -0400 (Fri, 24 Mar 2023)
EndedAt: 2023-03-24 09:38:43 -0400 (Fri, 24 Mar 2023)
EllapsedTime: 155.2 seconds
RetCode: 0
Status:   OK  
PackageFile: musicatk_1.9.0.tgz
PackageFileSize: 3.648 MiB

Command output

##############################################################################
##############################################################################
###
### Running command:
###
###   rm -rf musicatk.buildbin-libdir && mkdir musicatk.buildbin-libdir && /Users/biocbuild/BBS/utils/build-universal.sh musicatk_1.9.0.tar.gz /Library/Frameworks/R.framework/Resources/bin/R musicatk.buildbin-libdir
###
##############################################################################
##############################################################################


>>>>>>> 
>>>>>>> INSTALLATION WITH 'R CMD INSTALL --preclean --no-multiarch --library=musicatk.buildbin-libdir musicatk_1.9.0.tar.gz'
>>>>>>> 

* installing *source* package ‘musicatk’ ...
** using staged installation
** R
** data
*** moving datasets to lazyload DB
** inst
** byte-compile and prepare package for lazy loading
** help
*** installing help indices
** building package indices
** installing vignettes
** testing if installed package can be loaded from temporary location
** testing if installed package can be loaded from final location
** testing if installed package keeps a record of temporary installation path
* DONE (musicatk)