Back to Multiple platform build/check report for BioC 3.17:   simplified   long
ABCDEFGHIJKLMNOPQRS[T]UVWXYZ

This page was generated on 2023-03-23 11:05:35 -0400 (Thu, 23 Mar 2023).

HostnameOSArch (*)R versionInstalled pkgs
nebbiolo1Linux (Ubuntu 22.04.1 LTS)x86_64R Under development (unstable) (2023-03-16 r83996) -- "Unsuffered Consequences" 4536
palomino3Windows Server 2022 Datacenterx64R Under development (unstable) (2023-03-15 r83984 ucrt) -- "Unsuffered Consequences" 4298
merida1macOS 10.14.6 Mojavex86_64R Under development (unstable) (2023-03-16 r83985) -- "Unsuffered Consequences" 4290
Click on any hostname to see more info about the system (e.g. compilers)      (*) as reported by 'uname -p', except on Windows and Mac OS X

INSTALL results for TBSignatureProfiler on nebbiolo1


To the developers/maintainers of the TBSignatureProfiler package:
- Please allow up to 24 hours (and sometimes 48 hours) for your latest push to git@git.bioconductor.org:packages/TBSignatureProfiler.git to
reflect on this report. See How and When does the builder pull? When will my changes propagate? for more information.
- Make sure to use the following settings in order to reproduce any error or warning you see on this page.

raw results

Package 2036/2189HostnameOS / ArchINSTALLBUILDCHECKBUILD BIN
TBSignatureProfiler 1.11.2  (landing page)
Aubrey R. Odom-Mabey
Snapshot Date: 2023-03-22 14:00:17 -0400 (Wed, 22 Mar 2023)
git_url: https://git.bioconductor.org/packages/TBSignatureProfiler
git_branch: devel
git_last_commit: bb706b9
git_last_commit_date: 2023-02-13 12:25:51 -0400 (Mon, 13 Feb 2023)
nebbiolo1Linux (Ubuntu 22.04.1 LTS) / x86_64  OK    OK    ERROR  
palomino3Windows Server 2022 Datacenter / x64  OK    OK    OK    OK  UNNEEDED, same version is already published
merida1macOS 10.14.6 Mojave / x86_64  OK    OK    OK    OK  UNNEEDED, same version is already published

Summary

Package: TBSignatureProfiler
Version: 1.11.2
Command: /home/biocbuild/bbs-3.17-bioc/R/bin/R CMD INSTALL TBSignatureProfiler
StartedAt: 2023-03-22 15:56:43 -0400 (Wed, 22 Mar 2023)
EndedAt: 2023-03-22 15:56:48 -0400 (Wed, 22 Mar 2023)
EllapsedTime: 4.6 seconds
RetCode: 0
Status:   OK  

Command output

##############################################################################
##############################################################################
###
### Running command:
###
###   /home/biocbuild/bbs-3.17-bioc/R/bin/R CMD INSTALL TBSignatureProfiler
###
##############################################################################
##############################################################################


* installing to library ‘/home/biocbuild/bbs-3.17-bioc/R/site-library’
* installing *source* package ‘TBSignatureProfiler’ ...
** using staged installation
** R
** data
*** moving datasets to lazyload DB
** inst
** byte-compile and prepare package for lazy loading
** help
*** installing help indices
** building package indices
** installing vignettes
** testing if installed package can be loaded from temporary location
** testing if installed package can be loaded from final location
** testing if installed package keeps a record of temporary installation path
* DONE (TBSignatureProfiler)