Back to Multiple platform build/check report for BioC 3.17:   simplified   long
ABCDEFGHIJKLMNOPQ[R]STUVWXYZ

This page was generated on 2023-05-27 11:06:10 -0400 (Sat, 27 May 2023).

HostnameOSArch (*)R versionInstalled pkgs
nebbiolo1Linux (Ubuntu 22.04.2 LTS)x86_644.3.0 RC (2023-04-13 r84269) -- "Already Tomorrow" 4617
palomino3Windows Server 2022 Datacenterx644.3.0 RC (2023-04-13 r84269 ucrt) -- "Already Tomorrow" 4368
merida1macOS 12.6.4 Montereyx86_644.3.0 RC (2023-04-13 r84257) -- "Already Tomorrow" 4326
Click on any hostname to see more info about the system (e.g. compilers)      (*) as reported by 'uname -p', except on Windows and Mac OS X

BUILD results for recountmethylation on palomino3


To the developers/maintainers of the recountmethylation package:
- Allow up to 24 hours (and sometimes 48 hours) for your latest push to git@git.bioconductor.org:packages/recountmethylation.git to reflect on this report. See Troubleshooting Build Report for more information.

- Use the following Renviron settings to reproduce errors and warnings.

Note: If "R CMD check" recently failed on the Linux builder over a missing dependency, add the missing dependency to "Suggests" in your DESCRIPTION file. See the Renviron.bioc for details.

raw results

Package 1671/2229HostnameOS / ArchINSTALLBUILDCHECKBUILD BIN
recountmethylation 1.10.0  (landing page)
Sean K Maden
Snapshot Date: 2023-05-26 14:00:16 -0400 (Fri, 26 May 2023)
git_url: https://git.bioconductor.org/packages/recountmethylation
git_branch: RELEASE_3_17
git_last_commit: 57ba2f4
git_last_commit_date: 2023-04-25 11:22:23 -0400 (Tue, 25 Apr 2023)
nebbiolo1Linux (Ubuntu 22.04.2 LTS) / x86_64  OK    OK    ERROR  
palomino3Windows Server 2022 Datacenter / x64  OK    OK    OK    OK  UNNEEDED, same version is already published
merida1macOS 12.6.4 Monterey / x86_64  OK    OK    OK    OK  NO, package depends on 'basilisk' which is not available

Summary

Package: recountmethylation
Version: 1.10.0
Command: chmod a+r recountmethylation -R && F:\biocbuild\bbs-3.17-bioc\R\bin\R.exe CMD build --keep-empty-dirs --no-resave-data recountmethylation
StartedAt: 2023-05-26 21:34:23 -0400 (Fri, 26 May 2023)
EndedAt: 2023-05-26 21:36:37 -0400 (Fri, 26 May 2023)
EllapsedTime: 134.2 seconds
RetCode: 0
Status:   OK  
PackageFile: recountmethylation_1.10.0.tar.gz
PackageFileSize: 4.691 MiB

Command output

##############################################################################
##############################################################################
###
### Running command:
###
###   chmod a+r recountmethylation -R && F:\biocbuild\bbs-3.17-bioc\R\bin\R.exe CMD build --keep-empty-dirs --no-resave-data recountmethylation
###
##############################################################################
##############################################################################


* checking for file 'recountmethylation/DESCRIPTION' ... OK
* preparing 'recountmethylation':
* checking DESCRIPTION meta-information ... OK
* installing the package to build vignettes
* creating vignettes ... OK
* checking for LF line-endings in source and make files and shell scripts
* checking for empty or unneeded directories
Omitted 'LazyData' from DESCRIPTION
* building 'recountmethylation_1.10.0.tar.gz'