Back to Multiple platform build/check report for BioC 3.17:   simplified   long
AB[C]DEFGHIJKLMNOPQRSTUVWXYZ

This page was generated on 2023-03-29 11:05:19 -0400 (Wed, 29 Mar 2023).

HostnameOSArch (*)R versionInstalled pkgs
nebbiolo1Linux (Ubuntu 22.04.1 LTS)x86_64R Under development (unstable) (2023-03-16 r83996) -- "Unsuffered Consequences" 4547
palomino3Windows Server 2022 Datacenterx64R Under development (unstable) (2023-03-15 r83984 ucrt) -- "Unsuffered Consequences" 4308
merida1macOS 10.14.6 Mojavex86_64R Under development (unstable) (2023-03-16 r83985) -- "Unsuffered Consequences" 4301
Click on any hostname to see more info about the system (e.g. compilers)      (*) as reported by 'uname -p', except on Windows and Mac OS X

BUILD BIN results for CexoR on palomino3


To the developers/maintainers of the CexoR package:
- Please allow up to 24 hours (and sometimes 48 hours) for your latest push to git@git.bioconductor.org:packages/CexoR.git to
reflect on this report. See How and When does the builder pull? When will my changes propagate? for more information.
- Make sure to use the following settings in order to reproduce any error or warning you see on this page.

raw results

Package 302/2195HostnameOS / ArchINSTALLBUILDCHECKBUILD BIN
CexoR 1.37.0  (landing page)
Pedro Madrigal
Snapshot Date: 2023-03-28 14:00:22 -0400 (Tue, 28 Mar 2023)
git_url: https://git.bioconductor.org/packages/CexoR
git_branch: devel
git_last_commit: cddc347
git_last_commit_date: 2022-11-01 11:25:46 -0400 (Tue, 01 Nov 2022)
nebbiolo1Linux (Ubuntu 22.04.1 LTS) / x86_64  OK    OK    OK  UNNEEDED, same version is already published
palomino3Windows Server 2022 Datacenter / x64  OK    OK    OK    OK  UNNEEDED, same version is already published
merida1macOS 10.14.6 Mojave / x86_64  OK    OK    OK    OK  UNNEEDED, same version is already published

Summary

Package: CexoR
Version: 1.37.0
Command: rm -rf CexoR.buildbin-libdir && mkdir CexoR.buildbin-libdir && F:\biocbuild\bbs-3.17-bioc\R\bin\R.exe CMD INSTALL --build --library=CexoR.buildbin-libdir CexoR_1.37.0.tar.gz
StartedAt: 2023-03-29 06:38:00 -0400 (Wed, 29 Mar 2023)
EndedAt: 2023-03-29 06:38:42 -0400 (Wed, 29 Mar 2023)
EllapsedTime: 41.8 seconds
RetCode: 0
Status:   OK  
PackageFile: CexoR_1.37.0.zip
PackageFileSize: 1.698 MiB

Command output

##############################################################################
##############################################################################
###
### Running command:
###
###   rm -rf CexoR.buildbin-libdir && mkdir CexoR.buildbin-libdir && F:\biocbuild\bbs-3.17-bioc\R\bin\R.exe CMD INSTALL --build --library=CexoR.buildbin-libdir CexoR_1.37.0.tar.gz
###
##############################################################################
##############################################################################


* installing *source* package 'CexoR' ...
** using staged installation
** R
** inst
** byte-compile and prepare package for lazy loading
Warning: replacing previous import 'Biostrings::pattern' by 'grid::pattern' when loading 'genomation'
** help
*** installing help indices
** building package indices
** installing vignettes
** testing if installed package can be loaded from temporary location
Warning: replacing previous import 'Biostrings::pattern' by 'grid::pattern' when loading 'genomation'
** testing if installed package can be loaded from final location
Warning: replacing previous import 'Biostrings::pattern' by 'grid::pattern' when loading 'genomation'
** testing if installed package keeps a record of temporary installation path
* MD5 sums
packaged installation of 'CexoR' as CexoR_1.37.0.zip
* DONE (CexoR)