Back to Multiple platform build/check report for BioC 3.17: simplified long |
|
This page was generated on 2023-06-08 11:05:20 -0400 (Thu, 08 Jun 2023).
Hostname | OS | Arch (*) | R version | Installed pkgs |
---|---|---|---|---|
nebbiolo1 | Linux (Ubuntu 22.04.2 LTS) | x86_64 | 4.3.0 RC (2023-04-13 r84269) -- "Already Tomorrow" | 4628 |
palomino3 | Windows Server 2022 Datacenter | x64 | 4.3.0 RC (2023-04-13 r84269 ucrt) -- "Already Tomorrow" | 4379 |
merida1 | macOS 12.6.4 Monterey | x86_64 | 4.3.0 RC (2023-04-13 r84257) -- "Already Tomorrow" | 4385 |
Click on any hostname to see more info about the system (e.g. compilers) (*) as reported by 'uname -p', except on Windows and Mac OS X |
To the developers/maintainers of the DMRcate package: - Allow up to 24 hours (and sometimes 48 hours) for your latest push to git@git.bioconductor.org:packages/DMRcate.git to reflect on this report. See Troubleshooting Build Report for more information. - Use the following Renviron settings to reproduce errors and warnings. - If 'R CMD check' started to fail recently on the Linux builder(s) over a missing dependency, add the missing dependency to 'Suggests:' in your DESCRIPTION file. See Renviron.bioc for more information. |
Package 572/2229 | Hostname | OS / Arch | INSTALL | BUILD | CHECK | BUILD BIN | ||||||||
DMRcate 2.14.0 (landing page) Tim Peters
| nebbiolo1 | Linux (Ubuntu 22.04.2 LTS) / x86_64 | OK | OK | OK | ![]() | ||||||||
palomino3 | Windows Server 2022 Datacenter / x64 | OK | OK | TIMEOUT | OK | |||||||||
merida1 | macOS 12.6.4 Monterey / x86_64 | OK | OK | TIMEOUT | OK | |||||||||
Package: DMRcate |
Version: 2.14.0 |
Command: /home/biocbuild/bbs-3.17-bioc/R/bin/R CMD check --install=check:DMRcate.install-out.txt --library=/home/biocbuild/bbs-3.17-bioc/R/site-library --timings DMRcate_2.14.0.tar.gz |
StartedAt: 2023-06-07 20:46:43 -0400 (Wed, 07 Jun 2023) |
EndedAt: 2023-06-07 21:22:59 -0400 (Wed, 07 Jun 2023) |
EllapsedTime: 2176.4 seconds |
RetCode: 0 |
Status: OK |
CheckDir: DMRcate.Rcheck |
Warnings: 0 |
############################################################################## ############################################################################## ### ### Running command: ### ### /home/biocbuild/bbs-3.17-bioc/R/bin/R CMD check --install=check:DMRcate.install-out.txt --library=/home/biocbuild/bbs-3.17-bioc/R/site-library --timings DMRcate_2.14.0.tar.gz ### ############################################################################## ############################################################################## * using log directory ‘/home/biocbuild/bbs-3.17-bioc/meat/DMRcate.Rcheck’ * using R version 4.3.0 RC (2023-04-13 r84269) * using platform: x86_64-pc-linux-gnu (64-bit) * R was compiled by gcc (Ubuntu 11.3.0-1ubuntu1~22.04) 11.3.0 GNU Fortran (Ubuntu 11.3.0-1ubuntu1~22.04) 11.3.0 * running under: Ubuntu 22.04.2 LTS * using session charset: UTF-8 * checking for file ‘DMRcate/DESCRIPTION’ ... OK * this is package ‘DMRcate’ version ‘2.14.0’ * checking package namespace information ... OK * checking package dependencies ... OK * checking if this is a source package ... OK * checking if there is a namespace ... OK * checking for hidden files and directories ... OK * checking for portable file names ... OK * checking for sufficient/correct file permissions ... OK * checking whether package ‘DMRcate’ can be installed ... OK * checking installed package size ... OK * checking package directory ... OK * checking ‘build’ directory ... OK * checking DESCRIPTION meta-information ... OK * checking top-level files ... OK * checking for left-over files ... OK * checking index information ... OK * checking package subdirectories ... NOTE Problems with news in ‘NEWS’: Cannot process chunk/lines: BUG FIXES • annotate() renamed to cpg.annotate to avoid clashes with same-named function in ggplot2 Cannot process chunk/lines: NEW FEATURES • Kernel estimator has been rewritten from scratch without the need for ks:::kde. Now only takes moderated t-values as cpg weights, as required by the chi-square transformation. • Now allows for multi-level factor experiments, as allowed by limma. Contrasts should be specified with a contrast matrix, otherwise the design matrix MUST have an intercept. (Thanks to Tim Triche Jr. and David Martino for their advice). • A GRanges object can be produced from the results. • XY probes can also be filtered out using rmSNPandCH(). • DMR.plot() allows group median lines to be plotted to better visualise distances between groups (Thanks to Susan van Dijk and Magnus Tobiasson for their advice). * checking R files for non-ASCII characters ... OK * checking R files for syntax errors ... OK * checking whether the package can be loaded ... OK * checking whether the package can be loaded with stated dependencies ... OK * checking whether the package can be unloaded cleanly ... OK * checking whether the namespace can be loaded with stated dependencies ... OK * checking whether the namespace can be unloaded cleanly ... OK * checking loading without being on the library search path ... OK * checking dependencies in R code ... OK * checking S3 generic/method consistency ... OK * checking replacement functions ... OK * checking foreign function calls ... OK * checking R code for possible problems ... OK * checking Rd files ... OK * checking Rd metadata ... OK * checking Rd cross-references ... OK * checking for missing documentation entries ... OK * checking for code/documentation mismatches ... OK * checking Rd \usage sections ... OK * checking Rd contents ... OK * checking for unstated dependencies in examples ... OK * checking files in ‘vignettes’ ... OK * checking examples ... OK Examples with CPU (user + system) or elapsed time > 5s user system elapsed DMR.plot 174.216 11.921 196.001 DMRcate-package 136.359 7.916 146.070 cpg.annotate 115.547 7.385 123.913 extractRanges 117.188 4.959 123.494 dmrcate 117.138 4.804 122.951 rmSNPandCH 109.206 3.919 113.966 changeFDR 53.287 9.643 63.292 sequencing.annotate 46.017 8.084 54.389 * checking for unstated dependencies in vignettes ... OK * checking package vignettes in ‘inst/doc’ ... OK * checking running R code from vignettes ... ‘DMRcate.Rnw’... OK NONE * checking re-building of vignette outputs ... OK * checking PDF version of manual ... OK * DONE Status: 1 NOTE See ‘/home/biocbuild/bbs-3.17-bioc/meat/DMRcate.Rcheck/00check.log’ for details.
DMRcate.Rcheck/00install.out
############################################################################## ############################################################################## ### ### Running command: ### ### /home/biocbuild/bbs-3.17-bioc/R/bin/R CMD INSTALL DMRcate ### ############################################################################## ############################################################################## * installing to library ‘/home/biocbuild/bbs-3.17-bioc/R/site-library’ * installing *source* package ‘DMRcate’ ... ** using staged installation ** R ** inst ** byte-compile and prepare package for lazy loading ** help *** installing help indices ** building package indices ** installing vignettes ** testing if installed package can be loaded from temporary location ** testing if installed package can be loaded from final location ** testing if installed package keeps a record of temporary installation path * DONE (DMRcate)
DMRcate.Rcheck/DMRcate-Ex.timings
name | user | system | elapsed | |
DMR.plot | 174.216 | 11.921 | 196.001 | |
DMRcate-package | 136.359 | 7.916 | 146.070 | |
changeFDR | 53.287 | 9.643 | 63.292 | |
cpg.annotate | 115.547 | 7.385 | 123.913 | |
dmrcate | 117.138 | 4.804 | 122.951 | |
extractRanges | 117.188 | 4.959 | 123.494 | |
rmSNPandCH | 109.206 | 3.919 | 113.966 | |
sequencing.annotate | 46.017 | 8.084 | 54.389 | |