Back to Multiple platform build/check report for BioC 3.17:   simplified   long
A[B]CDEFGHIJKLMNOPQRSTUVWXYZ

This page was generated on 2023-06-08 11:04:19 -0400 (Thu, 08 Jun 2023).

HostnameOSArch (*)R versionInstalled pkgs
nebbiolo1Linux (Ubuntu 22.04.2 LTS)x86_644.3.0 RC (2023-04-13 r84269) -- "Already Tomorrow" 4628
palomino3Windows Server 2022 Datacenterx644.3.0 RC (2023-04-13 r84269 ucrt) -- "Already Tomorrow" 4379
merida1macOS 12.6.4 Montereyx86_644.3.0 RC (2023-04-13 r84257) -- "Already Tomorrow" 4385
Click on any hostname to see more info about the system (e.g. compilers)      (*) as reported by 'uname -p', except on Windows and Mac OS X

All results for package BiocGenerics


To the developers/maintainers of the BiocGenerics package:
- Allow up to 24 hours (and sometimes 48 hours) for your latest push to git@git.bioconductor.org:packages/BiocGenerics.git to reflect on this report. See Troubleshooting Build Report for more information.
- Use the following Renviron settings to reproduce errors and warnings.
- If 'R CMD check' started to fail recently on the Linux builder(s) over a missing dependency, add the missing dependency to 'Suggests:' in your DESCRIPTION file. See Renviron.bioc for more information.

raw results

Package 176/2229HostnameOS / ArchINSTALLBUILDCHECKBUILD BIN
BiocGenerics 0.46.0  (landing page)
Hervé Pagès
Snapshot Date: 2023-06-07 14:00:16 -0400 (Wed, 07 Jun 2023)
git_url: https://git.bioconductor.org/packages/BiocGenerics
git_branch: RELEASE_3_17
git_last_commit: a90f0c5
git_last_commit_date: 2023-04-25 10:21:52 -0400 (Tue, 25 Apr 2023)
nebbiolo1Linux (Ubuntu 22.04.2 LTS) / x86_64  OK    OK    WARNINGS  UNNEEDED, same version is already published
palomino3Windows Server 2022 Datacenter / x64  OK    OK    WARNINGS    OK  UNNEEDED, same version is already published
merida1macOS 12.6.4 Monterey / x86_64  OK    OK    WARNINGS    OK  UNNEEDED, same version is already published

Results for Bioconductor software packages that depend directly on package BiocGenerics

QUICK STATSOS / ArchINSTALLBUILDCHECKBUILD BIN
nebbiolo1Linux (Ubuntu 22.04.2 LTS) / x86_64
04475
011468
035124309
palomino3Windows Server 2022 Datacenter / x64
02466
012456
018120318
00456
merida1macOS 12.6.4 Monterey / x86_64
08467
016459
617117319
01458
Package 1/480HostnameOS / ArchINSTALLBUILDCHECKBUILD BIN
a4Preproc 1.48.0  (landing page)
Laure Cougnaud
git_last_commit: d3bf8b8
git_last_commit_date: 2023-04-25 10:19:30 -0400
nebbiolo1Linux (Ubuntu 22.04.2 LTS) / x86_64  OK    OK    OK  UNNEEDED, same version is already published
palomino3Windows Server 2022 Datacenter / x64  OK    OK    OK    OK  UNNEEDED, same version is already published
merida1macOS 12.6.4 Monterey / x86_64  OK    OK    OK    OK  UNNEEDED, same version is already published
Package 2/480HostnameOS / ArchINSTALLBUILDCHECKBUILD BIN
ACME 2.56.0  (landing page)
Sean Davis
git_last_commit: 083af12
git_last_commit_date: 2023-04-25 09:45:10 -0400
nebbiolo1Linux (Ubuntu 22.04.2 LTS) / x86_64  OK    OK    WARNINGS  UNNEEDED, same version is already published
palomino3Windows Server 2022 Datacenter / x64  OK    OK    WARNINGS    OK  UNNEEDED, same version is already published
merida1macOS 12.6.4 Monterey / x86_64  OK    OK    OK    OK  UNNEEDED, same version is already published
Package 3/480HostnameOS / ArchINSTALLBUILDCHECKBUILD BIN
affy 1.78.0  (landing page)
Rafael A. Irizarry
git_last_commit: cc7eac3
git_last_commit_date: 2023-04-25 09:38:42 -0400
nebbiolo1Linux (Ubuntu 22.04.2 LTS) / x86_64  OK    OK    ERROR  
palomino3Windows Server 2022 Datacenter / x64  OK    OK    WARNINGS    OK  UNNEEDED, same version is already published
merida1macOS 12.6.4 Monterey / x86_64  OK    OK    WARNINGS    OK  UNNEEDED, same version is already published
Package 4/480HostnameOS / ArchINSTALLBUILDCHECKBUILD BIN
affycoretools 1.72.0  (landing page)
James W. MacDonald
git_last_commit: 229ae09
git_last_commit_date: 2023-04-25 09:42:43 -0400
nebbiolo1Linux (Ubuntu 22.04.2 LTS) / x86_64  OK    OK    OK  UNNEEDED, same version is already published
palomino3Windows Server 2022 Datacenter / x64  OK    OK    OK    OK  UNNEEDED, same version is already published
merida1macOS 12.6.4 Monterey / x86_64  OK    OK    OK    OK  NO, package depends on 'ReportingTools' which is not available
Package 5/480HostnameOS / ArchINSTALLBUILDCHECKBUILD BIN
affylmGUI 1.74.0  (landing page)
Gordon Smyth
git_last_commit: 060770a
git_last_commit_date: 2023-04-25 09:40:14 -0400
nebbiolo1Linux (Ubuntu 22.04.2 LTS) / x86_64  OK    OK    OK  UNNEEDED, same version is already published
palomino3Windows Server 2022 Datacenter / x64  OK    OK    OK    OK  UNNEEDED, same version is already published
merida1macOS 12.6.4 Monterey / x86_64  OK    OK    OK    OK  UNNEEDED, same version is already published
Package 6/480HostnameOS / ArchINSTALLBUILDCHECKBUILD BIN
affyPLM 1.76.1  (landing page)
Ben Bolstad
git_last_commit: d20fa58
git_last_commit_date: 2023-05-01 20:07:56 -0400
nebbiolo1Linux (Ubuntu 22.04.2 LTS) / x86_64  OK    OK    ERROR  
palomino3Windows Server 2022 Datacenter / x64  OK    OK    WARNINGS    OK  UNNEEDED, same version is already published
merida1macOS 12.6.4 Monterey / x86_64  OK    OK    OK    OK  UNNEEDED, same version is already published
Package 7/480HostnameOS / ArchINSTALLBUILDCHECKBUILD BIN
alabaster.bumpy 1.0.0  (landing page)
Aaron Lun
git_last_commit: da9aa0c
git_last_commit_date: 2023-04-25 11:43:01 -0400
nebbiolo1Linux (Ubuntu 22.04.2 LTS) / x86_64  OK    OK    OK  UNNEEDED, same version is already published
palomino3Windows Server 2022 Datacenter / x64  OK    OK    OK    OK  UNNEEDED, same version is already published
merida1macOS 12.6.4 Monterey / x86_64  OK    OK    OK    OK  UNNEEDED, same version is already published
Package 8/480HostnameOS / ArchINSTALLBUILDCHECKBUILD BIN
alabaster.ranges 1.0.0  (landing page)
Aaron Lun
git_last_commit: 45e963a
git_last_commit_date: 2023-04-25 11:42:47 -0400
nebbiolo1Linux (Ubuntu 22.04.2 LTS) / x86_64  OK    OK    OK  UNNEEDED, same version is already published
palomino3Windows Server 2022 Datacenter / x64  OK    OK    OK    OK  UNNEEDED, same version is already published
merida1macOS 12.6.4 Monterey / x86_64  OK    OK    OK    OK  UNNEEDED, same version is already published
Package 9/480HostnameOS / ArchINSTALLBUILDCHECKBUILD BIN
alabaster.se 1.0.0  (landing page)
Aaron Lun
git_last_commit: e7fc40c
git_last_commit_date: 2023-04-25 11:42:52 -0400
nebbiolo1Linux (Ubuntu 22.04.2 LTS) / x86_64  OK    OK    OK  UNNEEDED, same version is already published
palomino3Windows Server 2022 Datacenter / x64  OK    OK    OK    OK  UNNEEDED, same version is already published
merida1macOS 12.6.4 Monterey / x86_64  OK    OK    OK    OK  UNNEEDED, same version is already published
Package 10/480HostnameOS / ArchINSTALLBUILDCHECKBUILD BIN
AllelicImbalance 1.38.0  (landing page)
Jesper R Gadin
git_last_commit: 75a3b0f
git_last_commit_date: 2023-04-25 10:28:56 -0400
nebbiolo1Linux (Ubuntu 22.04.2 LTS) / x86_64  OK    OK    OK  UNNEEDED, same version is already published
palomino3Windows Server 2022 Datacenter / x64  OK    OK    OK    OK  UNNEEDED, same version is already published
merida1macOS 12.6.4 Monterey / x86_64  OK    OK    OK    OK  UNNEEDED, same version is already published
Package 11/480HostnameOS / ArchINSTALLBUILDCHECKBUILD BIN
altcdfenvs 2.62.0  (landing page)
Laurent Gautier
git_last_commit: aedf0e9
git_last_commit_date: 2023-04-25 09:40:05 -0400
nebbiolo1Linux (Ubuntu 22.04.2 LTS) / x86_64  OK    OK    OK  UNNEEDED, same version is already published
palomino3Windows Server 2022 Datacenter / x64  OK    OK    OK    OK  UNNEEDED, same version is already published
merida1macOS 12.6.4 Monterey / x86_64  OK    OK    OK    OK  UNNEEDED, same version is already published
Package 12/480HostnameOS / ArchINSTALLBUILDCHECKBUILD BIN
amplican 1.22.1  (landing page)
Eivind Valen
git_last_commit: 1813c32
git_last_commit_date: 2023-05-05 14:00:14 -0400
nebbiolo1Linux (Ubuntu 22.04.2 LTS) / x86_64  OK    OK    OK  UNNEEDED, same version is already published
palomino3Windows Server 2022 Datacenter / x64  OK    OK    OK    OK  UNNEEDED, same version is already published
merida1macOS 12.6.4 Monterey / x86_64  OK    OK    OK    OK  UNNEEDED, same version is already published
Package 13/480HostnameOS / ArchINSTALLBUILDCHECKBUILD BIN
AneuFinder 1.28.0  (landing page)
Aaron Taudt
git_last_commit: e17d810
git_last_commit_date: 2023-04-25 10:45:33 -0400
nebbiolo1Linux (Ubuntu 22.04.2 LTS) / x86_64  OK    OK    OK  UNNEEDED, same version is already published
palomino3Windows Server 2022 Datacenter / x64  OK    OK    OK    OK  UNNEEDED, same version is already published
merida1macOS 12.6.4 Monterey / x86_64  OK    OK    OK    OK  UNNEEDED, same version is already published
Package 14/480HostnameOS / ArchINSTALLBUILDCHECKBUILD BIN
annmap 1.42.0  (landing page)
Chris Wirth
git_last_commit: b4cafd1
git_last_commit_date: 2023-04-25 10:23:14 -0400
nebbiolo1Linux (Ubuntu 22.04.2 LTS) / x86_64  OK    OK    WARNINGS  UNNEEDED, same version is already published
palomino3Windows Server 2022 Datacenter / x64... NOT SUPPORTED ...
merida1macOS 12.6.4 Monterey / x86_64  OK    OK    WARNINGS    OK  UNNEEDED, same version is already published
Package 15/480HostnameOS / ArchINSTALLBUILDCHECKBUILD BIN
annotate 1.78.0  (landing page)
Bioconductor Package Maintainer
git_last_commit: ca6415a
git_last_commit_date: 2023-04-25 09:38:15 -0400
nebbiolo1Linux (Ubuntu 22.04.2 LTS) / x86_64  OK    OK    OK  UNNEEDED, same version is already published
palomino3Windows Server 2022 Datacenter / x64  OK    OK    OK    OK  UNNEEDED, same version is already published
merida1macOS 12.6.4 Monterey / x86_64  OK    OK    OK    OK  UNNEEDED, same version is already published
Package 16/480HostnameOS / ArchINSTALLBUILDCHECKBUILD BIN
AnnotationDbi 1.62.1  (landing page)
Bioconductor Package Maintainer
git_last_commit: 21f8479
git_last_commit_date: 2023-05-01 20:20:45 -0400
nebbiolo1Linux (Ubuntu 22.04.2 LTS) / x86_64  OK    OK    WARNINGS  UNNEEDED, same version is already published
palomino3Windows Server 2022 Datacenter / x64  OK    OK    WARNINGS    OK  UNNEEDED, same version is already published
merida1macOS 12.6.4 Monterey / x86_64  OK    OK    WARNINGS    OK  UNNEEDED, same version is already published
Package 17/480HostnameOS / ArchINSTALLBUILDCHECKBUILD BIN
AnnotationForge 1.42.0  (landing page)
Bioconductor Package Maintainer
git_last_commit: 2eac005
git_last_commit_date: 2023-04-25 10:23:24 -0400
nebbiolo1Linux (Ubuntu 22.04.2 LTS) / x86_64  OK    OK    WARNINGS  UNNEEDED, same version is already published
palomino3Windows Server 2022 Datacenter / x64  OK    OK    WARNINGS    OK  UNNEEDED, same version is already published
merida1macOS 12.6.4 Monterey / x86_64  OK    OK    WARNINGS    OK  UNNEEDED, same version is already published
Package 18/480HostnameOS / ArchINSTALLBUILDCHECKBUILD BIN
AnnotationHub 3.8.0  (landing page)
Bioconductor Package Maintainer
git_last_commit: 975022d
git_last_commit_date: 2023-04-25 10:26:37 -0400
nebbiolo1Linux (Ubuntu 22.04.2 LTS) / x86_64  OK    OK    WARNINGS  UNNEEDED, same version is already published
palomino3Windows Server 2022 Datacenter / x64  OK    OK    WARNINGS    OK  UNNEEDED, same version is already published
merida1macOS 12.6.4 Monterey / x86_64  OK    OK    WARNINGS    OK  UNNEEDED, same version is already published
Package 19/480HostnameOS / ArchINSTALLBUILDCHECKBUILD BIN
AnnotationHubData 1.30.0  (landing page)
Bioconductor Package Maintainer
git_last_commit: 3cf163f
git_last_commit_date: 2023-04-25 10:41:16 -0400
nebbiolo1Linux (Ubuntu 22.04.2 LTS) / x86_64  OK    OK    WARNINGS  UNNEEDED, same version is already published
palomino3Windows Server 2022 Datacenter / x64  OK    OK    WARNINGS    OK  UNNEEDED, same version is already published
merida1macOS 12.6.4 Monterey / x86_64  OK    OK    WARNINGS    OK  UNNEEDED, same version is already published
Package 20/480HostnameOS / ArchINSTALLBUILDCHECKBUILD BIN
ArrayExpressHTS 1.50.0  (landing page)
Angela Goncalves , Andrew Tikhonov
git_last_commit: 7b79d4b
git_last_commit_date: 2023-04-25 10:19:47 -0400
nebbiolo1Linux (Ubuntu 22.04.2 LTS) / x86_64  ERROR    ERROR  skipped
palomino3Windows Server 2022 Datacenter / x64... NOT SUPPORTED ...
merida1macOS 12.6.4 Monterey / x86_64  ERROR    ERROR  skippedskipped
Package 21/480HostnameOS / ArchINSTALLBUILDCHECKBUILD BIN
ASpli 2.10.0  (landing page)
Estefania Mancini
git_last_commit: 2686a85
git_last_commit_date: 2023-04-25 10:48:38 -0400
nebbiolo1Linux (Ubuntu 22.04.2 LTS) / x86_64  OK    OK    ERROR  
palomino3Windows Server 2022 Datacenter / x64  OK    OK    WARNINGS    OK  UNNEEDED, same version is already published
merida1macOS 12.6.4 Monterey / x86_64  OK    OK    WARNINGS    OK  UNNEEDED, same version is already published
Package 22/480HostnameOS / ArchINSTALLBUILDCHECKBUILD BIN
ATACseqQC 1.24.0  (landing page)
Jianhong Ou
git_last_commit: 06d4227
git_last_commit_date: 2023-04-25 10:54:12 -0400
nebbiolo1Linux (Ubuntu 22.04.2 LTS) / x86_64  OK    OK    OK  UNNEEDED, same version is already published
palomino3Windows Server 2022 Datacenter / x64  OK    OK    OK    OK  UNNEEDED, same version is already published
merida1macOS 12.6.4 Monterey / x86_64  OK    OK    OK    OK  UNNEEDED, same version is already published
Package 23/480HostnameOS / ArchINSTALLBUILDCHECKBUILD BIN
ATACseqTFEA 1.2.0  (landing page)
Jianhong Ou
git_last_commit: 7c0aef8
git_last_commit_date: 2023-04-25 11:39:37 -0400
nebbiolo1Linux (Ubuntu 22.04.2 LTS) / x86_64  OK    OK    OK  UNNEEDED, same version is already published
palomino3Windows Server 2022 Datacenter / x64  OK    OK    OK    OK  UNNEEDED, same version is already published
merida1macOS 12.6.4 Monterey / x86_64  OK    OK    OK    OK  UNNEEDED, same version is already published
Package 24/480HostnameOS / ArchINSTALLBUILDCHECKBUILD BIN
atena 1.6.0  (landing page)
Beatriz Calvo-Serra
git_last_commit: 4053ecb
git_last_commit_date: 2023-04-25 11:32:49 -0400
nebbiolo1Linux (Ubuntu 22.04.2 LTS) / x86_64  OK    OK    OK  UNNEEDED, same version is already published
palomino3Windows Server 2022 Datacenter / x64  OK    OK    OK    OK  UNNEEDED, same version is already published
merida1macOS 12.6.4 Monterey / x86_64  OK    OK    OK    OK  UNNEEDED, same version is already published
Package 25/480HostnameOS / ArchINSTALLBUILDCHECKBUILD BIN
AUCell 1.22.0  (landing page)
Sara Aibar
git_last_commit: f51828f
git_last_commit_date: 2023-04-25 10:56:34 -0400
nebbiolo1Linux (Ubuntu 22.04.2 LTS) / x86_64  OK    OK    OK  UNNEEDED, same version is already published
palomino3Windows Server 2022 Datacenter / x64  OK    OK    OK    OK  UNNEEDED, same version is already published
merida1macOS 12.6.4 Monterey / x86_64  OK    OK    OK    OK  UNNEEDED, same version is already published
Package 26/480HostnameOS / ArchINSTALLBUILDCHECKBUILD BIN
autonomics 1.8.0  (landing page)
Aditya Bhagwat
git_last_commit: d84d5f1
git_last_commit_date: 2023-04-25 11:27:21 -0400
nebbiolo1Linux (Ubuntu 22.04.2 LTS) / x86_64  OK    OK    WARNINGS  UNNEEDED, same version is already published
palomino3Windows Server 2022 Datacenter / x64  OK    OK    WARNINGS    OK  UNNEEDED, same version is already published
merida1macOS 12.6.4 Monterey / x86_64  OK    OK    WARNINGS    OK  UNNEEDED, same version is already published
Package 27/480HostnameOS / ArchINSTALLBUILDCHECKBUILD BIN
bambu 3.2.3  (landing page)
Ying Chen
git_last_commit: 85357e2
git_last_commit_date: 2023-05-18 02:03:34 -0400
nebbiolo1Linux (Ubuntu 22.04.2 LTS) / x86_64  OK    OK    OK  UNNEEDED, same version is already published
palomino3Windows Server 2022 Datacenter / x64  OK    OK    OK    OK  UNNEEDED, same version is already published
merida1macOS 12.6.4 Monterey / x86_64  OK    OK    OK    OK  UNNEEDED, same version is already published
Package 28/480HostnameOS / ArchINSTALLBUILDCHECKBUILD BIN
bamsignals 1.32.0  (landing page)
Johannes Helmuth
git_last_commit: 34bfc4e
git_last_commit_date: 2023-04-25 10:38:18 -0400
nebbiolo1Linux (Ubuntu 22.04.2 LTS) / x86_64  OK    OK    WARNINGS  UNNEEDED, same version is already published
palomino3Windows Server 2022 Datacenter / x64  OK    OK    OK    OK  UNNEEDED, same version is already published
merida1macOS 12.6.4 Monterey / x86_64  OK    OK    WARNINGS    OK  UNNEEDED, same version is already published
Package 29/480HostnameOS / ArchINSTALLBUILDCHECKBUILD BIN
BASiCS 2.12.1  (landing page)
Catalina Vallejos
git_last_commit: ba27ab9
git_last_commit_date: 2023-05-01 20:02:57 -0400
nebbiolo1Linux (Ubuntu 22.04.2 LTS) / x86_64  OK    OK    ERROR  
palomino3Windows Server 2022 Datacenter / x64  OK    OK    ERROR    OK  
merida1macOS 12.6.4 Monterey / x86_64  OK    OK    ERROR    OK  
Package 30/480HostnameOS / ArchINSTALLBUILDCHECKBUILD BIN
batchelor 1.16.0  (landing page)
Aaron Lun
git_last_commit: 8ecc91e
git_last_commit_date: 2023-04-25 11:09:01 -0400
nebbiolo1Linux (Ubuntu 22.04.2 LTS) / x86_64  OK    OK    ERROR  
palomino3Windows Server 2022 Datacenter / x64  OK    OK    ERROR    OK  
merida1macOS 12.6.4 Monterey / x86_64  OK    OK    ERROR    OK  
Package 31/480HostnameOS / ArchINSTALLBUILDCHECKBUILD BIN
beachmat 2.16.0  (landing page)
Aaron Lun
git_last_commit: 4cc8e50
git_last_commit_date: 2023-04-25 10:55:12 -0400
nebbiolo1Linux (Ubuntu 22.04.2 LTS) / x86_64  OK    OK    OK  UNNEEDED, same version is already published
palomino3Windows Server 2022 Datacenter / x64  OK    OK    OK    OK  UNNEEDED, same version is already published
merida1macOS 12.6.4 Monterey / x86_64  OK    OK    OK    OK  UNNEEDED, same version is already published
Package 32/480HostnameOS / ArchINSTALLBUILDCHECKBUILD BIN
beadarray 2.50.0  (landing page)
Mark Dunning
git_last_commit: 715d372
git_last_commit_date: 2023-04-25 09:43:07 -0400
nebbiolo1Linux (Ubuntu 22.04.2 LTS) / x86_64  OK    OK    OK  UNNEEDED, same version is already published
palomino3Windows Server 2022 Datacenter / x64  OK    OK    OK    OK  UNNEEDED, same version is already published
merida1macOS 12.6.4 Monterey / x86_64  OK    OK    OK    OK  UNNEEDED, same version is already published
Package 33/480HostnameOS / ArchINSTALLBUILDCHECKBUILD BIN
bigmelon 1.26.0  (landing page)
Tyler J. Gorrie-Stone
git_last_commit: e32bf15
git_last_commit_date: 2023-04-25 10:49:39 -0400
nebbiolo1Linux (Ubuntu 22.04.2 LTS) / x86_64  OK    OK    OK  UNNEEDED, same version is already published
palomino3Windows Server 2022 Datacenter / x64  OK    OK    OK    OK  UNNEEDED, same version is already published
merida1macOS 12.6.4 Monterey / x86_64  OK    OK    OK    OK  UNNEEDED, same version is already published
Package 34/480HostnameOS / ArchINSTALLBUILDCHECKBUILD BIN
bioassayR 1.38.0  (landing page)
Daniela Cassol
git_last_commit: 2cc9554
git_last_commit_date: 2023-04-25 10:28:59 -0400
nebbiolo1Linux (Ubuntu 22.04.2 LTS) / x86_64  OK    OK    OK  UNNEEDED, same version is already published
palomino3Windows Server 2022 Datacenter / x64  OK    OK    OK    OK  UNNEEDED, same version is already published
merida1macOS 12.6.4 Monterey / x86_64  OK    OK    OK    OK  UNNEEDED, same version is already published
Package 35/480HostnameOS / ArchINSTALLBUILDCHECKBUILD BIN
Biobase 2.60.0  (landing page)
Bioconductor Package Maintainer
git_last_commit: 8dc10d2
git_last_commit_date: 2023-04-25 09:38:08 -0400
nebbiolo1Linux (Ubuntu 22.04.2 LTS) / x86_64  OK    OK    WARNINGS  UNNEEDED, same version is already published
palomino3Windows Server 2022 Datacenter / x64  OK    OK    OK    OK  UNNEEDED, same version is already published
merida1macOS 12.6.4 Monterey / x86_64  OK    OK    OK    OK  UNNEEDED, same version is already published
Package 36/480HostnameOS / ArchINSTALLBUILDCHECKBUILD BIN
biocGraph 1.62.0  (landing page)
Florian Hahne
git_last_commit: 4d39343
git_last_commit_date: 2023-04-25 09:45:35 -0400
nebbiolo1Linux (Ubuntu 22.04.2 LTS) / x86_64  OK    OK    OK  UNNEEDED, same version is already published
palomino3Windows Server 2022 Datacenter / x64  OK    OK    OK    OK  UNNEEDED, same version is already published
merida1macOS 12.6.4 Monterey / x86_64  OK    OK    OK    OK  UNNEEDED, same version is already published
Package 37/480HostnameOS / ArchINSTALLBUILDCHECKBUILD BIN
BiocHail 1.0.0  (landing page)
Vincent Carey
git_last_commit: a746331
git_last_commit_date: 2023-04-25 11:44:44 -0400
nebbiolo1Linux (Ubuntu 22.04.2 LTS) / x86_64  OK    OK    OK  UNNEEDED, same version is already published
palomino3Windows Server 2022 Datacenter / x64... NOT SUPPORTED ...
merida1macOS 12.6.4 Monterey / x86_64... NOT SUPPORTED ...
Package 38/480HostnameOS / ArchINSTALLBUILDCHECKBUILD BIN
BiocIO 1.10.0  (landing page)
Marcel Ramos
git_last_commit: 1368ff1
git_last_commit_date: 2023-04-25 11:21:59 -0400
nebbiolo1Linux (Ubuntu 22.04.2 LTS) / x86_64  OK    OK    OK  UNNEEDED, same version is already published
palomino3Windows Server 2022 Datacenter / x64  OK    OK    OK    OK  UNNEEDED, same version is already published
merida1macOS 12.6.4 Monterey / x86_64  OK    OK    OK    OK  UNNEEDED, same version is already published
Package 39/480HostnameOS / ArchINSTALLBUILDCHECKBUILD BIN
BiocSingular 1.16.0  (landing page)
Aaron Lun
git_last_commit: 0db9a69
git_last_commit_date: 2023-04-25 11:08:01 -0400
nebbiolo1Linux (Ubuntu 22.04.2 LTS) / x86_64  OK    OK    WARNINGS  UNNEEDED, same version is already published
palomino3Windows Server 2022 Datacenter / x64  OK    OK    WARNINGS    OK  UNNEEDED, same version is already published
merida1macOS 12.6.4 Monterey / x86_64  OK    OK    WARNINGS    OK  UNNEEDED, same version is already published
Package 40/480HostnameOS / ArchINSTALLBUILDCHECKBUILD BIN
Biostrings 2.68.1  (landing page)
Hervé Pagès
git_last_commit: cfbb402
git_last_commit_date: 2023-05-16 00:34:25 -0400
nebbiolo1Linux (Ubuntu 22.04.2 LTS) / x86_64  OK    OK    WARNINGS  UNNEEDED, same version is already published
palomino3Windows Server 2022 Datacenter / x64  OK    OK    WARNINGS    OK  UNNEEDED, same version is already published
merida1macOS 12.6.4 Monterey / x86_64  OK    OK    WARNINGS    OK  UNNEEDED, same version is already published
Package 41/480HostnameOS / ArchINSTALLBUILDCHECKBUILD BIN
biotmle 1.24.0  (landing page)
Nima Hejazi
git_last_commit: fa7600c
git_last_commit_date: 2023-04-25 10:53:53 -0400
nebbiolo1Linux (Ubuntu 22.04.2 LTS) / x86_64  OK    OK    OK  UNNEEDED, same version is already published
palomino3Windows Server 2022 Datacenter / x64  OK    OK    OK    OK  UNNEEDED, same version is already published
merida1macOS 12.6.4 Monterey / x86_64  OK    OK    OK    OK  UNNEEDED, same version is already published
Package 42/480HostnameOS / ArchINSTALLBUILDCHECKBUILD BIN
biovizBase 1.48.0  (landing page)
Michael Lawrence
git_last_commit: 534db77
git_last_commit_date: 2023-04-25 10:21:06 -0400
nebbiolo1Linux (Ubuntu 22.04.2 LTS) / x86_64  OK    OK    WARNINGS  UNNEEDED, same version is already published
palomino3Windows Server 2022 Datacenter / x64  OK    OK    WARNINGS    OK  UNNEEDED, same version is already published
merida1macOS 12.6.4 Monterey / x86_64  OK    OK    WARNINGS    OK  UNNEEDED, same version is already published
Package 43/480HostnameOS / ArchINSTALLBUILDCHECKBUILD BIN
biscuiteer 1.14.0  (landing page)
Jacob Morrison
git_last_commit: 94ce421
git_last_commit_date: 2023-04-25 11:13:36 -0400
nebbiolo1Linux (Ubuntu 22.04.2 LTS) / x86_64  OK    OK    WARNINGS  UNNEEDED, same version is already published
palomino3Windows Server 2022 Datacenter / x64  OK    OK    WARNINGS    OK  UNNEEDED, same version is already published
merida1macOS 12.6.4 Monterey / x86_64  OK    OK    WARNINGS    OK  UNNEEDED, same version is already published
Package 44/480HostnameOS / ArchINSTALLBUILDCHECKBUILD BIN
BiSeq 1.40.0  (landing page)
Katja Hebestreit
git_last_commit: 9e686d0
git_last_commit_date: 2023-04-25 10:26:59 -0400
nebbiolo1Linux (Ubuntu 22.04.2 LTS) / x86_64  OK    OK    OK  UNNEEDED, same version is already published
palomino3Windows Server 2022 Datacenter / x64  OK    OK    OK    OK  UNNEEDED, same version is already published
merida1macOS 12.6.4 Monterey / x86_64  OK    OK    OK    OK  UNNEEDED, same version is already published
Package 45/480HostnameOS / ArchINSTALLBUILDCHECKBUILD BIN
blima 1.34.0  (landing page)
Vojtěch Kulvait
git_last_commit: fc6ce78
git_last_commit_date: 2023-04-25 10:32:12 -0400
nebbiolo1Linux (Ubuntu 22.04.2 LTS) / x86_64  OK    OK    WARNINGS  UNNEEDED, same version is already published
palomino3Windows Server 2022 Datacenter / x64  OK    OK    WARNINGS    OK  UNNEEDED, same version is already published
merida1macOS 12.6.4 Monterey / x86_64  OK    OK    WARNINGS    OK  UNNEEDED, same version is already published
Package 46/480HostnameOS / ArchINSTALLBUILDCHECKBUILD BIN
bnbc 1.22.0  (landing page)
Kipper Fletez-Brant
git_last_commit: 4afeeae
git_last_commit_date: 2023-04-25 10:57:18 -0400
nebbiolo1Linux (Ubuntu 22.04.2 LTS) / x86_64  OK    OK    WARNINGS  UNNEEDED, same version is already published
palomino3Windows Server 2022 Datacenter / x64  OK    OK    WARNINGS    OK  UNNEEDED, same version is already published
merida1macOS 12.6.4 Monterey / x86_64  OK    OK    WARNINGS    OK  UNNEEDED, same version is already published
Package 47/480HostnameOS / ArchINSTALLBUILDCHECKBUILD BIN
breakpointR 1.18.0  (landing page)
David Porubsky
git_last_commit: a649748
git_last_commit_date: 2023-04-25 11:04:34 -0400
nebbiolo1Linux (Ubuntu 22.04.2 LTS) / x86_64  OK    OK    OK  UNNEEDED, same version is already published
palomino3Windows Server 2022 Datacenter / x64  OK    OK    OK    OK  UNNEEDED, same version is already published
merida1macOS 12.6.4 Monterey / x86_64  OK    OK    OK    OK  UNNEEDED, same version is already published
Package 48/480HostnameOS / ArchINSTALLBUILDCHECKBUILD BIN
BrowserViz 2.22.0  (landing page)
Paul Shannon
git_last_commit: af8ad45
git_last_commit_date: 2023-04-25 10:37:57 -0400
nebbiolo1Linux (Ubuntu 22.04.2 LTS) / x86_64  OK    OK    OK  UNNEEDED, same version is already published
palomino3Windows Server 2022 Datacenter / x64  OK    OK    OK    OK  UNNEEDED, same version is already published
merida1macOS 12.6.4 Monterey / x86_64  OK    OK    OK    OK  UNNEEDED, same version is already published
Package 49/480HostnameOS / ArchINSTALLBUILDCHECKBUILD BIN
BSgenome 1.68.0  (landing page)
Hervé Pagès
git_last_commit: c546020
git_last_commit_date: 2023-04-25 09:43:43 -0400
nebbiolo1Linux (Ubuntu 22.04.2 LTS) / x86_64  OK    OK    WARNINGS  UNNEEDED, same version is already published
palomino3Windows Server 2022 Datacenter / x64  OK    OK    WARNINGS    OK  UNNEEDED, same version is already published
merida1macOS 12.6.4 Monterey / x86_64  OK    OK    WARNINGS    OK  UNNEEDED, same version is already published
Package 50/480HostnameOS / ArchINSTALLBUILDCHECKBUILD BIN
BSgenomeForge 1.0.0  (landing page)
Hervé Pagès
git_last_commit: 21b3f25
git_last_commit_date: 2023-04-25 11:43:56 -0400
nebbiolo1Linux (Ubuntu 22.04.2 LTS) / x86_64  OK    OK    OK  UNNEEDED, same version is already published
palomino3Windows Server 2022 Datacenter / x64  OK    OK    ERROR    OK  
merida1macOS 12.6.4 Monterey / x86_64  OK    OK    OK    OK  UNNEEDED, same version is already published
Package 51/480HostnameOS / ArchINSTALLBUILDCHECKBUILD BIN
bsseq 1.36.0  (landing page)
Kasper Daniel Hansen
git_last_commit: 5dd72c5
git_last_commit_date: 2023-04-25 10:23:31 -0400
nebbiolo1Linux (Ubuntu 22.04.2 LTS) / x86_64  OK    OK    OK  UNNEEDED, same version is already published
palomino3Windows Server 2022 Datacenter / x64  OK    OK    OK    OK  UNNEEDED, same version is already published
merida1macOS 12.6.4 Monterey / x86_64  OK    OK    OK    OK  UNNEEDED, same version is already published
Package 52/480HostnameOS / ArchINSTALLBUILDCHECKBUILD BIN
BubbleTree 2.30.0  (landing page)
Todd Creasy , Wei Zhu
git_last_commit: 8686dde
git_last_commit_date: 2023-04-25 10:37:41 -0400
nebbiolo1Linux (Ubuntu 22.04.2 LTS) / x86_64  OK    OK    OK  UNNEEDED, same version is already published
palomino3Windows Server 2022 Datacenter / x64  OK    OK    OK    OK  UNNEEDED, same version is already published
merida1macOS 12.6.4 Monterey / x86_64  OK    OK    OK    OK  UNNEEDED, same version is already published
Package 53/480HostnameOS / ArchINSTALLBUILDCHECKBUILD BIN
bumphunter 1.42.0  (landing page)
Tamilselvi Guharaj
git_last_commit: 0eb2808
git_last_commit_date: 2023-04-25 10:24:57 -0400
nebbiolo1Linux (Ubuntu 22.04.2 LTS) / x86_64  OK    OK    OK  UNNEEDED, same version is already published
palomino3Windows Server 2022 Datacenter / x64  OK    OK    OK    OK  UNNEEDED, same version is already published
merida1macOS 12.6.4 Monterey / x86_64  OK    OK    OK    OK  UNNEEDED, same version is already published
Package 54/480HostnameOS / ArchINSTALLBUILDCHECKBUILD BIN
BUSpaRse 1.14.1  (landing page)
Lambda Moses
git_last_commit: 3eac292
git_last_commit_date: 2023-05-01 20:03:03 -0400
nebbiolo1Linux (Ubuntu 22.04.2 LTS) / x86_64  OK    OK    OK  UNNEEDED, same version is already published
palomino3Windows Server 2022 Datacenter / x64  OK    OK    ERROR    OK  
merida1macOS 12.6.4 Monterey / x86_64  OK    OK    ERROR    OK  
Package 55/480HostnameOS / ArchINSTALLBUILDCHECKBUILD BIN
CAGEfightR 1.20.0  (landing page)
Malte Thodberg
git_last_commit: 280ea89
git_last_commit_date: 2023-04-25 11:01:52 -0400
nebbiolo1Linux (Ubuntu 22.04.2 LTS) / x86_64  OK    OK    OK  UNNEEDED, same version is already published
palomino3Windows Server 2022 Datacenter / x64  OK    OK    OK    OK  UNNEEDED, same version is already published
merida1macOS 12.6.4 Monterey / x86_64  OK    OK    OK    OK  UNNEEDED, same version is already published
Package 56/480HostnameOS / ArchINSTALLBUILDCHECKBUILD BIN
CAGEr 2.6.0  (landing page)
Charles Plessy
git_last_commit: b4cd944
git_last_commit_date: 2023-04-25 10:25:53 -0400
nebbiolo1Linux (Ubuntu 22.04.2 LTS) / x86_64  OK    OK    OK  UNNEEDED, same version is already published
palomino3Windows Server 2022 Datacenter / x64  OK    OK    OK    OK  UNNEEDED, same version is already published
merida1macOS 12.6.4 Monterey / x86_64  OK    OK    OK    OK  UNNEEDED, same version is already published
Package 57/480HostnameOS / ArchINSTALLBUILDCHECKBUILD BIN
Cardinal 3.2.1  (landing page)
Kylie A. Bemis
git_last_commit: c16ca40
git_last_commit_date: 2023-05-02 20:47:36 -0400
nebbiolo1Linux (Ubuntu 22.04.2 LTS) / x86_64  OK    OK    OK  UNNEEDED, same version is already published
palomino3Windows Server 2022 Datacenter / x64  OK    OK    OK    OK  UNNEEDED, same version is already published
merida1macOS 12.6.4 Monterey / x86_64  OK    OK    OK    OK  UNNEEDED, same version is already published
Package 58/480HostnameOS / ArchINSTALLBUILDCHECKBUILD BIN
casper 2.34.0  (landing page)
David Rossell
git_last_commit: e05e2dd
git_last_commit_date: 2023-04-25 10:25:19 -0400
nebbiolo1Linux (Ubuntu 22.04.2 LTS) / x86_64  OK    OK    OK  UNNEEDED, same version is already published
palomino3Windows Server 2022 Datacenter / x64  OK    OK    WARNINGS    OK  UNNEEDED, same version is already published
merida1macOS 12.6.4 Monterey / x86_64  OK    ERROR  skippedskipped
Package 59/480HostnameOS / ArchINSTALLBUILDCHECKBUILD BIN
Category 2.66.0  (landing page)
Bioconductor Package Maintainer
git_last_commit: 404c5e4
git_last_commit_date: 2023-04-25 09:42:05 -0400
nebbiolo1Linux (Ubuntu 22.04.2 LTS) / x86_64  OK    OK    OK  UNNEEDED, same version is already published
palomino3Windows Server 2022 Datacenter / x64  OK    OK    OK    OK  UNNEEDED, same version is already published
merida1macOS 12.6.4 Monterey / x86_64  OK    OK    OK    OK  UNNEEDED, same version is already published
Package 60/480HostnameOS / ArchINSTALLBUILDCHECKBUILD BIN
categoryCompare 1.44.0  (landing page)
Robert M. Flight
git_last_commit: 9d848ab
git_last_commit_date: 2023-04-25 10:22:59 -0400
nebbiolo1Linux (Ubuntu 22.04.2 LTS) / x86_64  OK    OK    OK  UNNEEDED, same version is already published
palomino3Windows Server 2022 Datacenter / x64  OK    OK    OK    OK  UNNEEDED, same version is already published
merida1macOS 12.6.4 Monterey / x86_64  OK    OK    OK    OK  UNNEEDED, same version is already published
Package 61/480HostnameOS / ArchINSTALLBUILDCHECKBUILD BIN
celaref 1.18.0  (landing page)
Sarah Williams
git_last_commit: 0ef9783
git_last_commit_date: 2023-04-25 11:03:35 -0400
nebbiolo1Linux (Ubuntu 22.04.2 LTS) / x86_64  OK    OK    OK  UNNEEDED, same version is already published
palomino3Windows Server 2022 Datacenter / x64  OK    OK    OK    OK  UNNEEDED, same version is already published
merida1macOS 12.6.4 Monterey / x86_64  OK    OK    OK    OK  UNNEEDED, same version is already published
Package 62/480HostnameOS / ArchINSTALLBUILDCHECKBUILD BIN
CellaRepertorium 1.10.0  (landing page)
Andrew McDavid
git_last_commit: 5f95462
git_last_commit_date: 2023-04-25 11:24:34 -0400
nebbiolo1Linux (Ubuntu 22.04.2 LTS) / x86_64  OK    OK    WARNINGS  UNNEEDED, same version is already published
palomino3Windows Server 2022 Datacenter / x64  OK    OK    OK    OK  UNNEEDED, same version is already published
merida1macOS 12.6.4 Monterey / x86_64  OK    OK    WARNINGS    OK  UNNEEDED, same version is already published
Package 63/480HostnameOS / ArchINSTALLBUILDCHECKBUILD BIN
CellBench 1.16.0  (landing page)
Shian Su
git_last_commit: 3448a85
git_last_commit_date: 2023-04-25 11:08:19 -0400
nebbiolo1Linux (Ubuntu 22.04.2 LTS) / x86_64  OK    OK    OK  UNNEEDED, same version is already published
palomino3Windows Server 2022 Datacenter / x64  OK    OK    OK    OK  UNNEEDED, same version is already published
merida1macOS 12.6.4 Monterey / x86_64  OK    OK    OK    OK  UNNEEDED, same version is already published
Package 64/480HostnameOS / ArchINSTALLBUILDCHECKBUILD BIN
cellHTS2 2.64.0  (landing page)
Joseph Barry
git_last_commit: bdbd47f
git_last_commit_date: 2023-04-25 09:45:32 -0400
nebbiolo1Linux (Ubuntu 22.04.2 LTS) / x86_64  OK    OK    WARNINGS  UNNEEDED, same version is already published
palomino3Windows Server 2022 Datacenter / x64  OK    OK    OK    OK  UNNEEDED, same version is already published
merida1macOS 12.6.4 Monterey / x86_64  OK    OK    OK    OK  UNNEEDED, same version is already published
Package 65/480HostnameOS / ArchINSTALLBUILDCHECKBUILD BIN
CellMixS 1.16.0  (landing page)
Almut Lütge
git_last_commit: 29e9c06
git_last_commit_date: 2023-04-25 11:09:11 -0400
nebbiolo1Linux (Ubuntu 22.04.2 LTS) / x86_64  OK    OK    OK  UNNEEDED, same version is already published
palomino3Windows Server 2022 Datacenter / x64  OK    OK    OK    OK  UNNEEDED, same version is already published
merida1macOS 12.6.4 Monterey / x86_64  OK    OK    OK    OK  NO, package depends on 'scater' which is not available
Package 66/480HostnameOS / ArchINSTALLBUILDCHECKBUILD BIN
CellTrails 1.18.0  (landing page)
Daniel Ellwanger
git_last_commit: 6d9a53e
git_last_commit_date: 2023-04-25 11:02:41 -0400
nebbiolo1Linux (Ubuntu 22.04.2 LTS) / x86_64  OK    OK    OK  UNNEEDED, same version is already published
palomino3Windows Server 2022 Datacenter / x64  OK    OK    OK    OK  UNNEEDED, same version is already published
merida1macOS 12.6.4 Monterey / x86_64  OK    OK    OK    OK  UNNEEDED, same version is already published
Package 67/480HostnameOS / ArchINSTALLBUILDCHECKBUILD BIN
cfDNAPro 1.6.0  (landing page)
Haichao Wang
git_last_commit: 08ce3c9
git_last_commit_date: 2023-04-25 11:31:39 -0400
nebbiolo1Linux (Ubuntu 22.04.2 LTS) / x86_64  OK    OK    WARNINGS  UNNEEDED, same version is already published
palomino3Windows Server 2022 Datacenter / x64  OK    OK    WARNINGS    OK  UNNEEDED, same version is already published
merida1macOS 12.6.4 Monterey / x86_64  OK    OK    WARNINGS    OK  UNNEEDED, same version is already published
Package 68/480HostnameOS / ArchINSTALLBUILDCHECKBUILD BIN
cghMCR 1.58.0  (landing page)
J. Zhang
git_last_commit: fc1d116
git_last_commit_date: 2023-04-25 09:43:34 -0400
nebbiolo1Linux (Ubuntu 22.04.2 LTS) / x86_64  OK    OK    WARNINGS  UNNEEDED, same version is already published
palomino3Windows Server 2022 Datacenter / x64  OK    OK    WARNINGS    OK  UNNEEDED, same version is already published
merida1macOS 12.6.4 Monterey / x86_64  OK    OK    WARNINGS    OK  UNNEEDED, same version is already published
Package 69/480HostnameOS / ArchINSTALLBUILDCHECKBUILD BIN
ChemmineOB 1.38.0  (landing page)
Thomas Girke
git_last_commit: 0382a40
git_last_commit_date: 2023-04-25 10:28:25 -0400
nebbiolo1Linux (Ubuntu 22.04.2 LTS) / x86_64  OK    OK    WARNINGS  UNNEEDED, same version is already published
palomino3Windows Server 2022 Datacenter / x64  OK    OK    WARNINGS    OK  UNNEEDED, same version is already published
merida1macOS 12.6.4 Monterey / x86_64  OK    OK    WARNINGS    OK  UNNEEDED, same version is already published
Package 70/480HostnameOS / ArchINSTALLBUILDCHECKBUILD BIN
ChemmineR 3.52.0  (landing page)
Thomas Girke
git_last_commit: 444df16
git_last_commit_date: 2023-04-25 09:47:42 -0400
nebbiolo1Linux (Ubuntu 22.04.2 LTS) / x86_64  OK    OK    WARNINGS  UNNEEDED, same version is already published
palomino3Windows Server 2022 Datacenter / x64  OK    OK    WARNINGS    OK  UNNEEDED, same version is already published
merida1macOS 12.6.4 Monterey / x86_64  OK    OK    WARNINGS    OK  UNNEEDED, same version is already published
Package 71/480HostnameOS / ArchINSTALLBUILDCHECKBUILD BIN
ChIC 1.20.0  (landing page)
Carmen Maria Livi
git_last_commit: 601181f
git_last_commit_date: 2023-04-25 11:01:05 -0400
nebbiolo1Linux (Ubuntu 22.04.2 LTS) / x86_64  ERROR    ERROR  skipped
palomino3Windows Server 2022 Datacenter / x64... NOT SUPPORTED ...
merida1macOS 12.6.4 Monterey / x86_64  ERROR    ERROR  skippedskipped
Package 72/480HostnameOS / ArchINSTALLBUILDCHECKBUILD BIN
ChIPComp 1.30.0  (landing page)
Li Chen
git_last_commit: 2305fe2
git_last_commit_date: 2023-04-25 10:41:03 -0400
nebbiolo1Linux (Ubuntu 22.04.2 LTS) / x86_64  OK    OK    OK  UNNEEDED, same version is already published
palomino3Windows Server 2022 Datacenter / x64  OK    OK    OK    OK  UNNEEDED, same version is already published
merida1macOS 12.6.4 Monterey / x86_64  OK    OK    OK    OK  UNNEEDED, same version is already published
Package 73/480HostnameOS / ArchINSTALLBUILDCHECKBUILD BIN
chipenrich 2.24.0  (landing page)
Kai Wang
git_last_commit: 4f411dc
git_last_commit_date: 2023-04-25 10:28:35 -0400
nebbiolo1Linux (Ubuntu 22.04.2 LTS) / x86_64  OK    OK    OK  UNNEEDED, same version is already published
palomino3Windows Server 2022 Datacenter / x64  OK    OK    OK    OK  UNNEEDED, same version is already published
merida1macOS 12.6.4 Monterey / x86_64  OK    OK    OK    OK  UNNEEDED, same version is already published
Package 74/480HostnameOS / ArchINSTALLBUILDCHECKBUILD BIN
ChIPpeakAnno 3.34.1  (landing page)
Jianhong Ou
git_last_commit: 1a47186
git_last_commit_date: 2023-04-26 18:52:20 -0400
nebbiolo1Linux (Ubuntu 22.04.2 LTS) / x86_64  OK    OK    OK  UNNEEDED, same version is already published
palomino3Windows Server 2022 Datacenter / x64  OK    OK    OK    OK  UNNEEDED, same version is already published
merida1macOS 12.6.4 Monterey / x86_64  OK    OK    OK    OK  UNNEEDED, same version is already published
Package 75/480HostnameOS / ArchINSTALLBUILDCHECKBUILD BIN
ChIPQC 1.36.0  (landing page)
Tom Carroll , Rory Stark
git_last_commit: a603854
git_last_commit_date: 2023-04-25 10:31:18 -0400
nebbiolo1Linux (Ubuntu 22.04.2 LTS) / x86_64  OK    OK    WARNINGS  UNNEEDED, same version is already published
palomino3Windows Server 2022 Datacenter / x64  OK    OK    WARNINGS    OK  UNNEEDED, same version is already published
merida1macOS 12.6.4 Monterey / x86_64  OK    OK    WARNINGS    OK  UNNEEDED, same version is already published
Package 76/480HostnameOS / ArchINSTALLBUILDCHECKBUILD BIN
ChIPseeker 1.36.0  (landing page)
Guangchuang Yu
git_last_commit: 3179a1f
git_last_commit_date: 2023-04-25 10:32:01 -0400
nebbiolo1Linux (Ubuntu 22.04.2 LTS) / x86_64  OK    OK    OK  UNNEEDED, same version is already published
palomino3Windows Server 2022 Datacenter / x64  OK    OK    OK    OK  UNNEEDED, same version is already published
merida1macOS 12.6.4 Monterey / x86_64  OK    OK    TIMEOUT    OK  
Package 77/480HostnameOS / ArchINSTALLBUILDCHECKBUILD BIN
chipseq 1.50.0  (landing page)
Bioconductor Package Maintainer
git_last_commit: 0bdfa25
git_last_commit_date: 2023-04-25 09:48:54 -0400
nebbiolo1Linux (Ubuntu 22.04.2 LTS) / x86_64  OK    OK    WARNINGS  UNNEEDED, same version is already published
palomino3Windows Server 2022 Datacenter / x64  OK    OK    WARNINGS    OK  UNNEEDED, same version is already published
merida1macOS 12.6.4 Monterey / x86_64  OK    OK    WARNINGS    OK  UNNEEDED, same version is already published
Package 78/480HostnameOS / ArchINSTALLBUILDCHECKBUILD BIN
ChIPseqR 1.54.0  (landing page)
Peter Humburg
git_last_commit: 2a7eaf4
git_last_commit_date: 2023-04-25 09:49:43 -0400
nebbiolo1Linux (Ubuntu 22.04.2 LTS) / x86_64  OK    OK    OK  UNNEEDED, same version is already published
palomino3Windows Server 2022 Datacenter / x64  OK    OK    OK    OK  UNNEEDED, same version is already published
merida1macOS 12.6.4 Monterey / x86_64  OK    OK    OK    OK  UNNEEDED, same version is already published
Package 79/480HostnameOS / ArchINSTALLBUILDCHECKBUILD BIN
ChromHeatMap 1.54.0  (landing page)
Tim F. Rayner
git_last_commit: de12140
git_last_commit_date: 2023-04-25 09:49:41 -0400
nebbiolo1Linux (Ubuntu 22.04.2 LTS) / x86_64  OK    OK    OK  UNNEEDED, same version is already published
palomino3Windows Server 2022 Datacenter / x64  OK    OK    OK    OK  UNNEEDED, same version is already published
merida1macOS 12.6.4 Monterey / x86_64  OK    OK    OK    OK  UNNEEDED, same version is already published
Package 80/480HostnameOS / ArchINSTALLBUILDCHECKBUILD BIN
chromstaR 1.26.0  (landing page)
Aaron Taudt
git_last_commit: 92f4418
git_last_commit_date: 2023-04-25 10:47:44 -0400
nebbiolo1Linux (Ubuntu 22.04.2 LTS) / x86_64  OK    OK    OK  UNNEEDED, same version is already published
palomino3Windows Server 2022 Datacenter / x64  OK    OK    OK    OK  UNNEEDED, same version is already published
merida1macOS 12.6.4 Monterey / x86_64  OK    OK    OK    OK  UNNEEDED, same version is already published
Package 81/480HostnameOS / ArchINSTALLBUILDCHECKBUILD BIN
chromVAR 1.22.1  (landing page)
Alicia Schep
git_last_commit: fbdaa18
git_last_commit_date: 2023-05-01 20:09:37 -0400
nebbiolo1Linux (Ubuntu 22.04.2 LTS) / x86_64  OK    OK    OK  UNNEEDED, same version is already published
palomino3Windows Server 2022 Datacenter / x64  OK    OK    OK    OK  UNNEEDED, same version is already published
merida1macOS 12.6.4 Monterey / x86_64  OK    OK    OK    OK  UNNEEDED, same version is already published
Package 82/480HostnameOS / ArchINSTALLBUILDCHECKBUILD BIN
cicero 1.18.0  (landing page)
Hannah Pliner
git_last_commit: b6a7b66
git_last_commit_date: 2023-04-25 11:04:55 -0400
nebbiolo1Linux (Ubuntu 22.04.2 LTS) / x86_64  OK    OK    OK  UNNEEDED, same version is already published
palomino3Windows Server 2022 Datacenter / x64  OK    OK    OK    OK  UNNEEDED, same version is already published
merida1macOS 12.6.4 Monterey / x86_64  OK    OK    OK    OK  UNNEEDED, same version is already published
Package 83/480HostnameOS / ArchINSTALLBUILDCHECKBUILD BIN
CircSeqAlignTk 1.2.0  (landing page)
Jianqiang Sun
git_last_commit: f1b4cef
git_last_commit_date: 2023-04-25 11:40:31 -0400
nebbiolo1Linux (Ubuntu 22.04.2 LTS) / x86_64  OK    OK    OK  UNNEEDED, same version is already published
palomino3Windows Server 2022 Datacenter / x64  OK    OK    ERROR    OK  
merida1macOS 12.6.4 Monterey / x86_64  OK    OK    OK    OK  UNNEEDED, same version is already published
Package 84/480HostnameOS / ArchINSTALLBUILDCHECKBUILD BIN
clusterExperiment 2.20.0  (landing page)
Elizabeth Purdom
git_last_commit: 1b8f9ba
git_last_commit_date: 2023-04-25 10:48:04 -0400
nebbiolo1Linux (Ubuntu 22.04.2 LTS) / x86_64  OK    OK    WARNINGS  UNNEEDED, same version is already published
palomino3Windows Server 2022 Datacenter / x64  OK    OK    WARNINGS    OK  UNNEEDED, same version is already published
merida1macOS 12.6.4 Monterey / x86_64  OK    OK    TIMEOUT    OK  
Package 85/480HostnameOS / ArchINSTALLBUILDCHECKBUILD BIN
clusterSeq 1.24.0  (landing page)
Thomas J. Hardcastle
git_last_commit: 8a1b288
git_last_commit_date: 2023-04-25 10:51:31 -0400
nebbiolo1Linux (Ubuntu 22.04.2 LTS) / x86_64  OK    OK    OK  NO, package depends on 'baySeq' which is not available
palomino3Windows Server 2022 Datacenter / x64  OK    OK    OK    OK  NO, package depends on 'baySeq' which is not available
merida1macOS 12.6.4 Monterey / x86_64  OK    OK    OK    OK  NO, package depends on 'baySeq' which is not available
Package 86/480HostnameOS / ArchINSTALLBUILDCHECKBUILD BIN
cn.mops 1.46.0  (landing page)
Gundula Povysil
git_last_commit: baa7ea0
git_last_commit_date: 2023-04-25 10:21:44 -0400
nebbiolo1Linux (Ubuntu 22.04.2 LTS) / x86_64  OK    OK    OK  UNNEEDED, same version is already published
palomino3Windows Server 2022 Datacenter / x64  OK    OK    OK    OK  UNNEEDED, same version is already published
merida1macOS 12.6.4 Monterey / x86_64  OK    OK    OK    OK  UNNEEDED, same version is already published
Package 87/480HostnameOS / ArchINSTALLBUILDCHECKBUILD BIN
CNEr 1.36.0  (landing page)
Ge Tan
git_last_commit: 4f2feeb
git_last_commit_date: 2023-04-25 10:30:23 -0400
nebbiolo1Linux (Ubuntu 22.04.2 LTS) / x86_64  OK    OK    WARNINGS  UNNEEDED, same version is already published
palomino3Windows Server 2022 Datacenter / x64  OK    OK    WARNINGS    OK  UNNEEDED, same version is already published
merida1macOS 12.6.4 Monterey / x86_64  OK    OK    WARNINGS    OK  UNNEEDED, same version is already published
Package 88/480HostnameOS / ArchINSTALLBUILDCHECKBUILD BIN
CNVPanelizer 1.32.0  (landing page)
Thomas Wolf
git_last_commit: 86ffb06
git_last_commit_date: 2023-04-25 10:40:16 -0400
nebbiolo1Linux (Ubuntu 22.04.2 LTS) / x86_64  OK    OK    OK  UNNEEDED, same version is already published
palomino3Windows Server 2022 Datacenter / x64  OK    OK    OK    OK  UNNEEDED, same version is already published
merida1macOS 12.6.4 Monterey / x86_64  OK    OK    OK    OK  UNNEEDED, same version is already published
Package 89/480HostnameOS / ArchINSTALLBUILDCHECKBUILD BIN
CNVRanger 1.16.3  (landing page)
Ludwig Geistlinger
git_last_commit: 17d0070
git_last_commit_date: 2023-05-22 14:19:04 -0400
nebbiolo1Linux (Ubuntu 22.04.2 LTS) / x86_64  OK    OK    OK  UNNEEDED, same version is already published
palomino3Windows Server 2022 Datacenter / x64  OK    OK    OK    OK  UNNEEDED, same version is already published
merida1macOS 12.6.4 Monterey / x86_64  OK    OK    OK    OK  UNNEEDED, same version is already published
Package 90/480HostnameOS / ArchINSTALLBUILDCHECKBUILD BIN
COCOA 2.14.0  (landing page)
John Lawson
git_last_commit: bbc273b
git_last_commit_date: 2023-04-25 11:05:46 -0400
nebbiolo1Linux (Ubuntu 22.04.2 LTS) / x86_64  OK    OK    OK  UNNEEDED, same version is already published
palomino3Windows Server 2022 Datacenter / x64  OK    OK    OK    OK  UNNEEDED, same version is already published
merida1macOS 12.6.4 Monterey / x86_64  OK    OK    OK    OK  UNNEEDED, same version is already published
Package 91/480HostnameOS / ArchINSTALLBUILDCHECKBUILD BIN
codelink 1.68.0  (landing page)
Diego Diez
git_last_commit: 7aa6799
git_last_commit_date: 2023-04-25 09:42:59 -0400
nebbiolo1Linux (Ubuntu 22.04.2 LTS) / x86_64  OK    OK    OK  UNNEEDED, same version is already published
palomino3Windows Server 2022 Datacenter / x64  OK    OK    OK    OK  UNNEEDED, same version is already published
merida1macOS 12.6.4 Monterey / x86_64  OK    OK    OK    OK  UNNEEDED, same version is already published
Package 92/480HostnameOS / ArchINSTALLBUILDCHECKBUILD BIN
cola 2.6.0  (landing page)
Zuguang Gu
git_last_commit: ca31c58
git_last_commit_date: 2023-04-25 11:07:16 -0400
nebbiolo1Linux (Ubuntu 22.04.2 LTS) / x86_64  OK    OK    OK  UNNEEDED, same version is already published
palomino3Windows Server 2022 Datacenter / x64  OK    OK    OK    OK  UNNEEDED, same version is already published
merida1macOS 12.6.4 Monterey / x86_64  OK    OK    OK    OK  UNNEEDED, same version is already published
Package 93/480HostnameOS / ArchINSTALLBUILDCHECKBUILD BIN
compEpiTools 1.34.1  (landing page)
Mattia Furlan
git_last_commit: 4f44f42
git_last_commit_date: 2023-05-02 15:23:53 -0400
nebbiolo1Linux (Ubuntu 22.04.2 LTS) / x86_64  OK    OK    WARNINGS  UNNEEDED, same version is already published
palomino3Windows Server 2022 Datacenter / x64  OK    OK    WARNINGS    OK  UNNEEDED, same version is already published
merida1macOS 12.6.4 Monterey / x86_64  OK    OK    WARNINGS    OK  NO, package depends on 'methylPipe' which is not available
Package 94/480HostnameOS / ArchINSTALLBUILDCHECKBUILD BIN
CompoundDb 1.4.0  (landing page)
Johannes Rainer
git_last_commit: 5c0f833
git_last_commit_date: 2023-04-25 11:35:41 -0400
nebbiolo1Linux (Ubuntu 22.04.2 LTS) / x86_64  OK    OK    OK  UNNEEDED, same version is already published
palomino3Windows Server 2022 Datacenter / x64  OK    OK    OK    OK  UNNEEDED, same version is already published
merida1macOS 12.6.4 Monterey / x86_64  OK    OK    OK    OK  UNNEEDED, same version is already published
Package 95/480HostnameOS / ArchINSTALLBUILDCHECKBUILD BIN
consensusDE 1.18.0  (landing page)
Ashley J. Waardenberg
git_last_commit: 58c20f9
git_last_commit_date: 2023-04-25 11:05:52 -0400
nebbiolo1Linux (Ubuntu 22.04.2 LTS) / x86_64  OK    OK    OK  UNNEEDED, same version is already published
palomino3Windows Server 2022 Datacenter / x64  OK    OK    OK    OK  UNNEEDED, same version is already published
merida1macOS 12.6.4 Monterey / x86_64  OK    OK    OK    OK  UNNEEDED, same version is already published
Package 96/480HostnameOS / ArchINSTALLBUILDCHECKBUILD BIN
consensusSeekeR 1.28.0  (landing page)
Astrid Deschenes
git_last_commit: e96278e
git_last_commit_date: 2023-04-25 10:42:44 -0400
nebbiolo1Linux (Ubuntu 22.04.2 LTS) / x86_64  OK    OK    OK  UNNEEDED, same version is already published
palomino3Windows Server 2022 Datacenter / x64  OK    OK    OK    OK  UNNEEDED, same version is already published
merida1macOS 12.6.4 Monterey / x86_64  OK    OK    OK    OK  UNNEEDED, same version is already published
Package 97/480HostnameOS / ArchINSTALLBUILDCHECKBUILD BIN
contiBAIT 1.28.0  (landing page)
Kieran O'Neill
git_last_commit: 48f8245
git_last_commit_date: 2023-04-25 10:44:16 -0400
nebbiolo1Linux (Ubuntu 22.04.2 LTS) / x86_64  OK    OK    WARNINGS  UNNEEDED, same version is already published
palomino3Windows Server 2022 Datacenter / x64  OK    OK    WARNINGS    OK  UNNEEDED, same version is already published
merida1macOS 12.6.4 Monterey / x86_64  OK    OK    WARNINGS    OK  UNNEEDED, same version is already published
Package 98/480HostnameOS / ArchINSTALLBUILDCHECKBUILD BIN
copynumber 1.40.0  (landing page)
Gro Nilsen
git_last_commit: 0c087da
git_last_commit_date: 2023-04-25 10:26:46 -0400
nebbiolo1Linux (Ubuntu 22.04.2 LTS) / x86_64  OK    ERROR  skipped
palomino3Windows Server 2022 Datacenter / x64  OK    ERROR  skippedskipped
merida1macOS 12.6.4 Monterey / x86_64  OK    ERROR  skippedskipped
Package 99/480HostnameOS / ArchINSTALLBUILDCHECKBUILD BIN
CoreGx 2.4.0  (landing page)
Benjamin Haibe-Kains
git_last_commit: 788cc40
git_last_commit_date: 2023-04-25 11:18:08 -0400
nebbiolo1Linux (Ubuntu 22.04.2 LTS) / x86_64  OK    OK    OK  UNNEEDED, same version is already published
palomino3Windows Server 2022 Datacenter / x64  OK    OK    OK    OK  UNNEEDED, same version is already published
merida1macOS 12.6.4 Monterey / x86_64  OK    OK    OK    OK  UNNEEDED, same version is already published
Package 100/480HostnameOS / ArchINSTALLBUILDCHECKBUILD BIN
crisprBase 1.4.0  (landing page)
Jean-Philippe Fortin
git_last_commit: b8d0906
git_last_commit_date: 2023-04-25 11:35:16 -0400
nebbiolo1Linux (Ubuntu 22.04.2 LTS) / x86_64  OK    OK    OK  UNNEEDED, same version is already published
palomino3Windows Server 2022 Datacenter / x64  OK    OK    OK    OK  UNNEEDED, same version is already published
merida1macOS 12.6.4 Monterey / x86_64  OK    OK    OK    OK  UNNEEDED, same version is already published
Package 101/480HostnameOS / ArchINSTALLBUILDCHECKBUILD BIN
crisprBowtie 1.4.0  (landing page)
Jean-Philippe Fortin
git_last_commit: 64a92ed
git_last_commit_date: 2023-04-25 11:36:03 -0400
nebbiolo1Linux (Ubuntu 22.04.2 LTS) / x86_64  OK    OK    OK  UNNEEDED, same version is already published
palomino3Windows Server 2022 Datacenter / x64  OK    OK    OK    OK  UNNEEDED, same version is already published
merida1macOS 12.6.4 Monterey / x86_64  OK    OK    OK    OK  UNNEEDED, same version is already published
Package 102/480HostnameOS / ArchINSTALLBUILDCHECKBUILD BIN
crisprBwa 1.4.0  (landing page)
Jean-Philippe Fortin
git_last_commit: 23e00c4
git_last_commit_date: 2023-04-25 11:37:51 -0400
nebbiolo1Linux (Ubuntu 22.04.2 LTS) / x86_64  OK    OK    OK  UNNEEDED, same version is already published
palomino3Windows Server 2022 Datacenter / x64... NOT SUPPORTED ...
merida1macOS 12.6.4 Monterey / x86_64  OK    OK    OK    OK  UNNEEDED, same version is already published
Package 103/480HostnameOS / ArchINSTALLBUILDCHECKBUILD BIN
crisprDesign 1.2.0  (landing page)
Jean-Philippe Fortin
git_last_commit: 16ad3b4
git_last_commit_date: 2023-04-25 11:39:18 -0400
nebbiolo1Linux (Ubuntu 22.04.2 LTS) / x86_64  OK    OK    OK  UNNEEDED, same version is already published
palomino3Windows Server 2022 Datacenter / x64  OK    OK    OK    OK  UNNEEDED, same version is already published
merida1macOS 12.6.4 Monterey / x86_64  OK    OK    OK    OK  NO, package depends on 'crisprScore' which is not available
Package 104/480HostnameOS / ArchINSTALLBUILDCHECKBUILD BIN
crisprScore 1.4.0  (landing page)
Jean-Philippe Fortin
git_last_commit: 4866933
git_last_commit_date: 2023-04-25 11:35:22 -0400
nebbiolo1Linux (Ubuntu 22.04.2 LTS) / x86_64  OK    OK    OK  UNNEEDED, same version is already published
palomino3Windows Server 2022 Datacenter / x64  OK    OK    OK    OK  UNNEEDED, same version is already published
merida1macOS 12.6.4 Monterey / x86_64  OK    OK    OK    OK  NO, package depends on 'basilisk' which is not available
Package 105/480HostnameOS / ArchINSTALLBUILDCHECKBUILD BIN
CRISPRseek 1.40.0  (landing page)
Lihua Julie Zhu
git_last_commit: 9be9a24
git_last_commit_date: 2023-04-25 10:29:39 -0400
nebbiolo1Linux (Ubuntu 22.04.2 LTS) / x86_64  OK    OK    OK  UNNEEDED, same version is already published
palomino3Windows Server 2022 Datacenter / x64  OK    OK    OK    OK  UNNEEDED, same version is already published
merida1macOS 12.6.4 Monterey / x86_64  OK    OK    TIMEOUT    OK  
Package 106/480HostnameOS / ArchINSTALLBUILDCHECKBUILD BIN
crisprViz 1.2.0  (landing page)
Jean-Philippe Fortin
git_last_commit: fe18025
git_last_commit_date: 2023-04-25 11:40:13 -0400
nebbiolo1Linux (Ubuntu 22.04.2 LTS) / x86_64  OK    OK    OK  UNNEEDED, same version is already published
palomino3Windows Server 2022 Datacenter / x64  OK    OK    OK    OK  UNNEEDED, same version is already published
merida1macOS 12.6.4 Monterey / x86_64  OK    OK    OK    OK  NO, package depends on 'crisprDesign' which is not available
Package 107/480HostnameOS / ArchINSTALLBUILDCHECKBUILD BIN
crlmm 1.58.0  (landing page)
Benilton S Carvalho
git_last_commit: f9044bc
git_last_commit_date: 2023-04-25 09:48:29 -0400
nebbiolo1Linux (Ubuntu 22.04.2 LTS) / x86_64  OK    OK    WARNINGS  UNNEEDED, same version is already published
palomino3Windows Server 2022 Datacenter / x64  OK    OK    WARNINGS    OK  UNNEEDED, same version is already published
merida1macOS 12.6.4 Monterey / x86_64  OK    OK    WARNINGS    OK  UNNEEDED, same version is already published
Package 108/480HostnameOS / ArchINSTALLBUILDCHECKBUILD BIN
crossmeta 1.26.0  (landing page)
Alex Pickering
git_last_commit: b7438d5
git_last_commit_date: 2023-04-25 10:47:37 -0400
nebbiolo1Linux (Ubuntu 22.04.2 LTS) / x86_64  OK    OK    ERROR  
palomino3Windows Server 2022 Datacenter / x64  OK    OK    OK    OK  UNNEEDED, same version is already published
merida1macOS 12.6.4 Monterey / x86_64  OK    OK    OK    OK  UNNEEDED, same version is already published
Package 109/480HostnameOS / ArchINSTALLBUILDCHECKBUILD BIN
csaw 1.34.0  (landing page)
Aaron Lun
git_last_commit: a93327e
git_last_commit_date: 2023-04-25 10:35:43 -0400
nebbiolo1Linux (Ubuntu 22.04.2 LTS) / x86_64  OK    OK    WARNINGS  UNNEEDED, same version is already published
palomino3Windows Server 2022 Datacenter / x64  OK    OK    WARNINGS    OK  UNNEEDED, same version is already published
merida1macOS 12.6.4 Monterey / x86_64  OK    OK    WARNINGS    OK  UNNEEDED, same version is already published
Package 110/480HostnameOS / ArchINSTALLBUILDCHECKBUILD BIN
cummeRbund 2.42.0  (landing page)
Loyal A. Goff
git_last_commit: dc5849d
git_last_commit_date: 2023-04-25 10:21:12 -0400
nebbiolo1Linux (Ubuntu 22.04.2 LTS) / x86_64  OK    OK    WARNINGS  UNNEEDED, same version is already published
palomino3Windows Server 2022 Datacenter / x64  OK    OK    WARNINGS    OK  UNNEEDED, same version is already published
merida1macOS 12.6.4 Monterey / x86_64  OK    OK    WARNINGS    OK  UNNEEDED, same version is already published
Package 111/480HostnameOS / ArchINSTALLBUILDCHECKBUILD BIN
cydar 1.24.0  (landing page)
Aaron Lun
git_last_commit: b6b8ade
git_last_commit_date: 2023-04-25 10:53:10 -0400
nebbiolo1Linux (Ubuntu 22.04.2 LTS) / x86_64  OK    OK    ERROR  
palomino3Windows Server 2022 Datacenter / x64  OK    OK    OK    OK  UNNEEDED, same version is already published
merida1macOS 12.6.4 Monterey / x86_64  OK    OK    OK    OK  UNNEEDED, same version is already published
Package 112/480HostnameOS / ArchINSTALLBUILDCHECKBUILD BIN
dada2 1.28.0  (landing page)
Benjamin Callahan
git_last_commit: 91f0208
git_last_commit_date: 2023-04-25 10:44:36 -0400
nebbiolo1Linux (Ubuntu 22.04.2 LTS) / x86_64  OK    OK    OK  UNNEEDED, same version is already published
palomino3Windows Server 2022 Datacenter / x64  OK    OK    OK    OK  UNNEEDED, same version is already published
merida1macOS 12.6.4 Monterey / x86_64  OK    OK    OK    OK  UNNEEDED, same version is already published
Package 113/480HostnameOS / ArchINSTALLBUILDCHECKBUILD BIN
dagLogo 1.38.0  (landing page)
Jianhong Ou
git_last_commit: c92ba5e
git_last_commit_date: 2023-04-25 10:29:01 -0400
nebbiolo1Linux (Ubuntu 22.04.2 LTS) / x86_64  OK    OK    OK  UNNEEDED, same version is already published
palomino3Windows Server 2022 Datacenter / x64  OK    OK    OK    OK  UNNEEDED, same version is already published
merida1macOS 12.6.4 Monterey / x86_64  OK    OK    OK    OK  UNNEEDED, same version is already published
Package 114/480HostnameOS / ArchINSTALLBUILDCHECKBUILD BIN
DAMEfinder 1.12.0  (landing page)
Stephany Orjuela
git_last_commit: de191b2
git_last_commit_date: 2023-04-25 11:15:03 -0400
nebbiolo1Linux (Ubuntu 22.04.2 LTS) / x86_64  OK    OK    OK  UNNEEDED, same version is already published
palomino3Windows Server 2022 Datacenter / x64  OK    OK    OK    OK  UNNEEDED, same version is already published
merida1macOS 12.6.4 Monterey / x86_64  OK    OK    OK    OK  UNNEEDED, same version is already published
Package 115/480HostnameOS / ArchINSTALLBUILDCHECKBUILD BIN
ddCt 1.56.0  (landing page)
Jitao David Zhang
git_last_commit: 141d331
git_last_commit_date: 2023-04-25 09:49:09 -0400
nebbiolo1Linux (Ubuntu 22.04.2 LTS) / x86_64  OK    OK    WARNINGS  UNNEEDED, same version is already published
palomino3Windows Server 2022 Datacenter / x64  OK    OK    WARNINGS    OK  UNNEEDED, same version is already published
merida1macOS 12.6.4 Monterey / x86_64  OK    OK    WARNINGS    OK  UNNEEDED, same version is already published
Package 116/480HostnameOS / ArchINSTALLBUILDCHECKBUILD BIN
decompTumor2Sig 2.16.0  (landing page)
Rosario M. Piro
git_last_commit: cc7095d
git_last_commit_date: 2023-04-25 11:06:30 -0400
nebbiolo1Linux (Ubuntu 22.04.2 LTS) / x86_64  OK    OK    OK  UNNEEDED, same version is already published
palomino3Windows Server 2022 Datacenter / x64  OK    OK    OK    OK  UNNEEDED, same version is already published
merida1macOS 12.6.4 Monterey / x86_64  OK    OK    OK    OK  UNNEEDED, same version is already published
Package 117/480HostnameOS / ArchINSTALLBUILDCHECKBUILD BIN
deconvR 1.6.0  (landing page)
Irem B. Gündüz
git_last_commit: 57e9e23
git_last_commit_date: 2023-04-25 11:34:02 -0400
nebbiolo1Linux (Ubuntu 22.04.2 LTS) / x86_64  OK    OK    OK  UNNEEDED, same version is already published
palomino3Windows Server 2022 Datacenter / x64  OK    OK    OK    OK  UNNEEDED, same version is already published
merida1macOS 12.6.4 Monterey / x86_64  OK    OK    OK    OK  UNNEEDED, same version is already published
Package 118/480HostnameOS / ArchINSTALLBUILDCHECKBUILD BIN
DEGreport 1.36.0  (landing page)
Lorena Pantano
git_last_commit: 1aae69c
git_last_commit_date: 2023-04-25 10:32:39 -0400
nebbiolo1Linux (Ubuntu 22.04.2 LTS) / x86_64  OK    OK    WARNINGS  UNNEEDED, same version is already published
palomino3Windows Server 2022 Datacenter / x64  OK    OK    WARNINGS    OK  UNNEEDED, same version is already published
merida1macOS 12.6.4 Monterey / x86_64  OK    OK    WARNINGS    OK  UNNEEDED, same version is already published
Package 119/480HostnameOS / ArchINSTALLBUILDCHECKBUILD BIN
DelayedArray 0.26.3  (landing page)
Hervé Pagès
git_last_commit: 98215c5
git_last_commit_date: 2023-05-22 09:22:40 -0400
nebbiolo1Linux (Ubuntu 22.04.2 LTS) / x86_64  OK    OK    WARNINGS  UNNEEDED, same version is already published
palomino3Windows Server 2022 Datacenter / x64  OK    OK    WARNINGS    OK  UNNEEDED, same version is already published
merida1macOS 12.6.4 Monterey / x86_64  OK    OK    WARNINGS    OK  UNNEEDED, same version is already published
Package 120/480HostnameOS / ArchINSTALLBUILDCHECKBUILD BIN
DelayedDataFrame 1.16.0  (landing page)
Qian Liu
git_last_commit: 8833160
git_last_commit_date: 2023-04-25 11:06:40 -0400
nebbiolo1Linux (Ubuntu 22.04.2 LTS) / x86_64  OK    OK    ERROR  
palomino3Windows Server 2022 Datacenter / x64  OK    OK    OK    OK  UNNEEDED, same version is already published
merida1macOS 12.6.4 Monterey / x86_64  OK    OK    OK    OK  UNNEEDED, same version is already published
Package 121/480HostnameOS / ArchINSTALLBUILDCHECKBUILD BIN
derfinder 1.34.0  (landing page)
Leonardo Collado-Torres
git_last_commit: dd81839
git_last_commit_date: 2023-04-25 10:35:03 -0400
nebbiolo1Linux (Ubuntu 22.04.2 LTS) / x86_64  OK    OK    OK  UNNEEDED, same version is already published
palomino3Windows Server 2022 Datacenter / x64  OK    OK    OK    OK  UNNEEDED, same version is already published
merida1macOS 12.6.4 Monterey / x86_64  OK    OK    OK    OK  UNNEEDED, same version is already published
Package 122/480HostnameOS / ArchINSTALLBUILDCHECKBUILD BIN
DEScan2 1.20.1  (landing page)
Dario Righelli
git_last_commit: f431536
git_last_commit_date: 2023-05-01 20:07:09 -0400
nebbiolo1Linux (Ubuntu 22.04.2 LTS) / x86_64  OK    OK    WARNINGS  UNNEEDED, same version is already published
palomino3Windows Server 2022 Datacenter / x64  OK    OK    WARNINGS    OK  UNNEEDED, same version is already published
merida1macOS 12.6.4 Monterey / x86_64  OK    OK    WARNINGS    OK  UNNEEDED, same version is already published
Package 123/480HostnameOS / ArchINSTALLBUILDCHECKBUILD BIN
DESeq2 1.40.1  (landing page)
Michael Love
git_last_commit: b4101bd
git_last_commit_date: 2023-05-01 20:07:11 -0400
nebbiolo1Linux (Ubuntu 22.04.2 LTS) / x86_64  OK    OK    OK  UNNEEDED, same version is already published
palomino3Windows Server 2022 Datacenter / x64  OK    OK    OK    OK  UNNEEDED, same version is already published
merida1macOS 12.6.4 Monterey / x86_64  OK    OK    OK    OK  UNNEEDED, same version is already published
Package 124/480HostnameOS / ArchINSTALLBUILDCHECKBUILD BIN
DESpace 1.0.0  (landing page)
Peiying Cai
git_last_commit: 8a6b785
git_last_commit_date: 2023-04-25 11:43:38 -0400
nebbiolo1Linux (Ubuntu 22.04.2 LTS) / x86_64  OK    OK    OK  UNNEEDED, same version is already published
palomino3Windows Server 2022 Datacenter / x64  OK    OK    OK    OK  UNNEEDED, same version is already published
merida1macOS 12.6.4 Monterey / x86_64  OK    OK    OK    OK  UNNEEDED, same version is already published
Package 125/480HostnameOS / ArchINSTALLBUILDCHECKBUILD BIN
destiny 3.14.0  (landing page)
Philipp Angerer
git_last_commit: ebccb36
git_last_commit_date: 2023-04-25 11:35:39 -0400
nebbiolo1Linux (Ubuntu 22.04.2 LTS) / x86_64  OK    OK    WARNINGS  UNNEEDED, same version is already published
palomino3Windows Server 2022 Datacenter / x64  OK    OK    WARNINGS    OK  UNNEEDED, same version is already published
merida1macOS 12.6.4 Monterey / x86_64  OK    OK    WARNINGS    OK  UNNEEDED, same version is already published
Package 126/480HostnameOS / ArchINSTALLBUILDCHECKBUILD BIN
DEWSeq 1.14.0  (landing page)
bioinformatics team Hentze
git_last_commit: d9a8908
git_last_commit_date: 2023-04-25 11:13:39 -0400
nebbiolo1Linux (Ubuntu 22.04.2 LTS) / x86_64  OK    OK    ERROR  
palomino3Windows Server 2022 Datacenter / x64  OK    OK    OK    OK  UNNEEDED, same version is already published
merida1macOS 12.6.4 Monterey / x86_64  OK    OK    OK    OK  UNNEEDED, same version is already published
Package 127/480HostnameOS / ArchINSTALLBUILDCHECKBUILD BIN
DEXSeq 1.46.0  (landing page)
Alejandro Reyes
git_last_commit: 074c0bf
git_last_commit_date: 2023-04-25 10:20:02 -0400
nebbiolo1Linux (Ubuntu 22.04.2 LTS) / x86_64  OK    OK    ERROR  
palomino3Windows Server 2022 Datacenter / x64  OK    OK    OK    OK  UNNEEDED, same version is already published
merida1macOS 12.6.4 Monterey / x86_64  OK    OK    OK    OK  UNNEEDED, same version is already published
Package 128/480HostnameOS / ArchINSTALLBUILDCHECKBUILD BIN
diffcoexp 1.20.0  (landing page)
Wenbin Wei
git_last_commit: 03c8890
git_last_commit_date: 2023-04-25 10:59:56 -0400
nebbiolo1Linux (Ubuntu 22.04.2 LTS) / x86_64  OK    OK    ERROR  
palomino3Windows Server 2022 Datacenter / x64  OK    OK    OK    OK  UNNEEDED, same version is already published
merida1macOS 12.6.4 Monterey / x86_64  OK    OK    OK    OK  UNNEEDED, same version is already published
Package 129/480HostnameOS / ArchINSTALLBUILDCHECKBUILD BIN
diffHic 1.32.0  (landing page)
Aaron Lun
git_last_commit: 6c577d2
git_last_commit_date: 2023-04-25 10:39:29 -0400
nebbiolo1Linux (Ubuntu 22.04.2 LTS) / x86_64  OK    OK    WARNINGS  UNNEEDED, same version is already published
palomino3Windows Server 2022 Datacenter / x64  OK    OK    WARNINGS    OK  UNNEEDED, same version is already published
merida1macOS 12.6.4 Monterey / x86_64  OK    OK    WARNINGS    OK  UNNEEDED, same version is already published
Package 130/480HostnameOS / ArchINSTALLBUILDCHECKBUILD BIN
DirichletMultinomial 1.42.0  (landing page)
Martin Morgan
git_last_commit: c388536
git_last_commit_date: 2023-04-25 10:23:01 -0400
nebbiolo1Linux (Ubuntu 22.04.2 LTS) / x86_64  OK    OK    WARNINGS  UNNEEDED, same version is already published
palomino3Windows Server 2022 Datacenter / x64  OK    OK    WARNINGS    OK  UNNEEDED, same version is already published
merida1macOS 12.6.4 Monterey / x86_64  OK    OK    OK    OK  UNNEEDED, same version is already published
Package 131/480HostnameOS / ArchINSTALLBUILDCHECKBUILD BIN
DiscoRhythm 1.16.0  (landing page)
Matthew Carlucci
git_last_commit: 239280c
git_last_commit_date: 2023-04-25 11:09:19 -0400
nebbiolo1Linux (Ubuntu 22.04.2 LTS) / x86_64  OK    OK    OK  UNNEEDED, same version is already published
palomino3Windows Server 2022 Datacenter / x64  OK    OK    OK    OK  UNNEEDED, same version is already published
merida1macOS 12.6.4 Monterey / x86_64  OK    OK    OK    OK  UNNEEDED, same version is already published
Package 132/480HostnameOS / ArchINSTALLBUILDCHECKBUILD BIN
DNAfusion 1.2.0  (landing page)
Christoffer Trier Maansson
git_last_commit: aef3ca8
git_last_commit_date: 2023-04-26 05:41:57 -0400
nebbiolo1Linux (Ubuntu 22.04.2 LTS) / x86_64  OK    OK    OK  UNNEEDED, same version is already published
palomino3Windows Server 2022 Datacenter / x64  OK    OK    OK    OK  UNNEEDED, same version is already published
merida1macOS 12.6.4 Monterey / x86_64  OK    OK    OK    OK  UNNEEDED, same version is already published
Package 133/480HostnameOS / ArchINSTALLBUILDCHECKBUILD BIN
DRIMSeq 1.28.0  (landing page)
Malgorzata Nowicka
git_last_commit: 83a8b21
git_last_commit_date: 2023-04-25 10:45:22 -0400
nebbiolo1Linux (Ubuntu 22.04.2 LTS) / x86_64  OK    OK    WARNINGS  UNNEEDED, same version is already published
palomino3Windows Server 2022 Datacenter / x64  OK    OK    WARNINGS    OK  UNNEEDED, same version is already published
merida1macOS 12.6.4 Monterey / x86_64  OK    OK    WARNINGS    OK  UNNEEDED, same version is already published
Package 134/480HostnameOS / ArchINSTALLBUILDCHECKBUILD BIN
DropletUtils 1.20.0  (landing page)
Jonathan Griffiths
git_last_commit: 855762f
git_last_commit_date: 2023-04-25 10:58:49 -0400
nebbiolo1Linux (Ubuntu 22.04.2 LTS) / x86_64  OK    OK    WARNINGS  UNNEEDED, same version is already published
palomino3Windows Server 2022 Datacenter / x64  OK    OK    OK    OK  UNNEEDED, same version is already published
merida1macOS 12.6.4 Monterey / x86_64  OK    OK    WARNINGS    OK  UNNEEDED, same version is already published
Package 135/480HostnameOS / ArchINSTALLBUILDCHECKBUILD BIN
DrugVsDisease 2.42.0  (landing page)
j. Saez-Rodriguez
git_last_commit: 4cafa86
git_last_commit_date: 2023-04-25 10:25:32 -0400
nebbiolo1Linux (Ubuntu 22.04.2 LTS) / x86_64  OK    OK    OK  UNNEEDED, same version is already published
palomino3Windows Server 2022 Datacenter / x64  OK    OK    OK    OK  UNNEEDED, same version is already published
merida1macOS 12.6.4 Monterey / x86_64  OK    OK    OK    OK  UNNEEDED, same version is already published
Package 136/480HostnameOS / ArchINSTALLBUILDCHECKBUILD BIN
easyRNASeq 2.36.0  (landing page)
Nicolas Delhomme
git_last_commit: e5e1842
git_last_commit_date: 2023-04-25 10:22:04 -0400
nebbiolo1Linux (Ubuntu 22.04.2 LTS) / x86_64  OK    OK    OK  UNNEEDED, same version is already published
palomino3Windows Server 2022 Datacenter / x64  OK    OK    OK    OK  UNNEEDED, same version is already published
merida1macOS 12.6.4 Monterey / x86_64  OK    OK    OK    OK  UNNEEDED, same version is already published
Package 137/480HostnameOS / ArchINSTALLBUILDCHECKBUILD BIN
EBImage 4.42.0  (landing page)
Andrzej Oleś
git_last_commit: 1ed3e67
git_last_commit_date: 2023-04-25 09:43:21 -0400
nebbiolo1Linux (Ubuntu 22.04.2 LTS) / x86_64  OK    OK    OK  UNNEEDED, same version is already published
palomino3Windows Server 2022 Datacenter / x64  OK    OK    OK    OK  UNNEEDED, same version is already published
merida1macOS 12.6.4 Monterey / x86_64  OK    OK    OK    OK  UNNEEDED, same version is already published
Package 138/480HostnameOS / ArchINSTALLBUILDCHECKBUILD BIN
EDASeq 2.34.0  (landing page)
Davide Risso
git_last_commit: 71b52e3
git_last_commit_date: 2023-04-25 10:20:57 -0400
nebbiolo1Linux (Ubuntu 22.04.2 LTS) / x86_64  OK    OK    OK  UNNEEDED, same version is already published
palomino3Windows Server 2022 Datacenter / x64  OK    OK    OK    OK  UNNEEDED, same version is already published
merida1macOS 12.6.4 Monterey / x86_64  OK    OK    OK    OK  UNNEEDED, same version is already published
Package 139/480HostnameOS / ArchINSTALLBUILDCHECKBUILD BIN
eiR 1.40.0  (landing page)
Thomas Girke
git_last_commit: cfdb248
git_last_commit_date: 2023-04-25 10:26:32 -0400
nebbiolo1Linux (Ubuntu 22.04.2 LTS) / x86_64  OK    OK    OK  UNNEEDED, same version is already published
palomino3Windows Server 2022 Datacenter / x64  OK    OK    OK    OK  UNNEEDED, same version is already published
merida1macOS 12.6.4 Monterey / x86_64  OK    OK    OK    OK  UNNEEDED, same version is already published
Package 140/480HostnameOS / ArchINSTALLBUILDCHECKBUILD BIN
eisaR 1.12.0  (landing page)
Michael Stadler
git_last_commit: a520f29
git_last_commit_date: 2023-04-25 11:16:12 -0400
nebbiolo1Linux (Ubuntu 22.04.2 LTS) / x86_64  OK    OK    OK  UNNEEDED, same version is already published
palomino3Windows Server 2022 Datacenter / x64  OK    OK    OK    OK  UNNEEDED, same version is already published
merida1macOS 12.6.4 Monterey / x86_64  OK    OK    OK    OK  UNNEEDED, same version is already published
Package 141/480HostnameOS / ArchINSTALLBUILDCHECKBUILD BIN
enhancerHomologSearch 1.6.1  (landing page)
Jianhong Ou
git_last_commit: 6ff2947
git_last_commit_date: 2023-05-01 20:09:59 -0400
nebbiolo1Linux (Ubuntu 22.04.2 LTS) / x86_64  OK    OK    WARNINGS  UNNEEDED, same version is already published
palomino3Windows Server 2022 Datacenter / x64  OK    OK    WARNINGS    OK  UNNEEDED, same version is already published
merida1macOS 12.6.4 Monterey / x86_64  OK    OK    WARNINGS    OK  UNNEEDED, same version is already published
Package 142/480HostnameOS / ArchINSTALLBUILDCHECKBUILD BIN
enrichTF 1.16.0  (landing page)
Zheng Wei
git_last_commit: 5dc47d9
git_last_commit_date: 2023-04-25 11:10:05 -0400
nebbiolo1Linux (Ubuntu 22.04.2 LTS) / x86_64  OK    OK    ERROR  
palomino3Windows Server 2022 Datacenter / x64  OK    OK    OK    OK  UNNEEDED, same version is already published
merida1macOS 12.6.4 Monterey / x86_64  OK    OK    OK    OK  UNNEEDED, same version is already published
Package 143/480HostnameOS / ArchINSTALLBUILDCHECKBUILD BIN
ensembldb 2.24.0  (landing page)
Johannes Rainer
git_last_commit: 45a79a4
git_last_commit_date: 2023-04-25 10:38:28 -0400
nebbiolo1Linux (Ubuntu 22.04.2 LTS) / x86_64  OK    OK    OK  UNNEEDED, same version is already published
palomino3Windows Server 2022 Datacenter / x64  OK    OK    OK    OK  UNNEEDED, same version is already published
merida1macOS 12.6.4 Monterey / x86_64  OK    OK    OK    OK  UNNEEDED, same version is already published
Package 144/480HostnameOS / ArchINSTALLBUILDCHECKBUILD BIN
ensemblVEP 1.42.0  (landing page)
Bioconductor Package Maintainer
git_last_commit: 700e0fd
git_last_commit_date: 2023-04-25 10:25:01 -0400
nebbiolo1Linux (Ubuntu 22.04.2 LTS) / x86_64  OK    OK    OK  UNNEEDED, same version is already published
palomino3Windows Server 2022 Datacenter / x64... NOT SUPPORTED ...
merida1macOS 12.6.4 Monterey / x86_64  OK    ERROR  skippedskipped
Package 145/480HostnameOS / ArchINSTALLBUILDCHECKBUILD BIN
epialleleR 1.8.0  (landing page)
Oleksii Nikolaienko
git_last_commit: 1e1c26d
git_last_commit_date: 2023-04-25 11:29:47 -0400
nebbiolo1Linux (Ubuntu 22.04.2 LTS) / x86_64  OK    OK    WARNINGS  UNNEEDED, same version is already published
palomino3Windows Server 2022 Datacenter / x64  OK    OK    OK    OK  UNNEEDED, same version is already published
merida1macOS 12.6.4 Monterey / x86_64  OK    OK    WARNINGS    OK  UNNEEDED, same version is already published
Package 146/480HostnameOS / ArchINSTALLBUILDCHECKBUILD BIN
EpiCompare 1.4.0  (landing page)
Sera Choi
git_last_commit: 9b39948
git_last_commit_date: 2023-04-25 11:38:09 -0400
nebbiolo1Linux (Ubuntu 22.04.2 LTS) / x86_64  OK    OK    ERROR  
palomino3Windows Server 2022 Datacenter / x64  OK    ERROR  skippedskipped
merida1macOS 12.6.4 Monterey / x86_64  OK    OK    OK    OK  NO, package depends on 'ChIPseeker' which is not available
Package 147/480HostnameOS / ArchINSTALLBUILDCHECKBUILD BIN
epigenomix 1.40.0  (landing page)
Hans-Ulrich Klein
git_last_commit: 98e9d36
git_last_commit_date: 2023-04-25 10:26:05 -0400
nebbiolo1Linux (Ubuntu 22.04.2 LTS) / x86_64  OK    OK    OK  UNNEEDED, same version is already published
palomino3Windows Server 2022 Datacenter / x64  OK    OK    OK    OK  UNNEEDED, same version is already published
merida1macOS 12.6.4 Monterey / x86_64  OK    OK    OK    OK  UNNEEDED, same version is already published
Package 148/480HostnameOS / ArchINSTALLBUILDCHECKBUILD BIN
epimutacions 1.4.0  (landing page)
Dolors Pelegri-Siso
git_last_commit: 78170ad
git_last_commit_date: 2023-04-25 11:37:33 -0400
nebbiolo1Linux (Ubuntu 22.04.2 LTS) / x86_64  OK    OK    OK  UNNEEDED, same version is already published
palomino3Windows Server 2022 Datacenter / x64  OK    OK    OK    OK  UNNEEDED, same version is already published
merida1macOS 12.6.4 Monterey / x86_64  OK    OK    OK    OK  UNNEEDED, same version is already published
Package 149/480HostnameOS / ArchINSTALLBUILDCHECKBUILD BIN
epistack 1.6.0  (landing page)
DEVAILLY Guillaume
git_last_commit: c0e3cbb
git_last_commit_date: 2023-04-25 11:33:47 -0400
nebbiolo1Linux (Ubuntu 22.04.2 LTS) / x86_64  OK    OK    OK  UNNEEDED, same version is already published
palomino3Windows Server 2022 Datacenter / x64  OK    OK    OK    OK  UNNEEDED, same version is already published
merida1macOS 12.6.4 Monterey / x86_64  OK    OK    OK    OK  UNNEEDED, same version is already published
Package 150/480HostnameOS / ArchINSTALLBUILDCHECKBUILD BIN
EpiTxDb 1.12.0  (landing page)
Felix G.M. Ernst
git_last_commit: f967697
git_last_commit_date: 2023-04-25 11:16:15 -0400
nebbiolo1Linux (Ubuntu 22.04.2 LTS) / x86_64  OK    OK    OK  UNNEEDED, same version is already published
palomino3Windows Server 2022 Datacenter / x64  OK    OK    OK    OK  UNNEEDED, same version is already published
merida1macOS 12.6.4 Monterey / x86_64  OK    OK    OK    OK  UNNEEDED, same version is already published
Package 151/480HostnameOS / ArchINSTALLBUILDCHECKBUILD BIN
epivizrChart 1.22.0  (landing page)
Hector Corrada Bravo
git_last_commit: 7a87c19
git_last_commit_date: 2023-04-25 10:55:20 -0400
nebbiolo1Linux (Ubuntu 22.04.2 LTS) / x86_64  OK    OK    OK  UNNEEDED, same version is already published
palomino3Windows Server 2022 Datacenter / x64  OK    OK    OK    OK  UNNEEDED, same version is already published
merida1macOS 12.6.4 Monterey / x86_64  OK    OK    OK    OK  UNNEEDED, same version is already published
Package 152/480HostnameOS / ArchINSTALLBUILDCHECKBUILD BIN
epivizrStandalone 1.28.0  (landing page)
Hector Corrada Bravo
git_last_commit: 6cf1f53
git_last_commit_date: 2023-04-25 10:47:03 -0400
nebbiolo1Linux (Ubuntu 22.04.2 LTS) / x86_64  OK    OK    WARNINGS  UNNEEDED, same version is already published
palomino3Windows Server 2022 Datacenter / x64  OK    OK    WARNINGS    OK  UNNEEDED, same version is already published
merida1macOS 12.6.4 Monterey / x86_64  OK    OK    WARNINGS    OK  UNNEEDED, same version is already published
Package 153/480HostnameOS / ArchINSTALLBUILDCHECKBUILD BIN
erma 1.16.0  (landing page)
VJ Carey
git_last_commit: 52c2891
git_last_commit_date: 2023-04-25 10:40:09 -0400
nebbiolo1Linux (Ubuntu 22.04.2 LTS) / x86_64  OK    OK    OK  UNNEEDED, same version is already published
palomino3Windows Server 2022 Datacenter / x64  OK    OK    OK    OK  UNNEEDED, same version is already published
merida1macOS 12.6.4 Monterey / x86_64  OK    OK    OK    OK  UNNEEDED, same version is already published
Package 154/480HostnameOS / ArchINSTALLBUILDCHECKBUILD BIN
esATAC 1.22.0  (landing page)
Zheng Wei
git_last_commit: 02846bd
git_last_commit_date: 2023-04-25 10:58:10 -0400
nebbiolo1Linux (Ubuntu 22.04.2 LTS) / x86_64  OK    OK    OK  UNNEEDED, same version is already published
palomino3Windows Server 2022 Datacenter / x64  OK    OK    OK    OK  UNNEEDED, same version is already published
merida1macOS 12.6.4 Monterey / x86_64  OK    OK    OK    OK  NO, package depends on 'ChIPseeker' which is not available
Package 155/480HostnameOS / ArchINSTALLBUILDCHECKBUILD BIN
exomePeak2 1.12.0  (landing page)
Zhen Wei
git_last_commit: 4843089
git_last_commit_date: 2023-04-25 11:15:50 -0400
nebbiolo1Linux (Ubuntu 22.04.2 LTS) / x86_64  OK    OK    ERROR  
palomino3Windows Server 2022 Datacenter / x64  OK    OK    OK    OK  UNNEEDED, same version is already published
merida1macOS 12.6.4 Monterey / x86_64  OK    OK    OK    OK  UNNEEDED, same version is already published
Package 156/480HostnameOS / ArchINSTALLBUILDCHECKBUILD BIN
ExperimentHub 2.8.0  (landing page)
Bioconductor Package Maintainer
git_last_commit: f25c854
git_last_commit_date: 2023-04-25 10:44:39 -0400
nebbiolo1Linux (Ubuntu 22.04.2 LTS) / x86_64  OK    OK    WARNINGS  UNNEEDED, same version is already published
palomino3Windows Server 2022 Datacenter / x64  OK    OK    WARNINGS    OK  UNNEEDED, same version is already published
merida1macOS 12.6.4 Monterey / x86_64  OK    OK    WARNINGS    OK  UNNEEDED, same version is already published
Package 157/480HostnameOS / ArchINSTALLBUILDCHECKBUILD BIN
ExperimentHubData 1.26.0  (landing page)
Bioconductor Package Maintainer
git_last_commit: a7e53e2
git_last_commit_date: 2023-04-25 10:44:41 -0400
nebbiolo1Linux (Ubuntu 22.04.2 LTS) / x86_64  OK    OK    WARNINGS  UNNEEDED, same version is already published
palomino3Windows Server 2022 Datacenter / x64  OK    OK    WARNINGS    OK  UNNEEDED, same version is already published
merida1macOS 12.6.4 Monterey / x86_64  OK    OK    WARNINGS    OK  UNNEEDED, same version is already published
Package 158/480HostnameOS / ArchINSTALLBUILDCHECKBUILD BIN
factR 1.2.0  (landing page)
Fursham Hamid
git_last_commit: 399210e
git_last_commit_date: 2023-04-25 11:38:52 -0400
nebbiolo1Linux (Ubuntu 22.04.2 LTS) / x86_64  OK    OK    OK  UNNEEDED, same version is already published
palomino3Windows Server 2022 Datacenter / x64  OK    OK    OK    OK  UNNEEDED, same version is already published
merida1macOS 12.6.4 Monterey / x86_64  OK    OK    OK    OK  UNNEEDED, same version is already published
Package 159/480HostnameOS / ArchINSTALLBUILDCHECKBUILD BIN
FamAgg 1.28.0  (landing page)
Johannes Rainer
git_last_commit: 953ac68
git_last_commit_date: 2023-04-25 10:42:55 -0400
nebbiolo1Linux (Ubuntu 22.04.2 LTS) / x86_64  OK    OK    OK  UNNEEDED, same version is already published
palomino3Windows Server 2022 Datacenter / x64  OK    OK    OK    OK  UNNEEDED, same version is already published
merida1macOS 12.6.4 Monterey / x86_64  OK    OK    OK    OK  UNNEEDED, same version is already published
Package 160/480HostnameOS / ArchINSTALLBUILDCHECKBUILD BIN
fastseg 1.46.0  (landing page)
Alexander Blume
git_last_commit: f51432c
git_last_commit_date: 2023-04-25 10:21:47 -0400
nebbiolo1Linux (Ubuntu 22.04.2 LTS) / x86_64  OK    OK    OK  UNNEEDED, same version is already published
palomino3Windows Server 2022 Datacenter / x64  OK    OK    OK    OK  UNNEEDED, same version is already published
merida1macOS 12.6.4 Monterey / x86_64  OK    OK    OK    OK  UNNEEDED, same version is already published
Package 161/480HostnameOS / ArchINSTALLBUILDCHECKBUILD BIN
ffpe 1.44.0  (landing page)
Levi Waldron
git_last_commit: ba41140
git_last_commit_date: 2023-04-25 10:22:31 -0400
nebbiolo1Linux (Ubuntu 22.04.2 LTS) / x86_64  OK    OK    OK  UNNEEDED, same version is already published
palomino3Windows Server 2022 Datacenter / x64  OK    OK    OK    OK  UNNEEDED, same version is already published
merida1macOS 12.6.4 Monterey / x86_64  OK    OK    OK    OK  UNNEEDED, same version is already published
Package 162/480HostnameOS / ArchINSTALLBUILDCHECKBUILD BIN
FindIT2 1.6.0  (landing page)
Guandong Shang
git_last_commit: ed293ae
git_last_commit_date: 2023-04-25 11:31:01 -0400
nebbiolo1Linux (Ubuntu 22.04.2 LTS) / x86_64  OK    OK    OK  UNNEEDED, same version is already published
palomino3Windows Server 2022 Datacenter / x64  OK    OK    OK    OK  UNNEEDED, same version is already published
merida1macOS 12.6.4 Monterey / x86_64  OK    OK    OK    OK  UNNEEDED, same version is already published
Package 163/480HostnameOS / ArchINSTALLBUILDCHECKBUILD BIN
FLAMES 1.6.0  (landing page)
Oliver Voogd
git_last_commit: 31277b6
git_last_commit_date: 2023-04-25 11:31:20 -0400
nebbiolo1Linux (Ubuntu 22.04.2 LTS) / x86_64  OK    OK    WARNINGS  UNNEEDED, same version is already published
palomino3Windows Server 2022 Datacenter / x64  OK    OK    OK    OK  UNNEEDED, same version is already published
merida1macOS 12.6.4 Monterey / x86_64  OK    OK    WARNINGS    OK  NO, package depends on 'basilisk' which is not available
Package 164/480HostnameOS / ArchINSTALLBUILDCHECKBUILD BIN
flowBin 1.36.0  (landing page)
Kieran O'Neill
git_last_commit: 37db5ea
git_last_commit_date: 2023-04-25 10:29:53 -0400
nebbiolo1Linux (Ubuntu 22.04.2 LTS) / x86_64  OK    OK    OK  UNNEEDED, same version is already published
palomino3Windows Server 2022 Datacenter / x64  OK    OK    OK    OK  UNNEEDED, same version is already published
merida1macOS 12.6.4 Monterey / x86_64  OK    OK    OK    OK  UNNEEDED, same version is already published
Package 165/480HostnameOS / ArchINSTALLBUILDCHECKBUILD BIN
flowClust 3.38.0  (landing page)
Greg Finak , Mike Jiang
git_last_commit: d0d1bed
git_last_commit_date: 2023-04-25 09:46:33 -0400
nebbiolo1Linux (Ubuntu 22.04.2 LTS) / x86_64  OK    OK    WARNINGS  UNNEEDED, same version is already published
palomino3Windows Server 2022 Datacenter / x64  OK    OK    WARNINGS    OK  UNNEEDED, same version is already published
merida1macOS 12.6.4 Monterey / x86_64  OK    OK    WARNINGS    OK  UNNEEDED, same version is already published
Package 166/480HostnameOS / ArchINSTALLBUILDCHECKBUILD BIN
flowCore 2.12.0  (landing page)
Mike Jiang
git_last_commit: 04755bc
git_last_commit_date: 2023-04-25 09:44:30 -0400
nebbiolo1Linux (Ubuntu 22.04.2 LTS) / x86_64  OK    OK    WARNINGS  UNNEEDED, same version is already published
palomino3Windows Server 2022 Datacenter / x64  OK    OK    WARNINGS    OK  UNNEEDED, same version is already published
merida1macOS 12.6.4 Monterey / x86_64  OK    OK    WARNINGS    OK  UNNEEDED, same version is already published
Package 167/480HostnameOS / ArchINSTALLBUILDCHECKBUILD BIN
flowFP 1.58.0  (landing page)
Herb Holyst , Wade Rogers
git_last_commit: c5f4fe4
git_last_commit_date: 2023-04-25 09:49:01 -0400
nebbiolo1Linux (Ubuntu 22.04.2 LTS) / x86_64  OK    OK    OK  UNNEEDED, same version is already published
palomino3Windows Server 2022 Datacenter / x64  OK    OK    OK    OK  UNNEEDED, same version is already published
merida1macOS 12.6.4 Monterey / x86_64  OK    OK    OK    OK  UNNEEDED, same version is already published
Package 168/480HostnameOS / ArchINSTALLBUILDCHECKBUILD BIN
FlowSOM 2.8.0  (landing page)
Sofie Van Gassen
git_last_commit: 0b393bb
git_last_commit_date: 2023-04-25 10:36:54 -0400
nebbiolo1Linux (Ubuntu 22.04.2 LTS) / x86_64  OK    OK    OK  UNNEEDED, same version is already published
palomino3Windows Server 2022 Datacenter / x64  OK    OK    OK    OK  UNNEEDED, same version is already published
merida1macOS 12.6.4 Monterey / x86_64  OK    OK    OK    OK  UNNEEDED, same version is already published
Package 169/480HostnameOS / ArchINSTALLBUILDCHECKBUILD BIN
flowSpecs 1.14.0  (landing page)
Jakob Theorell
git_last_commit: f8d09c4
git_last_commit_date: 2023-04-25 11:12:31 -0400
nebbiolo1Linux (Ubuntu 22.04.2 LTS) / x86_64  OK    OK    OK  UNNEEDED, same version is already published
palomino3Windows Server 2022 Datacenter / x64  OK    OK    OK    OK  UNNEEDED, same version is already published
merida1macOS 12.6.4 Monterey / x86_64  OK    OK    OK    OK  UNNEEDED, same version is already published
Package 170/480HostnameOS / ArchINSTALLBUILDCHECKBUILD BIN
flowStats 4.12.0  (landing page)
Greg Finak , Mike Jiang
git_last_commit: 1ef06ff
git_last_commit_date: 2023-04-25 09:48:39 -0400
nebbiolo1Linux (Ubuntu 22.04.2 LTS) / x86_64  OK    OK    WARNINGS  UNNEEDED, same version is already published
palomino3Windows Server 2022 Datacenter / x64  OK    OK    WARNINGS    OK  UNNEEDED, same version is already published
merida1macOS 12.6.4 Monterey / x86_64  OK    OK    WARNINGS    OK  UNNEEDED, same version is already published
Package 171/480HostnameOS / ArchINSTALLBUILDCHECKBUILD BIN
flowWorkspace 4.12.0  (landing page)
Greg Finak , Mike Jiang
git_last_commit: 80d0ebe
git_last_commit_date: 2023-04-25 10:19:50 -0400
nebbiolo1Linux (Ubuntu 22.04.2 LTS) / x86_64  OK    OK    WARNINGS  UNNEEDED, same version is already published
palomino3Windows Server 2022 Datacenter / x64  OK    OK    WARNINGS    OK  UNNEEDED, same version is already published
merida1macOS 12.6.4 Monterey / x86_64  OK    OK    WARNINGS    OK  UNNEEDED, same version is already published
Package 172/480HostnameOS / ArchINSTALLBUILDCHECKBUILD BIN
fmcsR 1.42.0  (landing page)
Thomas Girke
git_last_commit: 2e1ff9c
git_last_commit_date: 2023-04-25 10:23:54 -0400
nebbiolo1Linux (Ubuntu 22.04.2 LTS) / x86_64  OK    OK    WARNINGS  UNNEEDED, same version is already published
palomino3Windows Server 2022 Datacenter / x64  OK    OK    WARNINGS    OK  UNNEEDED, same version is already published
merida1macOS 12.6.4 Monterey / x86_64  OK    OK    OK    OK  UNNEEDED, same version is already published
Package 173/480HostnameOS / ArchINSTALLBUILDCHECKBUILD BIN
FRASER 1.12.1  (landing page)
Christian Mertes
git_last_commit: 72d97bf
git_last_commit_date: 2023-05-01 20:07:22 -0400
nebbiolo1Linux (Ubuntu 22.04.2 LTS) / x86_64  OK    OK    OK  UNNEEDED, same version is already published
palomino3Windows Server 2022 Datacenter / x64  OK    OK    OK    OK  UNNEEDED, same version is already published
merida1macOS 12.6.4 Monterey / x86_64  OK    OK    OK    OK  UNNEEDED, same version is already published
Package 174/480HostnameOS / ArchINSTALLBUILDCHECKBUILD BIN
frma 1.52.0  (landing page)
Matthew N. McCall
git_last_commit: f32878d
git_last_commit_date: 2023-04-25 09:50:01 -0400
nebbiolo1Linux (Ubuntu 22.04.2 LTS) / x86_64  OK    OK    OK  UNNEEDED, same version is already published
palomino3Windows Server 2022 Datacenter / x64  OK    OK    OK    OK  UNNEEDED, same version is already published
merida1macOS 12.6.4 Monterey / x86_64  OK    OK    OK    OK  UNNEEDED, same version is already published
Package 175/480HostnameOS / ArchINSTALLBUILDCHECKBUILD BIN
GA4GHclient 1.24.0  (landing page)
Welliton Souza
git_last_commit: 6c208db
git_last_commit_date: 2023-04-25 10:53:13 -0400
nebbiolo1Linux (Ubuntu 22.04.2 LTS) / x86_64  OK    OK    OK  UNNEEDED, same version is already published
palomino3Windows Server 2022 Datacenter / x64  OK    OK    OK    OK  UNNEEDED, same version is already published
merida1macOS 12.6.4 Monterey / x86_64  OK    OK    OK    OK  UNNEEDED, same version is already published
Package 176/480HostnameOS / ArchINSTALLBUILDCHECKBUILD BIN
GA4GHshiny 1.22.0  (landing page)
Welliton Souza
git_last_commit: bbc83ac
git_last_commit_date: 2023-04-25 10:54:25 -0400
nebbiolo1Linux (Ubuntu 22.04.2 LTS) / x86_64  OK    OK    OK  UNNEEDED, same version is already published
palomino3Windows Server 2022 Datacenter / x64  OK    OK    OK    OK  UNNEEDED, same version is already published
merida1macOS 12.6.4 Monterey / x86_64  OK    OK    OK    OK  UNNEEDED, same version is already published
Package 177/480HostnameOS / ArchINSTALLBUILDCHECKBUILD BIN
gcapc 1.24.0  (landing page)
Mingxiang Teng
git_last_commit: e7a1d17
git_last_commit_date: 2023-04-25 10:51:22 -0400
nebbiolo1Linux (Ubuntu 22.04.2 LTS) / x86_64  OK    OK    OK  UNNEEDED, same version is already published
palomino3Windows Server 2022 Datacenter / x64  OK    OK    OK    OK  UNNEEDED, same version is already published
merida1macOS 12.6.4 Monterey / x86_64  OK    OK    OK    OK  UNNEEDED, same version is already published
Package 178/480HostnameOS / ArchINSTALLBUILDCHECKBUILD BIN
GDSArray 1.20.0  (landing page)
Qian Liu
git_last_commit: d4934a6
git_last_commit_date: 2023-04-25 11:00:38 -0400
nebbiolo1Linux (Ubuntu 22.04.2 LTS) / x86_64  OK    OK    OK  UNNEEDED, same version is already published
palomino3Windows Server 2022 Datacenter / x64  OK    OK    OK    OK  UNNEEDED, same version is already published
merida1macOS 12.6.4 Monterey / x86_64  OK    OK    OK    OK  UNNEEDED, same version is already published
Package 179/480HostnameOS / ArchINSTALLBUILDCHECKBUILD BIN
genbankr 1.28.0  (landing page)
Gabriel Becker
git_last_commit: 397e5bb
git_last_commit_date: 2023-04-25 10:46:27 -0400
nebbiolo1Linux (Ubuntu 22.04.2 LTS) / x86_64  OK    ERROR  skipped
palomino3Windows Server 2022 Datacenter / x64  OK    ERROR  skippedskipped
merida1macOS 12.6.4 Monterey / x86_64  OK    ERROR  skippedskipped
Package 180/480HostnameOS / ArchINSTALLBUILDCHECKBUILD BIN
geneAttribution 1.26.0  (landing page)
Arthur Wuster
git_last_commit: 622b748
git_last_commit_date: 2023-04-25 10:49:16 -0400
nebbiolo1Linux (Ubuntu 22.04.2 LTS) / x86_64  OK    OK    OK  UNNEEDED, same version is already published
palomino3Windows Server 2022 Datacenter / x64  OK    OK    OK    OK  UNNEEDED, same version is already published
merida1macOS 12.6.4 Monterey / x86_64  OK    OK    OK    OK  UNNEEDED, same version is already published
Package 181/480HostnameOS / ArchINSTALLBUILDCHECKBUILD BIN
geneClassifiers 1.24.0  (landing page)
R Kuiper
git_last_commit: 84ba209
git_last_commit_date: 2023-04-25 10:52:19 -0400
nebbiolo1Linux (Ubuntu 22.04.2 LTS) / x86_64  OK    OK    OK  UNNEEDED, same version is already published
palomino3Windows Server 2022 Datacenter / x64  OK    OK    OK    OK  UNNEEDED, same version is already published
merida1macOS 12.6.4 Monterey / x86_64  OK    OK    OK    OK  UNNEEDED, same version is already published
Package 182/480HostnameOS / ArchINSTALLBUILDCHECKBUILD BIN
geneplotter 1.78.0  (landing page)
Bioconductor Package Maintainer
git_last_commit: a105c51
git_last_commit_date: 2023-04-25 09:38:21 -0400
nebbiolo1Linux (Ubuntu 22.04.2 LTS) / x86_64  OK    OK    OK  UNNEEDED, same version is already published
palomino3Windows Server 2022 Datacenter / x64  OK    OK    OK    OK  UNNEEDED, same version is already published
merida1macOS 12.6.4 Monterey / x86_64  OK    OK    OK    OK  UNNEEDED, same version is already published
Package 183/480HostnameOS / ArchINSTALLBUILDCHECKBUILD BIN
GENESIS 2.30.0  (landing page)
Stephanie M. Gogarten
git_last_commit: 4b00d85
git_last_commit_date: 2023-04-25 10:38:20 -0400
nebbiolo1Linux (Ubuntu 22.04.2 LTS) / x86_64  OK    OK    OK  UNNEEDED, same version is already published
palomino3Windows Server 2022 Datacenter / x64  OK    OK    OK    OK  UNNEEDED, same version is already published
merida1macOS 12.6.4 Monterey / x86_64  OK    OK    OK    OK  UNNEEDED, same version is already published
Package 184/480HostnameOS / ArchINSTALLBUILDCHECKBUILD BIN
GenomAutomorphism 1.2.0  (landing page)
Robersy Sanchez
git_last_commit: 1587377
git_last_commit_date: 2023-04-25 11:39:24 -0400
nebbiolo1Linux (Ubuntu 22.04.2 LTS) / x86_64  OK    OK    OK  UNNEEDED, same version is already published
palomino3Windows Server 2022 Datacenter / x64  OK    OK    OK    OK  UNNEEDED, same version is already published
merida1macOS 12.6.4 Monterey / x86_64  OK    OK    OK    OK  UNNEEDED, same version is already published
Package 185/480HostnameOS / ArchINSTALLBUILDCHECKBUILD BIN
GenomeInfoDb 1.36.0  (landing page)
Hervé Pagès
git_last_commit: c380bb9
git_last_commit_date: 2023-04-25 10:30:15 -0400
nebbiolo1Linux (Ubuntu 22.04.2 LTS) / x86_64  OK    OK    WARNINGS  UNNEEDED, same version is already published
palomino3Windows Server 2022 Datacenter / x64  OK    OK    WARNINGS    OK  UNNEEDED, same version is already published
merida1macOS 12.6.4 Monterey / x86_64  OK    OK    WARNINGS    OK  UNNEEDED, same version is already published
Package 186/480HostnameOS / ArchINSTALLBUILDCHECKBUILD BIN
genomeIntervals 1.56.0  (landing page)
Julien Gagneur
git_last_commit: 3118724
git_last_commit_date: 2023-04-25 09:48:24 -0400
nebbiolo1Linux (Ubuntu 22.04.2 LTS) / x86_64  OK    OK    WARNINGS  UNNEEDED, same version is already published
palomino3Windows Server 2022 Datacenter / x64  OK    OK    WARNINGS    OK  UNNEEDED, same version is already published
merida1macOS 12.6.4 Monterey / x86_64  OK    OK    WARNINGS    OK  UNNEEDED, same version is already published
Package 187/480HostnameOS / ArchINSTALLBUILDCHECKBUILD BIN
GenomicAlignments 1.36.0  (landing page)
Hervé Pagès
git_last_commit: cdc1aa4
git_last_commit_date: 2023-04-25 10:29:36 -0400
nebbiolo1Linux (Ubuntu 22.04.2 LTS) / x86_64  OK    OK    WARNINGS  UNNEEDED, same version is already published
palomino3Windows Server 2022 Datacenter / x64  OK    OK    WARNINGS    OK  UNNEEDED, same version is already published
merida1macOS 12.6.4 Monterey / x86_64  OK    OK    WARNINGS    OK  UNNEEDED, same version is already published
Package 188/480HostnameOS / ArchINSTALLBUILDCHECKBUILD BIN
GenomicFeatures 1.52.0  (landing page)
H. Pagès
git_last_commit: 207ff08
git_last_commit_date: 2023-04-25 09:49:30 -0400
nebbiolo1Linux (Ubuntu 22.04.2 LTS) / x86_64  OK    OK    ERROR  
palomino3Windows Server 2022 Datacenter / x64  OK    OK    WARNINGS    OK  UNNEEDED, same version is already published
merida1macOS 12.6.4 Monterey / x86_64  OK    OK    WARNINGS    OK  UNNEEDED, same version is already published
Package 189/480HostnameOS / ArchINSTALLBUILDCHECKBUILD BIN
GenomicFiles 1.36.0  (landing page)
Bioconductor Package Maintainer
git_last_commit: 8697b9a
git_last_commit_date: 2023-04-25 10:31:49 -0400
nebbiolo1Linux (Ubuntu 22.04.2 LTS) / x86_64  OK    OK    WARNINGS  UNNEEDED, same version is already published
palomino3Windows Server 2022 Datacenter / x64  OK    OK    WARNINGS    OK  UNNEEDED, same version is already published
merida1macOS 12.6.4 Monterey / x86_64  OK    OK    WARNINGS    OK  UNNEEDED, same version is already published
Package 190/480HostnameOS / ArchINSTALLBUILDCHECKBUILD BIN
GenomicInteractions 1.34.0  (landing page)
Liz Ing-Simmons
git_last_commit: 9f6a4ce
git_last_commit_date: 2023-04-25 10:34:50 -0400
nebbiolo1Linux (Ubuntu 22.04.2 LTS) / x86_64  OK    OK    OK  UNNEEDED, same version is already published
palomino3Windows Server 2022 Datacenter / x64  OK    OK    OK    OK  UNNEEDED, same version is already published
merida1macOS 12.6.4 Monterey / x86_64  OK    OK    OK    OK  UNNEEDED, same version is already published
Package 191/480HostnameOS / ArchINSTALLBUILDCHECKBUILD BIN
GenomicRanges 1.52.0  (landing page)
Hervé Pagès
git_last_commit: 883f125
git_last_commit_date: 2023-04-25 09:50:24 -0400
nebbiolo1Linux (Ubuntu 22.04.2 LTS) / x86_64  OK    OK    WARNINGS  UNNEEDED, same version is already published
palomino3Windows Server 2022 Datacenter / x64  OK    OK    WARNINGS    OK  UNNEEDED, same version is already published
merida1macOS 12.6.4 Monterey / x86_64  OK    OK    WARNINGS    OK  UNNEEDED, same version is already published
Package 192/480HostnameOS / ArchINSTALLBUILDCHECKBUILD BIN
GenomicScores 2.12.0  (landing page)
Robert Castelo
git_last_commit: a4c785f
git_last_commit_date: 2023-04-25 10:53:43 -0400
nebbiolo1Linux (Ubuntu 22.04.2 LTS) / x86_64  OK    OK    OK  UNNEEDED, same version is already published
palomino3Windows Server 2022 Datacenter / x64  OK    OK    OK    OK  UNNEEDED, same version is already published
merida1macOS 12.6.4 Monterey / x86_64  OK    OK    OK    OK  UNNEEDED, same version is already published
Package 193/480HostnameOS / ArchINSTALLBUILDCHECKBUILD BIN
GenomicTuples 1.34.0  (landing page)
Peter Hickey
git_last_commit: a121b3b
git_last_commit_date: 2023-04-25 10:35:32 -0400
nebbiolo1Linux (Ubuntu 22.04.2 LTS) / x86_64  OK    OK    WARNINGS  UNNEEDED, same version is already published
palomino3Windows Server 2022 Datacenter / x64  OK    OK    WARNINGS    OK  UNNEEDED, same version is already published
merida1macOS 12.6.4 Monterey / x86_64  OK    OK    WARNINGS    OK  UNNEEDED, same version is already published
Package 194/480HostnameOS / ArchINSTALLBUILDCHECKBUILD BIN
genotypeeval 1.32.0  (landing page)
Jennifer Tom
git_last_commit: b541dbb
git_last_commit_date: 2023-04-25 10:40:30 -0400
nebbiolo1Linux (Ubuntu 22.04.2 LTS) / x86_64  OK    OK    ERROR  
palomino3Windows Server 2022 Datacenter / x64  OK    OK    ERROR    OK  
merida1macOS 12.6.4 Monterey / x86_64  OK    OK    ERROR    OK  
Package 195/480HostnameOS / ArchINSTALLBUILDCHECKBUILD BIN
GenVisR 1.32.0  (landing page)
Zachary Skidmore
git_last_commit: 8b1b564
git_last_commit_date: 2023-04-25 10:43:51 -0400
nebbiolo1Linux (Ubuntu 22.04.2 LTS) / x86_64  OK    OK    ERROR  
palomino3Windows Server 2022 Datacenter / x64  OK    OK    ERROR    OK  
merida1macOS 12.6.4 Monterey / x86_64  OK    OK    ERROR    OK  
Package 196/480HostnameOS / ArchINSTALLBUILDCHECKBUILD BIN
GeomxTools 3.4.0  (landing page)
Nicole Ortogero
git_last_commit: 776a43c
git_last_commit_date: 2023-04-25 11:26:17 -0400
nebbiolo1Linux (Ubuntu 22.04.2 LTS) / x86_64  OK    OK    WARNINGS  UNNEEDED, same version is already published
palomino3Windows Server 2022 Datacenter / x64  OK    OK    WARNINGS    OK  UNNEEDED, same version is already published
merida1macOS 12.6.4 Monterey / x86_64  OK    OK    TIMEOUT    OK  
Package 197/480HostnameOS / ArchINSTALLBUILDCHECKBUILD BIN
ggbio 1.48.0  (landing page)
Michael Lawrence
git_last_commit: fd4ebca
git_last_commit_date: 2023-04-25 10:21:27 -0400
nebbiolo1Linux (Ubuntu 22.04.2 LTS) / x86_64  OK    OK    WARNINGS  UNNEEDED, same version is already published
palomino3Windows Server 2022 Datacenter / x64  OK    OK    WARNINGS    OK  UNNEEDED, same version is already published
merida1macOS 12.6.4 Monterey / x86_64  OK    OK    WARNINGS    OK  UNNEEDED, same version is already published
Package 198/480HostnameOS / ArchINSTALLBUILDCHECKBUILD BIN
girafe 1.52.0  (landing page)
J. Toedling
git_last_commit: d07f687
git_last_commit_date: 2023-04-25 09:50:34 -0400
nebbiolo1Linux (Ubuntu 22.04.2 LTS) / x86_64  OK    OK    OK  UNNEEDED, same version is already published
palomino3Windows Server 2022 Datacenter / x64  OK    OK    OK    OK  UNNEEDED, same version is already published
merida1macOS 12.6.4 Monterey / x86_64  OK    OK    OK    OK  UNNEEDED, same version is already published
Package 199/480HostnameOS / ArchINSTALLBUILDCHECKBUILD BIN
glmGamPoi 1.12.1  (landing page)
Constantin Ahlmann-Eltze
git_last_commit: 54a6667
git_last_commit_date: 2023-05-01 20:10:29 -0400
nebbiolo1Linux (Ubuntu 22.04.2 LTS) / x86_64  OK    OK    ERROR  
palomino3Windows Server 2022 Datacenter / x64  OK    OK    ERROR    OK  
merida1macOS 12.6.4 Monterey / x86_64  OK    OK    ERROR    OK  
Package 200/480HostnameOS / ArchINSTALLBUILDCHECKBUILD BIN
gmapR 1.42.0  (landing page)
Michael Lawrence
git_last_commit: 506bc70
git_last_commit_date: 2023-04-25 10:23:34 -0400
nebbiolo1Linux (Ubuntu 22.04.2 LTS) / x86_64  OK    OK    WARNINGS  UNNEEDED, same version is already published
palomino3Windows Server 2022 Datacenter / x64... NOT SUPPORTED ...
merida1macOS 12.6.4 Monterey / x86_64  ERROR    ERROR  skippedskipped
Package 201/480HostnameOS / ArchINSTALLBUILDCHECKBUILD BIN
gmoviz 1.12.0  (landing page)
Kathleen Zeglinski
git_last_commit: 3f10d0a
git_last_commit_date: 2023-04-25 11:16:28 -0400
nebbiolo1Linux (Ubuntu 22.04.2 LTS) / x86_64  OK    OK    OK  UNNEEDED, same version is already published
palomino3Windows Server 2022 Datacenter / x64  OK    OK    OK    OK  UNNEEDED, same version is already published
merida1macOS 12.6.4 Monterey / x86_64  OK    OK    OK    OK  UNNEEDED, same version is already published
Package 202/480HostnameOS / ArchINSTALLBUILDCHECKBUILD BIN
goseq 1.52.0  (landing page)
Matthew Young , Nadia Davidson
git_last_commit: d6b0cfd
git_last_commit_date: 2023-04-25 09:50:42 -0400
nebbiolo1Linux (Ubuntu 22.04.2 LTS) / x86_64  OK    OK    OK  UNNEEDED, same version is already published
palomino3Windows Server 2022 Datacenter / x64  OK    OK    OK    OK  UNNEEDED, same version is already published
merida1macOS 12.6.4 Monterey / x86_64  OK    OK    OK    OK  UNNEEDED, same version is already published
Package 203/480HostnameOS / ArchINSTALLBUILDCHECKBUILD BIN
GOTHiC 1.36.0  (landing page)
Borbala Mifsud
git_last_commit: ade51bc
git_last_commit_date: 2023-04-25 11:11:06 -0400
nebbiolo1Linux (Ubuntu 22.04.2 LTS) / x86_64  OK    OK    OK  UNNEEDED, same version is already published
palomino3Windows Server 2022 Datacenter / x64  OK    OK    OK    OK  UNNEEDED, same version is already published
merida1macOS 12.6.4 Monterey / x86_64  OK    OK    OK    OK  UNNEEDED, same version is already published
Package 204/480HostnameOS / ArchINSTALLBUILDCHECKBUILD BIN
gpuMagic 1.16.0  (landing page)
Jiefei Wang
git_last_commit: 42d6a9a
git_last_commit_date: 2023-04-25 11:10:00 -0400
nebbiolo1Linux (Ubuntu 22.04.2 LTS) / x86_64  OK    OK    OK  UNNEEDED, same version is already published
palomino3Windows Server 2022 Datacenter / x64  OK    OK    OK    OK  UNNEEDED, same version is already published
merida1macOS 12.6.4 Monterey / x86_64  OK    OK    OK    OK  UNNEEDED, same version is already published
Package 205/480HostnameOS / ArchINSTALLBUILDCHECKBUILD BIN
graph 1.78.0  (landing page)
Bioconductor Package Maintainer
git_last_commit: 9df68e8
git_last_commit_date: 2023-04-25 09:38:48 -0400
nebbiolo1Linux (Ubuntu 22.04.2 LTS) / x86_64  OK    OK    OK  UNNEEDED, same version is already published
palomino3Windows Server 2022 Datacenter / x64  OK    OK    OK    OK  UNNEEDED, same version is already published
merida1macOS 12.6.4 Monterey / x86_64  OK    OK    OK    OK  UNNEEDED, same version is already published
Package 206/480HostnameOS / ArchINSTALLBUILDCHECKBUILD BIN
GSEABase 1.62.0  (landing page)
Bioconductor Package Maintainer
git_last_commit: fc20cbc
git_last_commit_date: 2023-04-25 09:45:30 -0400
nebbiolo1Linux (Ubuntu 22.04.2 LTS) / x86_64  OK    OK    OK  UNNEEDED, same version is already published
palomino3Windows Server 2022 Datacenter / x64  OK    OK    OK    OK