Back to Multiple platform build/check report for BioC 3.17: simplified long |
|
This page was generated on 2023-10-04 11:36:02 -0400 (Wed, 04 Oct 2023).
Hostname | OS | Arch (*) | R version | Installed pkgs |
---|---|---|---|---|
nebbiolo1 | Linux (Ubuntu 22.04.2 LTS) | x86_64 | 4.3.1 (2023-06-16) -- "Beagle Scouts" | 4626 |
palomino3 | Windows Server 2022 Datacenter | x64 | 4.3.1 (2023-06-16 ucrt) -- "Beagle Scouts" | 4379 |
merida1 | macOS 12.6.4 Monterey | x86_64 | 4.3.1 (2023-06-16) -- "Beagle Scouts" | 4395 |
Click on any hostname to see more info about the system (e.g. compilers) (*) as reported by 'uname -p', except on Windows and Mac OS X |
Package 1838/2230 | Hostname | OS / Arch | INSTALL | BUILD | CHECK | BUILD BIN | ||||||||
scFeatures 1.0.0 (landing page) Yue Cao
| nebbiolo1 | Linux (Ubuntu 22.04.2 LTS) / x86_64 | OK | OK | OK | ![]() | ||||||||
palomino3 | Windows Server 2022 Datacenter / x64 | OK | OK | OK | OK | ![]() | ||||||||
merida1 | macOS 12.6.4 Monterey / x86_64 | OK | OK | OK | OK | ![]() | ||||||||
To the developers/maintainers of the scFeatures package: - Allow up to 24 hours (and sometimes 48 hours) for your latest push to git@git.bioconductor.org:packages/scFeatures.git to reflect on this report. See Troubleshooting Build Report for more information. - Use the following Renviron settings to reproduce errors and warnings. - If 'R CMD check' started to fail recently on the Linux builder(s) over a missing dependency, add the missing dependency to 'Suggests:' in your DESCRIPTION file. See Renviron.bioc for more information. |
Package: scFeatures |
Version: 1.0.0 |
Command: /home/biocbuild/bbs-3.17-bioc/R/bin/R CMD check --install=check:scFeatures.install-out.txt --library=/home/biocbuild/bbs-3.17-bioc/R/site-library --timings scFeatures_1.0.0.tar.gz |
StartedAt: 2023-10-04 00:48:23 -0400 (Wed, 04 Oct 2023) |
EndedAt: 2023-10-04 00:58:24 -0400 (Wed, 04 Oct 2023) |
EllapsedTime: 601.1 seconds |
RetCode: 0 |
Status: OK |
CheckDir: scFeatures.Rcheck |
Warnings: 0 |
############################################################################## ############################################################################## ### ### Running command: ### ### /home/biocbuild/bbs-3.17-bioc/R/bin/R CMD check --install=check:scFeatures.install-out.txt --library=/home/biocbuild/bbs-3.17-bioc/R/site-library --timings scFeatures_1.0.0.tar.gz ### ############################################################################## ############################################################################## * using log directory ‘/home/biocbuild/bbs-3.17-bioc/meat/scFeatures.Rcheck’ * using R version 4.3.1 (2023-06-16) * using platform: x86_64-pc-linux-gnu (64-bit) * R was compiled by gcc (Ubuntu 11.3.0-1ubuntu1~22.04.1) 11.3.0 GNU Fortran (Ubuntu 11.3.0-1ubuntu1~22.04.1) 11.3.0 * running under: Ubuntu 22.04.3 LTS * using session charset: UTF-8 * checking for file ‘scFeatures/DESCRIPTION’ ... OK * this is package ‘scFeatures’ version ‘1.0.0’ * package encoding: UTF-8 * checking package namespace information ... OK * checking package dependencies ... OK * checking if this is a source package ... OK * checking if there is a namespace ... OK * checking for hidden files and directories ... OK * checking for portable file names ... OK * checking for sufficient/correct file permissions ... OK * checking whether package ‘scFeatures’ can be installed ... OK * checking installed package size ... OK * checking package directory ... OK * checking ‘build’ directory ... OK * checking DESCRIPTION meta-information ... OK * checking top-level files ... OK * checking for left-over files ... OK * checking index information ... OK * checking package subdirectories ... OK * checking R files for non-ASCII characters ... OK * checking R files for syntax errors ... OK * checking whether the package can be loaded ... OK * checking whether the package can be loaded with stated dependencies ... OK * checking whether the package can be unloaded cleanly ... OK * checking whether the namespace can be loaded with stated dependencies ... OK * checking whether the namespace can be unloaded cleanly ... OK * checking loading without being on the library search path ... OK * checking dependencies in R code ... NOTE Namespace in Imports field not imported from: 'DT' All declared Imports should be used. * checking S3 generic/method consistency ... OK * checking replacement functions ... OK * checking foreign function calls ... OK * checking R code for possible problems ... NOTE helper_CCI: no visible binding for global variable 'LRdb' helper_CCI: no visible global function definition for 'capture.output' run_pathway_gsva: no visible global function definition for 'capture.output' Undefined global functions or variables: LRdb capture.output Consider adding importFrom("utils", "capture.output") to your NAMESPACE file. * checking Rd files ... OK * checking Rd metadata ... OK * checking Rd cross-references ... OK * checking for missing documentation entries ... OK * checking for code/documentation mismatches ... OK * checking Rd \usage sections ... OK * checking Rd contents ... OK * checking for unstated dependencies in examples ... OK * checking contents of ‘data’ directory ... OK * checking data for non-ASCII characters ... OK * checking data for ASCII and uncompressed saves ... OK * checking files in ‘vignettes’ ... OK * checking examples ... OK Examples with CPU (user + system) or elapsed time > 5s user system elapsed run_pathway_prop 14.552 0.786 15.338 run_pathway_gsva 8.988 0.886 9.873 run_pathway_mean 7.687 0.712 8.400 remove_mito_ribo 1.824 4.698 0.731 * checking for unstated dependencies in vignettes ... OK * checking package vignettes in ‘inst/doc’ ... OK * checking running R code from vignettes ... ‘scFeatures_overview.Rmd’ using ‘UTF-8’... OK NONE * checking re-building of vignette outputs ... OK * checking PDF version of manual ... OK * DONE Status: 2 NOTEs See ‘/home/biocbuild/bbs-3.17-bioc/meat/scFeatures.Rcheck/00check.log’ for details.
scFeatures.Rcheck/00install.out
############################################################################## ############################################################################## ### ### Running command: ### ### /home/biocbuild/bbs-3.17-bioc/R/bin/R CMD INSTALL scFeatures ### ############################################################################## ############################################################################## * installing to library ‘/home/biocbuild/bbs-3.17-bioc/R/site-library’ * installing *source* package ‘scFeatures’ ... ** using staged installation ** R ** data ** inst ** byte-compile and prepare package for lazy loading ** help *** installing help indices ** building package indices ** installing vignettes ** testing if installed package can be loaded from temporary location ** testing if installed package can be loaded from final location ** testing if installed package keeps a record of temporary installation path * DONE (scFeatures)
scFeatures.Rcheck/scFeatures-Ex.timings
name | user | system | elapsed | |
get_num_cell_per_spot | 1.533 | 0.129 | 1.661 | |
makeSeurat | 0.184 | 0.016 | 0.201 | |
process_data | 0.457 | 0.036 | 0.493 | |
remove_mito_ribo | 1.824 | 4.698 | 0.731 | |
run_CCI | 2.467 | 0.355 | 2.823 | |
run_L_function | 0.870 | 0.144 | 1.016 | |
run_Morans_I | 1.275 | 0.224 | 1.498 | |
run_association_study_report | 3.559 | 0.328 | 3.900 | |
run_celltype_interaction | 0.699 | 0.052 | 0.751 | |
run_gene_cor | 2.455 | 0.153 | 2.374 | |
run_gene_cor_celltype | 3.323 | 0.032 | 3.295 | |
run_gene_mean | 4.438 | 0.155 | 4.591 | |
run_gene_mean_celltype | 3.726 | 0.165 | 3.892 | |
run_gene_prop | 2.135 | 0.033 | 2.168 | |
run_gene_prop_celltype | 3.763 | 0.177 | 3.940 | |
run_nn_correlation | 0.803 | 0.032 | 0.834 | |
run_pathway_gsva | 8.988 | 0.886 | 9.873 | |
run_pathway_mean | 7.687 | 0.712 | 8.400 | |
run_pathway_prop | 14.552 | 0.786 | 15.338 | |
run_proportion_logit | 0.315 | 0.008 | 0.323 | |
run_proportion_ratio | 0.406 | 0.020 | 0.426 | |
run_proportion_raw | 0.331 | 0.028 | 0.359 | |
scFeatures | 1.833 | 2.842 | 0.495 | |