Back to Multiple platform build/check report for BioC 3.17:   simplified   long
ABCDEFGHIJKLMNOPQR[S]TUVWXYZ

This page was generated on 2023-03-22 11:05:31 -0400 (Wed, 22 Mar 2023).

HostnameOSArch (*)R versionInstalled pkgs
nebbiolo1Linux (Ubuntu 22.04.1 LTS)x86_64R Under development (unstable) (2023-03-16 r83996) -- "Unsuffered Consequences" 4508
palomino3Windows Server 2022 Datacenterx64R Under development (unstable) (2023-03-15 r83984 ucrt) -- "Unsuffered Consequences" 4293
merida1macOS 10.14.6 Mojavex86_64R Under development (unstable) (2023-03-16 r83985) -- "Unsuffered Consequences" 4290
Click on any hostname to see more info about the system (e.g. compilers)      (*) as reported by 'uname -p', except on Windows and Mac OS X

CHECK results for SparseSignatures on nebbiolo1


To the developers/maintainers of the SparseSignatures package:
- Please allow up to 24 hours (and sometimes 48 hours) for your latest push to git@git.bioconductor.org:packages/SparseSignatures.git to
reflect on this report. See How and When does the builder pull? When will my changes propagate? for more information.
- Make sure to use the following settings in order to reproduce any error or warning you see on this page.

raw results

Package 1933/2189HostnameOS / ArchINSTALLBUILDCHECKBUILD BIN
SparseSignatures 2.9.0  (landing page)
Luca De Sano
Snapshot Date: 2023-03-21 14:00:22 -0400 (Tue, 21 Mar 2023)
git_url: https://git.bioconductor.org/packages/SparseSignatures
git_branch: master
git_last_commit: 85afd62
git_last_commit_date: 2022-11-01 11:17:34 -0400 (Tue, 01 Nov 2022)
nebbiolo1Linux (Ubuntu 22.04.1 LTS) / x86_64  OK    OK    OK  UNNEEDED, same version is already published
palomino3Windows Server 2022 Datacenter / x64  OK    OK    OK    OK  UNNEEDED, same version is already published
merida1macOS 10.14.6 Mojave / x86_64  OK    OK    OK    OK  UNNEEDED, same version is already published

Summary

Package: SparseSignatures
Version: 2.9.0
Command: /home/biocbuild/bbs-3.17-bioc/R/bin/R CMD check --install=check:SparseSignatures.install-out.txt --library=/home/biocbuild/bbs-3.17-bioc/R/site-library --timings SparseSignatures_2.9.0.tar.gz
StartedAt: 2023-03-22 00:08:10 -0400 (Wed, 22 Mar 2023)
EndedAt: 2023-03-22 00:19:11 -0400 (Wed, 22 Mar 2023)
EllapsedTime: 661.4 seconds
RetCode: 0
Status:   OK  
CheckDir: SparseSignatures.Rcheck
Warnings: 0

Command output

##############################################################################
##############################################################################
###
### Running command:
###
###   /home/biocbuild/bbs-3.17-bioc/R/bin/R CMD check --install=check:SparseSignatures.install-out.txt --library=/home/biocbuild/bbs-3.17-bioc/R/site-library --timings SparseSignatures_2.9.0.tar.gz
###
##############################################################################
##############################################################################


* using log directory ‘/home/biocbuild/bbs-3.17-bioc/meat/SparseSignatures.Rcheck’
* using R Under development (unstable) (2023-03-16 r83996)
* using platform: x86_64-pc-linux-gnu (64-bit)
* R was compiled by
    gcc (Ubuntu 11.3.0-1ubuntu1~22.04) 11.3.0
    GNU Fortran (Ubuntu 11.3.0-1ubuntu1~22.04) 11.3.0
* running under: Ubuntu 22.04.2 LTS
* using session charset: UTF-8
* checking for file ‘SparseSignatures/DESCRIPTION’ ... OK
* this is package ‘SparseSignatures’ version ‘2.9.0’
* package encoding: UTF-8
* checking package namespace information ... OK
* checking package dependencies ... OK
* checking if this is a source package ... OK
* checking if there is a namespace ... OK
* checking for hidden files and directories ... OK
* checking for portable file names ... OK
* checking for sufficient/correct file permissions ... OK
* checking whether package ‘SparseSignatures’ can be installed ... OK
* checking installed package size ... OK
* checking package directory ... OK
* checking ‘build’ directory ... OK
* checking DESCRIPTION meta-information ... OK
* checking top-level files ... OK
* checking for left-over files ... OK
* checking index information ... OK
* checking package subdirectories ... OK
* checking R files for non-ASCII characters ... OK
* checking R files for syntax errors ... OK
* checking whether the package can be loaded ... OK
* checking whether the package can be loaded with stated dependencies ... OK
* checking whether the package can be unloaded cleanly ... OK
* checking whether the namespace can be loaded with stated dependencies ... OK
* checking whether the namespace can be unloaded cleanly ... OK
* checking loading without being on the library search path ... OK
* checking dependencies in R code ... OK
* checking S3 generic/method consistency ... OK
* checking replacement functions ... OK
* checking foreign function calls ... OK
* checking R code for possible problems ... NOTE
import.trinucleotides.counts: no visible global function definition for
  ‘.’
patients.plot: no visible binding for global variable ‘Context’
patients.plot: no visible binding for global variable ‘alt’
patients.plot: no visible binding for global variable ‘patient’
patients.plot: no visible binding for global variable ‘value’
signatures.plot: no visible binding for global variable ‘Context’
signatures.plot: no visible binding for global variable ‘alt’
signatures.plot: no visible binding for global variable ‘value’
Undefined global functions or variables:
  . Context alt patient value
* checking Rd files ... OK
* checking Rd metadata ... OK
* checking Rd cross-references ... OK
* checking for missing documentation entries ... OK
* checking for code/documentation mismatches ... OK
* checking Rd \usage sections ... OK
* checking Rd contents ... OK
* checking for unstated dependencies in examples ... OK
* checking contents of ‘data’ directory ... OK
* checking data for non-ASCII characters ... OK
* checking data for ASCII and uncompressed saves ... OK
* checking files in ‘vignettes’ ... OK
* checking examples ... OK
Examples with CPU (user + system) or elapsed time > 5s
                             user system elapsed
lambdaRangeBetaEvaluation  88.735  0.500  89.235
lambdaRangeAlphaEvaluation 80.609  0.552  81.163
nmfLassoBootstrap          11.879  0.080  11.960
nmfLassoCV                 11.280  0.068  11.349
nmfLasso                    5.391  0.036   5.427
* checking for unstated dependencies in ‘tests’ ... OK
* checking tests ...
  Running ‘testthat.R’
 OK
* checking for unstated dependencies in vignettes ... OK
* checking package vignettes in ‘inst/doc’ ... OK
* checking running R code from vignettes ...
  ‘vignette.Rnw’ using ‘UTF-8’... OK
 NONE
* checking re-building of vignette outputs ... OK
* checking PDF version of manual ... OK
* DONE

Status: 1 NOTE
See
  ‘/home/biocbuild/bbs-3.17-bioc/meat/SparseSignatures.Rcheck/00check.log’
for details.



Installation output

SparseSignatures.Rcheck/00install.out

##############################################################################
##############################################################################
###
### Running command:
###
###   /home/biocbuild/bbs-3.17-bioc/R/bin/R CMD INSTALL SparseSignatures
###
##############################################################################
##############################################################################


* installing to library ‘/home/biocbuild/bbs-3.17-bioc/R/site-library’
* installing *source* package ‘SparseSignatures’ ...
** using staged installation
** R
** data
** inst
** byte-compile and prepare package for lazy loading
** help
*** installing help indices
** building package indices
** installing vignettes
** testing if installed package can be loaded from temporary location
** testing if installed package can be loaded from final location
** testing if installed package keeps a record of temporary installation path
* DONE (SparseSignatures)

Tests output

SparseSignatures.Rcheck/tests/testthat.Rout


R Under development (unstable) (2023-03-16 r83996) -- "Unsuffered Consequences"
Copyright (C) 2023 The R Foundation for Statistical Computing
Platform: x86_64-pc-linux-gnu (64-bit)

R is free software and comes with ABSOLUTELY NO WARRANTY.
You are welcome to redistribute it under certain conditions.
Type 'license()' or 'licence()' for distribution details.

R is a collaborative project with many contributors.
Type 'contributors()' for more information and
'citation()' on how to cite R or R packages in publications.

Type 'demo()' for some demos, 'help()' for on-line help, or
'help.start()' for an HTML browser interface to help.
Type 'q()' to quit R.

> Sys.setenv("R_TESTS" = "")
> 
> library("testthat")
> library("SparseSignatures")
Loading required package: NMF
Loading required package: registry
Loading required package: rngtools
Loading required package: cluster
NMF - BioConductor layer [OK] | Shared memory capabilities [NO: synchronicity] | Cores 2/2
  To enable shared memory capabilities, try: install.extras('
NMF
')

Attaching package: 'NMF'

The following object is masked from 'package:testthat':

    compare

> 
> test_check("SparseSignatures")
[ FAIL 0 | WARN 0 | SKIP 0 | PASS 1 ]
> 
> proc.time()
   user  system elapsed 
 11.665   0.570  12.259 

Example timings

SparseSignatures.Rcheck/SparseSignatures-Ex.timings

nameusersystemelapsed
import.trinucleotides.counts2.1730.6312.799
lambdaRangeAlphaEvaluation80.609 0.55281.163
lambdaRangeBetaEvaluation88.735 0.50089.235
nmfLasso5.3910.0365.427
nmfLassoBootstrap11.879 0.08011.960
nmfLassoCV11.280 0.06811.349
patients.plot1.1400.0001.139
sigAssignmentCV0.0660.0040.070
sigAssignmentEvaluation2.0670.0002.068
sigAssignmentLasso0.6780.0000.677
signatures.plot2.0540.0282.082
startingBetaEstimation4.2040.0524.256