Back to Mac ARM64 build report for BioC 3.17
ABCDEF[G]HIJKLMNOPQRSTUVWXYZ

This page was generated on 2023-10-20 09:37:51 -0400 (Fri, 20 Oct 2023).

HostnameOSArch (*)R versionInstalled pkgs
kjohnson2macOS 12.6.1 Montereyarm644.3.1 (2023-06-16) -- "Beagle Scouts" 4347
Click on any hostname to see more info about the system (e.g. compilers)      (*) as reported by 'uname -p', except on Windows and Mac OS X

All results for package GenomicRanges


To the developers/maintainers of the GenomicRanges package:
- Use the following Renviron settings to reproduce errors and warnings.
- If 'R CMD check' started to fail recently on the Linux builder(s) over a missing dependency, add the missing dependency to 'Suggests:' in your DESCRIPTION file. See Renviron.bioc for more information.

raw results

Package 812/2230HostnameOS / ArchINSTALLBUILDCHECKBUILD BIN
GenomicRanges 1.52.1  (landing page)
Hervé Pagès
Snapshot Date: 2023-10-15 14:00:07 -0400 (Sun, 15 Oct 2023)
git_url: https://git.bioconductor.org/packages/GenomicRanges
git_branch: RELEASE_3_17
git_last_commit: 9e58f81
git_last_commit_date: 2023-10-06 16:38:35 -0400 (Fri, 06 Oct 2023)
kjohnson2macOS 12.6.1 Monterey / arm64  OK    OK    ERROR    OK  

Results for Bioconductor software packages that depend directly on package GenomicRanges

QUICK STATSOS / ArchINSTALLBUILDCHECKBUILD BIN
kjohnson2macOS 12.6.1 Monterey / arm64
015523
236500
423113360
00500
Package 1/538HostnameOS / ArchINSTALLBUILDCHECKBUILD BIN
ACE 1.18.0  (landing page)
Jos B Poell
git_last_commit: 4c6870f
git_last_commit_date: 2023-04-25 11:03:07 -0400
kjohnson2macOS 12.6.1 Monterey / arm64  OK    OK    OK    OK  UNNEEDED, same version is already published
Package 2/538HostnameOS / ArchINSTALLBUILDCHECKBUILD BIN
alabaster.ranges 1.0.0  (landing page)
Aaron Lun
git_last_commit: 45e963a
git_last_commit_date: 2023-04-25 11:42:47 -0400
kjohnson2macOS 12.6.1 Monterey / arm64  OK    OK    OK    OK  UNNEEDED, same version is already published
Package 3/538HostnameOS / ArchINSTALLBUILDCHECKBUILD BIN
alabaster.se 1.0.0  (landing page)
Aaron Lun
git_last_commit: e7fc40c
git_last_commit_date: 2023-04-25 11:42:52 -0400
kjohnson2macOS 12.6.1 Monterey / arm64  OK    OK    OK    OK  UNNEEDED, same version is already published
Package 4/538HostnameOS / ArchINSTALLBUILDCHECKBUILD BIN
ALDEx2 1.32.0  (landing page)
Greg Gloor
git_last_commit: ba32b9a
git_last_commit_date: 2023-04-25 10:34:57 -0400
kjohnson2macOS 12.6.1 Monterey / arm64  OK    OK    WARNINGS    OK  UNNEEDED, same version is already published
Package 5/538HostnameOS / ArchINSTALLBUILDCHECKBUILD BIN
AllelicImbalance 1.38.0  (landing page)
Jesper R Gadin
git_last_commit: 75a3b0f
git_last_commit_date: 2023-04-25 10:28:56 -0400
kjohnson2macOS 12.6.1 Monterey / arm64  OK    OK    OK    OK  UNNEEDED, same version is already published
Package 6/538HostnameOS / ArchINSTALLBUILDCHECKBUILD BIN
alpine 1.26.0  (landing page)
Michael Love
git_last_commit: 1e317db
git_last_commit_date: 2023-04-25 10:49:05 -0400
kjohnson2macOS 12.6.1 Monterey / arm64  OK    OK    WARNINGS    OK  UNNEEDED, same version is already published
Package 7/538HostnameOS / ArchINSTALLBUILDCHECKBUILD BIN
amplican 1.22.1  (landing page)
Eivind Valen
git_last_commit: 1813c32
git_last_commit_date: 2023-05-05 14:00:14 -0400
kjohnson2macOS 12.6.1 Monterey / arm64  OK    OK    OK    OK  UNNEEDED, same version is already published
Package 8/538HostnameOS / ArchINSTALLBUILDCHECKBUILD BIN
AneuFinder 1.28.0  (landing page)
Aaron Taudt
git_last_commit: e17d810
git_last_commit_date: 2023-04-25 10:45:33 -0400
kjohnson2macOS 12.6.1 Monterey / arm64  OK    OK    OK    OK  UNNEEDED, same version is already published
Package 9/538HostnameOS / ArchINSTALLBUILDCHECKBUILD BIN
annmap 1.42.0  (landing page)
Chris Wirth
git_last_commit: b4cafd1
git_last_commit_date: 2023-04-25 10:23:14 -0400
kjohnson2macOS 12.6.1 Monterey / arm64  OK    OK    WARNINGS    OK  UNNEEDED, same version is already published
Package 10/538HostnameOS / ArchINSTALLBUILDCHECKBUILD BIN
AnnotationFilter 1.24.0  (landing page)
Bioconductor Package Maintainer
git_last_commit: 172d9c1
git_last_commit_date: 2023-04-25 10:53:22 -0400
kjohnson2macOS 12.6.1 Monterey / arm64  OK    OK    OK    OK  UNNEEDED, same version is already published
Package 11/538HostnameOS / ArchINSTALLBUILDCHECKBUILD BIN
AnnotationHubData 1.30.0  (landing page)
Bioconductor Package Maintainer
git_last_commit: 3cf163f
git_last_commit_date: 2023-04-25 10:41:16 -0400
kjohnson2macOS 12.6.1 Monterey / arm64  OK    OK    WARNINGS    OK  UNNEEDED, same version is already published
Package 12/538HostnameOS / ArchINSTALLBUILDCHECKBUILD BIN
annotatr 1.26.0  (landing page)
Raymond G. Cavalcante
git_last_commit: 2a45d0a
git_last_commit_date: 2023-04-25 10:50:36 -0400
kjohnson2macOS 12.6.1 Monterey / arm64  OK    OK    OK    OK  UNNEEDED, same version is already published
Package 13/538HostnameOS / ArchINSTALLBUILDCHECKBUILD BIN
APAlyzer 1.14.0  (landing page)
Ruijia Wang
git_last_commit: 40ddf31
git_last_commit_date: 2023-04-25 11:11:42 -0400
kjohnson2macOS 12.6.1 Monterey / arm64  OK    OK    WARNINGS    OK  UNNEEDED, same version is already published
Package 14/538HostnameOS / ArchINSTALLBUILDCHECKBUILD BIN
apeglm 1.22.1  (landing page)
Anqi Zhu
git_last_commit: b4b9123
git_last_commit_date: 2023-05-12 15:44:49 -0400
kjohnson2macOS 12.6.1 Monterey / arm64  OK    OK    OK    OK  UNNEEDED, same version is already published
Package 15/538HostnameOS / ArchINSTALLBUILDCHECKBUILD BIN
appreci8R 1.18.0  (landing page)
Sarah Sandmann
git_last_commit: 94c9d1b
git_last_commit_date: 2023-04-25 11:02:58 -0400
kjohnson2macOS 12.6.1 Monterey / arm64  OK    OK    WARNINGS    OK  UNNEEDED, same version is already published
Package 16/538HostnameOS / ArchINSTALLBUILDCHECKBUILD BIN
ArrayExpressHTS 1.50.0  (landing page)
Angela Goncalves , Andrew Tikhonov
git_last_commit: 7b79d4b
git_last_commit_date: 2023-04-25 10:19:47 -0400
kjohnson2macOS 12.6.1 Monterey / arm64  ERROR    ERROR  skippedskipped
Package 17/538HostnameOS / ArchINSTALLBUILDCHECKBUILD BIN
ASpediaFI 1.14.0  (landing page)
Doyeong Yu
git_last_commit: 00e9ece
git_last_commit_date: 2023-04-25 11:13:24 -0400
kjohnson2macOS 12.6.1 Monterey / arm64  ERROR    ERROR  skippedskipped
Package 18/538HostnameOS / ArchINSTALLBUILDCHECKBUILD BIN
ASpli 2.10.0  (landing page)
Estefania Mancini
git_last_commit: 2686a85
git_last_commit_date: 2023-04-25 10:48:38 -0400
kjohnson2macOS 12.6.1 Monterey / arm64  OK    OK    WARNINGS    OK  UNNEEDED, same version is already published
Package 19/538HostnameOS / ArchINSTALLBUILDCHECKBUILD BIN
AssessORF 1.18.0  (landing page)
Deepank Korandla
git_last_commit: 062f02c
git_last_commit_date: 2023-04-25 11:05:58 -0400
kjohnson2macOS 12.6.1 Monterey / arm64  OK    OK    OK    OK  UNNEEDED, same version is already published
Package 20/538HostnameOS / ArchINSTALLBUILDCHECKBUILD BIN
ATACCoGAPS 1.2.0  (landing page)
Rossin Erbe
git_last_commit: 508affb
git_last_commit_date: 2023-04-25 11:39:02 -0400
kjohnson2macOS 12.6.1 Monterey / arm64  OK    OK    OK    OK  UNNEEDED, same version is already published
Package 21/538HostnameOS / ArchINSTALLBUILDCHECKBUILD BIN
ATACseqQC 1.24.0  (landing page)
Jianhong Ou
git_last_commit: 06d4227
git_last_commit_date: 2023-04-25 10:54:12 -0400
kjohnson2macOS 12.6.1 Monterey / arm64  OK    OK    OK    OK  UNNEEDED, same version is already published
Package 22/538HostnameOS / ArchINSTALLBUILDCHECKBUILD BIN
ATACseqTFEA 1.2.0  (landing page)
Jianhong Ou
git_last_commit: 7c0aef8
git_last_commit_date: 2023-04-25 11:39:37 -0400
kjohnson2macOS 12.6.1 Monterey / arm64  OK    OK    OK    OK  UNNEEDED, same version is already published
Package 23/538HostnameOS / ArchINSTALLBUILDCHECKBUILD BIN
atena 1.6.0  (landing page)
Beatriz Calvo-Serra
git_last_commit: 4053ecb
git_last_commit_date: 2023-04-25 11:32:49 -0400
kjohnson2macOS 12.6.1 Monterey / arm64  OK    OK    OK    OK  UNNEEDED, same version is already published
Package 24/538HostnameOS / ArchINSTALLBUILDCHECKBUILD BIN
BaalChIP 1.26.0  (landing page)
Ines de Santiago
git_last_commit: 6129049
git_last_commit_date: 2023-04-25 10:49:34 -0400
kjohnson2macOS 12.6.1 Monterey / arm64  OK    OK    WARNINGS    OK  UNNEEDED, same version is already published
Package 25/538HostnameOS / ArchINSTALLBUILDCHECKBUILD BIN
BadRegionFinder 1.28.0  (landing page)
Sarah Sandmann
git_last_commit: 95a67a9
git_last_commit_date: 2023-04-25 10:45:57 -0400
kjohnson2macOS 12.6.1 Monterey / arm64  OK    OK    OK    OK  UNNEEDED, same version is already published
Package 26/538HostnameOS / ArchINSTALLBUILDCHECKBUILD BIN
ballgown 2.32.0  (landing page)
Jack Fu
git_last_commit: c0fc299
git_last_commit_date: 2023-04-25 10:33:25 -0400
kjohnson2macOS 12.6.1 Monterey / arm64  OK    OK    OK    OK  UNNEEDED, same version is already published
Package 27/538HostnameOS / ArchINSTALLBUILDCHECKBUILD BIN
bambu 3.2.6  (landing page)
Ying Chen
git_last_commit: 2fb8864
git_last_commit_date: 2023-08-23 04:55:16 -0400
kjohnson2macOS 12.6.1 Monterey / arm64  OK    OK    OK    OK  UNNEEDED, same version is already published
Package 28/538HostnameOS / ArchINSTALLBUILDCHECKBUILD BIN
bamsignals 1.32.0  (landing page)
Johannes Helmuth
git_last_commit: 34bfc4e
git_last_commit_date: 2023-04-25 10:38:18 -0400
kjohnson2macOS 12.6.1 Monterey / arm64  OK    OK    WARNINGS    OK  UNNEEDED, same version is already published
Package 29/538HostnameOS / ArchINSTALLBUILDCHECKBUILD BIN
Basic4Cseq 1.36.0  (landing page)
Carolin Walter
git_last_commit: 0f53930
git_last_commit_date: 2023-04-25 10:30:42 -0400
kjohnson2macOS 12.6.1 Monterey / arm64  OK    OK    OK    OK  UNNEEDED, same version is already published
Package 30/538HostnameOS / ArchINSTALLBUILDCHECKBUILD BIN
BasicSTARRseq 1.28.0  (landing page)
Annika Buerger
git_last_commit: 75bd2b1
git_last_commit_date: 2023-04-25 10:44:02 -0400
kjohnson2macOS 12.6.1 Monterey / arm64  OK    OK    OK    OK  UNNEEDED, same version is already published
Package 31/538HostnameOS / ArchINSTALLBUILDCHECKBUILD BIN
baySeq 2.34.0  (landing page)
Thomas J. Hardcastle
git_last_commit: f4619cd
git_last_commit_date: 2023-04-25 09:49:38 -0400
kjohnson2macOS 12.6.1 Monterey / arm64  OK    ERROR  skippedskipped
Package 32/538HostnameOS / ArchINSTALLBUILDCHECKBUILD BIN
BBCAnalyzer 1.30.0  (landing page)
Sarah Sandmann
git_last_commit: 1d27ee5
git_last_commit_date: 2023-04-25 10:41:00 -0400
kjohnson2macOS 12.6.1 Monterey / arm64  OK    OK    OK    OK  UNNEEDED, same version is already published
Package 33/538HostnameOS / ArchINSTALLBUILDCHECKBUILD BIN
beadarray 2.50.0  (landing page)
Mark Dunning
git_last_commit: 715d372
git_last_commit_date: 2023-04-25 09:43:07 -0400
kjohnson2macOS 12.6.1 Monterey / arm64  OK    OK    OK    OK  UNNEEDED, same version is already published
Package 34/538HostnameOS / ArchINSTALLBUILDCHECKBUILD BIN
BEAT 1.38.0  (landing page)
Kemal Akman
git_last_commit: c346273
git_last_commit_date: 2023-04-25 10:30:03 -0400
kjohnson2macOS 12.6.1 Monterey / arm64  OK    OK    OK    OK  UNNEEDED, same version is already published
Package 35/538HostnameOS / ArchINSTALLBUILDCHECKBUILD BIN
BiFET 1.20.0  (landing page)
Ahrim Youn
git_last_commit: f367d7b
git_last_commit_date: 2023-04-25 10:58:52 -0400
kjohnson2macOS 12.6.1 Monterey / arm64  OK    OK    OK    OK  UNNEEDED, same version is already published
Package 36/538HostnameOS / ArchINSTALLBUILDCHECKBUILD BIN
BindingSiteFinder 1.6.0  (landing page)
Mirko Brüggemann
git_last_commit: 90784d9
git_last_commit_date: 2023-04-25 11:31:28 -0400
kjohnson2macOS 12.6.1 Monterey / arm64  OK    OK    OK    OK  UNNEEDED, same version is already published
Package 37/538HostnameOS / ArchINSTALLBUILDCHECKBUILD BIN
BiocOncoTK 1.20.0  (landing page)
VJ Carey
git_last_commit: ceb097d
git_last_commit_date: 2023-04-25 11:01:44 -0400
kjohnson2macOS 12.6.1 Monterey / arm64  OK    OK    OK    OK  UNNEEDED, same version is already published
Package 38/538HostnameOS / ArchINSTALLBUILDCHECKBUILD BIN
biomvRCNS 1.40.0  (landing page)
Yang Du
git_last_commit: dd8abf6
git_last_commit_date: 2023-04-25 10:25:50 -0400
kjohnson2macOS 12.6.1 Monterey / arm64  ERROR    ERROR  skippedskipped
Package 39/538HostnameOS / ArchINSTALLBUILDCHECKBUILD BIN
BioTIP 1.14.0  (landing page)
Yuxi (Jennifer) Sun , Zhezhen Wang , and X Holly Yang
git_last_commit: dedbd49
git_last_commit_date: 2023-04-25 11:12:44 -0400
kjohnson2macOS 12.6.1 Monterey / arm64  OK    OK    WARNINGS    OK  UNNEEDED, same version is already published
Package 40/538HostnameOS / ArchINSTALLBUILDCHECKBUILD BIN
biovizBase 1.48.0  (landing page)
Michael Lawrence
git_last_commit: 534db77
git_last_commit_date: 2023-04-25 10:21:06 -0400
kjohnson2macOS 12.6.1 Monterey / arm64  OK    OK    WARNINGS    OK  UNNEEDED, same version is already published
Package 41/538HostnameOS / ArchINSTALLBUILDCHECKBUILD BIN
biscuiteer 1.14.0  (landing page)
Jacob Morrison
git_last_commit: 94ce421
git_last_commit_date: 2023-04-25 11:13:36 -0400
kjohnson2macOS 12.6.1 Monterey / arm64  OK    OK    WARNINGS    OK  UNNEEDED, same version is already published
Package 42/538HostnameOS / ArchINSTALLBUILDCHECKBUILD BIN
BiSeq 1.40.0  (landing page)
Katja Hebestreit
git_last_commit: 9e686d0
git_last_commit_date: 2023-04-25 10:26:59 -0400
kjohnson2macOS 12.6.1 Monterey / arm64  OK    OK    OK    OK  UNNEEDED, same version is already published
Package 43/538HostnameOS / ArchINSTALLBUILDCHECKBUILD BIN
bnbc 1.22.0  (landing page)
Kipper Fletez-Brant
git_last_commit: 4afeeae
git_last_commit_date: 2023-04-25 10:57:18 -0400
kjohnson2macOS 12.6.1 Monterey / arm64  OK    OK    WARNINGS    OK  UNNEEDED, same version is already published
Package 44/538HostnameOS / ArchINSTALLBUILDCHECKBUILD BIN
BOBaFIT 1.4.0  (landing page)
Gaia Mazzocchetti
git_last_commit: 47627e1
git_last_commit_date: 2023-04-25 11:35:19 -0400
kjohnson2macOS 12.6.1 Monterey / arm64  OK    OK    WARNINGS    OK  UNNEEDED, same version is already published
Package 45/538HostnameOS / ArchINSTALLBUILDCHECKBUILD BIN
borealis 1.4.0  (landing page)
Garrett Jenkinson
git_last_commit: 98cafa0
git_last_commit_date: 2023-04-25 11:37:41 -0400
kjohnson2macOS 12.6.1 Monterey / arm64  OK    OK    OK    OK  UNNEEDED, same version is already published
Package 46/538HostnameOS / ArchINSTALLBUILDCHECKBUILD BIN
BPRMeth 1.26.1  (landing page)
Chantriolnt-Andreas Kapourani
git_last_commit: 4130c6f
git_last_commit_date: 2023-05-01 20:03:01 -0400
kjohnson2macOS 12.6.1 Monterey / arm64  OK    OK    OK    OK  UNNEEDED, same version is already published
Package 47/538HostnameOS / ArchINSTALLBUILDCHECKBUILD BIN
brainflowprobes 1.14.0  (landing page)
Amanda Price
git_last_commit: ab83a8b
git_last_commit_date: 2023-04-25 11:14:06 -0400
kjohnson2macOS 12.6.1 Monterey / arm64  OK    OK    OK    OK  UNNEEDED, same version is already published
Package 48/538HostnameOS / ArchINSTALLBUILDCHECKBUILD BIN
branchpointer 1.26.0  (landing page)
Beth Signal
git_last_commit: 2c21581
git_last_commit_date: 2023-04-25 10:52:58 -0400
kjohnson2macOS 12.6.1 Monterey / arm64  OK    OK    OK    OK  UNNEEDED, same version is already published
Package 49/538HostnameOS / ArchINSTALLBUILDCHECKBUILD BIN
breakpointR 1.18.0  (landing page)
David Porubsky
git_last_commit: a649748
git_last_commit_date: 2023-04-25 11:04:34 -0400
kjohnson2macOS 12.6.1 Monterey / arm64  OK    OK    OK    OK  UNNEEDED, same version is already published
Package 50/538HostnameOS / ArchINSTALLBUILDCHECKBUILD BIN
BRGenomics 1.12.0  (landing page)
Mike DeBerardine
git_last_commit: f73b855
git_last_commit_date: 2023-04-25 13:08:10 -0400
kjohnson2macOS 12.6.1 Monterey / arm64  OK    OK    ERROR    OK  
Package 51/538HostnameOS / ArchINSTALLBUILDCHECKBUILD BIN
BSgenome 1.68.0  (landing page)
Hervé Pagès
git_last_commit: c546020
git_last_commit_date: 2023-04-25 09:43:43 -0400
kjohnson2macOS 12.6.1 Monterey / arm64  OK    OK    WARNINGS    OK  UNNEEDED, same version is already published
Package 52/538HostnameOS / ArchINSTALLBUILDCHECKBUILD BIN
bsseq 1.36.0  (landing page)
Kasper Daniel Hansen
git_last_commit: 5dd72c5
git_last_commit_date: 2023-04-25 10:23:31 -0400
kjohnson2macOS 12.6.1 Monterey / arm64  OK    OK    OK    OK  UNNEEDED, same version is already published
Package 53/538HostnameOS / ArchINSTALLBUILDCHECKBUILD BIN
BubbleTree 2.30.0  (landing page)
Todd Creasy , Wei Zhu
git_last_commit: 8686dde
git_last_commit_date: 2023-04-25 10:37:41 -0400
kjohnson2macOS 12.6.1 Monterey / arm64  OK    OK    OK    OK  UNNEEDED, same version is already published
Package 54/538HostnameOS / ArchINSTALLBUILDCHECKBUILD BIN
bumphunter 1.42.0  (landing page)
Tamilselvi Guharaj
git_last_commit: 0eb2808
git_last_commit_date: 2023-04-25 10:24:57 -0400
kjohnson2macOS 12.6.1 Monterey / arm64  OK    OK    OK    OK  UNNEEDED, same version is already published
Package 55/538HostnameOS / ArchINSTALLBUILDCHECKBUILD BIN
BUSpaRse 1.14.1  (landing page)
Lambda Moses
git_last_commit: 3eac292
git_last_commit_date: 2023-05-01 20:03:03 -0400
kjohnson2macOS 12.6.1 Monterey / arm64  OK    OK    OK    OK  UNNEEDED, same version is already published
Package 56/538HostnameOS / ArchINSTALLBUILDCHECKBUILD BIN
CAFE 1.36.0  (landing page)
Sander Bollen
git_last_commit: 4cd77fe
git_last_commit_date: 2023-04-25 10:30:44 -0400
kjohnson2macOS 12.6.1 Monterey / arm64  OK    OK    WARNINGS    OK  UNNEEDED, same version is already published
Package 57/538HostnameOS / ArchINSTALLBUILDCHECKBUILD BIN
CAGEfightR 1.20.0  (landing page)
Malte Thodberg
git_last_commit: 280ea89
git_last_commit_date: 2023-04-25 11:01:52 -0400
kjohnson2macOS 12.6.1 Monterey / arm64  OK    OK    OK    OK  UNNEEDED, same version is already published
Package 58/538HostnameOS / ArchINSTALLBUILDCHECKBUILD BIN
cageminer 1.6.2  (landing page)
Fabrício Almeida-Silva
git_last_commit: 7d84b42
git_last_commit_date: 2023-08-31 03:13:04 -0400
kjohnson2macOS 12.6.1 Monterey / arm64  OK    OK    OK    OK  UNNEEDED, same version is already published
Package 59/538HostnameOS / ArchINSTALLBUILDCHECKBUILD BIN
CAGEr 2.6.1  (landing page)
Charles Plessy
git_last_commit: 1711478
git_last_commit_date: 2023-07-04 19:40:32 -0400
kjohnson2macOS 12.6.1 Monterey / arm64  OK    OK    OK    OK  UNNEEDED, same version is already published
Package 60/538HostnameOS / ArchINSTALLBUILDCHECKBUILD BIN
cardelino 1.2.0  (landing page)
Davis McCarthy
git_last_commit: ec1afd9
git_last_commit_date: 2023-04-25 11:40:59 -0400
kjohnson2macOS 12.6.1 Monterey / arm64  OK    OK    OK    OK  UNNEEDED, same version is already published
Package 61/538HostnameOS / ArchINSTALLBUILDCHECKBUILD BIN
casper 2.34.0  (landing page)
David Rossell
git_last_commit: e05e2dd
git_last_commit_date: 2023-04-25 10:25:19 -0400
kjohnson2macOS 12.6.1 Monterey / arm64  OK    ERROR  skippedskipped
Package 62/538HostnameOS / ArchINSTALLBUILDCHECKBUILD BIN
cBioPortalData 2.12.0  (landing page)
Marcel Ramos
git_last_commit: 13c35fc
git_last_commit_date: 2023-04-25 11:18:25 -0400
kjohnson2macOS 12.6.1 Monterey / arm64  OK    OK    OK    OK  UNNEEDED, same version is already published
Package 63/538HostnameOS / ArchINSTALLBUILDCHECKBUILD BIN
CexoR 1.38.0  (landing page)
Pedro Madrigal
git_last_commit: 91978b2
git_last_commit_date: 2023-04-25 11:33:13 -0400
kjohnson2macOS 12.6.1 Monterey / arm64  OK    OK    OK    OK  UNNEEDED, same version is already published
Package 64/538HostnameOS / ArchINSTALLBUILDCHECKBUILD BIN
cfDNAPro 1.6.0  (landing page)
Haichao Wang
git_last_commit: 08ce3c9
git_last_commit_date: 2023-04-25 11:31:39 -0400
kjohnson2macOS 12.6.1 Monterey / arm64  OK    OK    WARNINGS    OK  UNNEEDED, same version is already published
Package 65/538HostnameOS / ArchINSTALLBUILDCHECKBUILD BIN
cfTools 1.0.0  (landing page)
Ran Hu
git_last_commit: fb20e2c
git_last_commit_date: 2023-04-25 11:44:28 -0400
kjohnson2macOS 12.6.1 Monterey / arm64  OK    ERROR  skippedskipped
Package 66/538HostnameOS / ArchINSTALLBUILDCHECKBUILD BIN
ChAMP 2.30.0  (landing page)
Yuan Tian
git_last_commit: b6ff667
git_last_commit_date: 2023-04-25 10:29:24 -0400
kjohnson2macOS 12.6.1 Monterey / arm64  OK    OK    WARNINGS    OK  UNNEEDED, same version is already published
Package 67/538HostnameOS / ArchINSTALLBUILDCHECKBUILD BIN
ChIC 1.20.0  (landing page)
Carmen Maria Livi
git_last_commit: 601181f
git_last_commit_date: 2023-04-25 11:01:05 -0400
kjohnson2macOS 12.6.1 Monterey / arm64  ERROR    ERROR  skippedskipped
Package 68/538HostnameOS / ArchINSTALLBUILDCHECKBUILD BIN
chimeraviz 1.26.0  (landing page)
Stian Lågstad
git_last_commit: 9ce5919
git_last_commit_date: 2023-04-25 10:51:20 -0400
kjohnson2macOS 12.6.1 Monterey / arm64  OK    OK    OK    OK  UNNEEDED, same version is already published
Package 69/538HostnameOS / ArchINSTALLBUILDCHECKBUILD BIN
ChIPanalyser 1.22.0  (landing page)
Patrick C.N. Martin
git_last_commit: 1c0e60b
git_last_commit_date: 2023-04-25 10:56:14 -0400
kjohnson2macOS 12.6.1 Monterey / arm64  OK    OK    OK    OK  UNNEEDED, same version is already published
Package 70/538HostnameOS / ArchINSTALLBUILDCHECKBUILD BIN
ChIPComp 1.30.0  (landing page)
Li Chen
git_last_commit: 2305fe2
git_last_commit_date: 2023-04-25 10:41:03 -0400
kjohnson2macOS 12.6.1 Monterey / arm64  OK    OK    OK    OK  UNNEEDED, same version is already published
Package 71/538HostnameOS / ArchINSTALLBUILDCHECKBUILD BIN
chipenrich 2.24.0  (landing page)
Kai Wang
git_last_commit: 4f411dc
git_last_commit_date: 2023-04-25 10:28:35 -0400
kjohnson2macOS 12.6.1 Monterey / arm64  OK    OK    OK    OK  UNNEEDED, same version is already published
Package 72/538HostnameOS / ArchINSTALLBUILDCHECKBUILD BIN
ChIPexoQual 1.24.0  (landing page)
Rene Welch
git_last_commit: a96537e
git_last_commit_date: 2023-04-25 10:52:01 -0400
kjohnson2macOS 12.6.1 Monterey / arm64  OK    OK    OK    OK  UNNEEDED, same version is already published
Package 73/538HostnameOS / ArchINSTALLBUILDCHECKBUILD BIN
ChIPpeakAnno 3.34.1  (landing page)
Jianhong Ou
git_last_commit: 1a47186
git_last_commit_date: 2023-04-26 18:52:20 -0400
kjohnson2macOS 12.6.1 Monterey / arm64  OK    OK    OK    OK  UNNEEDED, same version is already published
Package 74/538HostnameOS / ArchINSTALLBUILDCHECKBUILD BIN
ChIPQC 1.36.1  (landing page)
Tom Carroll , Rory Stark
git_last_commit: e835440
git_last_commit_date: 2023-08-25 11:17:44 -0400
kjohnson2macOS 12.6.1 Monterey / arm64  OK    OK    WARNINGS    OK  UNNEEDED, same version is already published
Package 75/538HostnameOS / ArchINSTALLBUILDCHECKBUILD BIN
ChIPseeker 1.36.0  (landing page)
Guangchuang Yu
git_last_commit: 3179a1f
git_last_commit_date: 2023-04-25 10:32:01 -0400
kjohnson2macOS 12.6.1 Monterey / arm64  OK    OK    OK    OK  UNNEEDED, same version is already published
Package 76/538HostnameOS / ArchINSTALLBUILDCHECKBUILD BIN
chipseq 1.50.0  (landing page)
Bioconductor Package Maintainer
git_last_commit: 0bdfa25
git_last_commit_date: 2023-04-25 09:48:54 -0400
kjohnson2macOS 12.6.1 Monterey / arm64  OK    OK    WARNINGS    OK  UNNEEDED, same version is already published
Package 77/538HostnameOS / ArchINSTALLBUILDCHECKBUILD BIN
ChIPseqR 1.54.0  (landing page)
Peter Humburg
git_last_commit: 2a7eaf4
git_last_commit_date: 2023-04-25 09:49:43 -0400
kjohnson2macOS 12.6.1 Monterey / arm64  OK    OK    OK    OK  UNNEEDED, same version is already published
Package 78/538HostnameOS / ArchINSTALLBUILDCHECKBUILD BIN
chromDraw 2.30.0  (landing page)
Jan Janecka
git_last_commit: fe6b2c5
git_last_commit_date: 2023-04-25 10:37:00 -0400
kjohnson2macOS 12.6.1 Monterey / arm64  OK    OK    WARNINGS    OK  UNNEEDED, same version is already published
Package 79/538HostnameOS / ArchINSTALLBUILDCHECKBUILD BIN
ChromHeatMap 1.54.0  (landing page)
Tim F. Rayner
git_last_commit: de12140
git_last_commit_date: 2023-04-25 09:49:41 -0400
kjohnson2macOS 12.6.1 Monterey / arm64  OK    OK    OK    OK  UNNEEDED, same version is already published
Package 80/538HostnameOS / ArchINSTALLBUILDCHECKBUILD BIN
chromPlot 1.28.0  (landing page)
Karen Y. Orostica
git_last_commit: 0eeab67
git_last_commit_date: 2023-04-25 10:44:28 -0400
kjohnson2macOS 12.6.1 Monterey / arm64  OK    OK    OK    OK  UNNEEDED, same version is already published
Package 81/538HostnameOS / ArchINSTALLBUILDCHECKBUILD BIN
ChromSCape 1.10.0  (landing page)
Pacome Prompsy
git_last_commit: 541e6b7
git_last_commit_date: 2023-04-25 11:23:20 -0400
kjohnson2macOS 12.6.1 Monterey / arm64  OK    OK    WARNINGS    OK  UNNEEDED, same version is already published
Package 82/538HostnameOS / ArchINSTALLBUILDCHECKBUILD BIN
chromstaR 1.26.0  (landing page)
Aaron Taudt
git_last_commit: 92f4418
git_last_commit_date: 2023-04-25 10:47:44 -0400
kjohnson2macOS 12.6.1 Monterey / arm64  OK    OK    OK    OK  UNNEEDED, same version is already published
Package 83/538HostnameOS / ArchINSTALLBUILDCHECKBUILD BIN
chromswitch 1.22.0  (landing page)
Selin Jessa
git_last_commit: 23de3f7
git_last_commit_date: 2023-04-25 10:57:57 -0400
kjohnson2macOS 12.6.1 Monterey / arm64  OK    OK    WARNINGS    OK  UNNEEDED, same version is already published
Package 84/538HostnameOS / ArchINSTALLBUILDCHECKBUILD BIN
chromVAR 1.22.1  (landing page)
Alicia Schep
git_last_commit: fbdaa18
git_last_commit_date: 2023-05-01 20:09:37 -0400
kjohnson2macOS 12.6.1 Monterey / arm64  OK    OK    OK    OK  UNNEEDED, same version is already published
Package 85/538HostnameOS / ArchINSTALLBUILDCHECKBUILD BIN
cicero 1.18.0  (landing page)
Hannah Pliner
git_last_commit: b6a7b66
git_last_commit_date: 2023-04-25 11:04:55 -0400
kjohnson2macOS 12.6.1 Monterey / arm64  OK    OK    OK    OK  UNNEEDED, same version is already published
Package 86/538HostnameOS / ArchINSTALLBUILDCHECKBUILD BIN
CINdex 1.28.0  (landing page)
Yuriy Gusev
git_last_commit: 1543a5e
git_last_commit_date: 2023-04-25 10:45:52 -0400
kjohnson2macOS 12.6.1 Monterey / arm64  OK    OK    WARNINGS    OK  UNNEEDED, same version is already published
Package 87/538HostnameOS / ArchINSTALLBUILDCHECKBUILD BIN
circRNAprofiler 1.14.0  (landing page)
Simona Aufiero
git_last_commit: 1ddc8f7
git_last_commit_date: 2023-04-25 11:11:15 -0400
kjohnson2macOS 12.6.1 Monterey / arm64  OK    OK    OK    OK  UNNEEDED, same version is already published
Package 88/538HostnameOS / ArchINSTALLBUILDCHECKBUILD BIN
cleanUpdTSeq 1.38.0  (landing page)
Jianhong Ou ; Lihua Julie Zhu
git_last_commit: d6941d0
git_last_commit_date: 2023-04-25 10:27:42 -0400
kjohnson2macOS 12.6.1 Monterey / arm64  OK    OK    OK    OK  UNNEEDED, same version is already published
Package 89/538HostnameOS / ArchINSTALLBUILDCHECKBUILD BIN
cliProfiler 1.6.0  (landing page)
You Zhou
git_last_commit: f7202a6
git_last_commit_date: 2023-04-25 11:33:36 -0400
kjohnson2macOS 12.6.1 Monterey / arm64  OK    OK    OK    OK  UNNEEDED, same version is already published
Package 90/538HostnameOS / ArchINSTALLBUILDCHECKBUILD BIN
cn.mops 1.46.0  (landing page)
Gundula Povysil
git_last_commit: baa7ea0
git_last_commit_date: 2023-04-25 10:21:44 -0400
kjohnson2macOS 12.6.1 Monterey / arm64  OK    OK    OK    OK  UNNEEDED, same version is already published
Package 91/538HostnameOS / ArchINSTALLBUILDCHECKBUILD BIN
CNEr 1.36.0  (landing page)
Ge Tan
git_last_commit: 4f2feeb
git_last_commit_date: 2023-04-25 10:30:23 -0400
kjohnson2macOS 12.6.1 Monterey / arm64  OK    OK    ERROR    OK  
Package 92/538HostnameOS / ArchINSTALLBUILDCHECKBUILD BIN
CNVfilteR 1.14.0  (landing page)
Jose Marcos Moreno-Cabrera
git_last_commit: 114a083
git_last_commit_date: 2023-04-25 11:13:01 -0400
kjohnson2macOS 12.6.1 Monterey / arm64  OK    OK    OK    OK  UNNEEDED, same version is already published
Package 93/538HostnameOS / ArchINSTALLBUILDCHECKBUILD BIN
cnvGSA 1.44.0  (landing page)
Joseph Lugo
git_last_commit: 92aa818
git_last_commit_date: 2023-04-25 10:22:46 -0400
kjohnson2macOS 12.6.1 Monterey / arm64  OK    OK    OK    OK  UNNEEDED, same version is already published
Package 94/538HostnameOS / ArchINSTALLBUILDCHECKBUILD BIN
CNViz 1.8.0  (landing page)
Rebecca Greenblatt
git_last_commit: c7081e0
git_last_commit_date: 2023-04-25 11:28:29 -0400
kjohnson2macOS 12.6.1 Monterey / arm64  OK    OK    OK    OK  UNNEEDED, same version is already published
Package 95/538HostnameOS / ArchINSTALLBUILDCHECKBUILD BIN
CNVMetrics 1.4.0  (landing page)
Astrid Deschênes
git_last_commit: f240f40
git_last_commit_date: 2023-04-25 11:35:08 -0400
kjohnson2macOS 12.6.1 Monterey / arm64  OK    OK    OK    OK  UNNEEDED, same version is already published
Package 96/538HostnameOS / ArchINSTALLBUILDCHECKBUILD BIN
CNVPanelizer 1.32.0  (landing page)
Thomas Wolf
git_last_commit: 86ffb06
git_last_commit_date: 2023-04-25 10:40:16 -0400
kjohnson2macOS 12.6.1 Monterey / arm64  OK    OK    OK    OK  UNNEEDED, same version is already published
Package 97/538HostnameOS / ArchINSTALLBUILDCHECKBUILD BIN
CNVRanger 1.16.5  (landing page)
Ludwig Geistlinger
git_last_commit: ed4f683
git_last_commit_date: 2023-07-29 23:47:52 -0400
kjohnson2macOS 12.6.1 Monterey / arm64  OK    OK    OK    OK  UNNEEDED, same version is already published
Package 98/538HostnameOS / ArchINSTALLBUILDCHECKBUILD BIN
COCOA 2.14.0  (landing page)
John Lawson
git_last_commit: bbc273b
git_last_commit_date: 2023-04-25 11:05:46 -0400
kjohnson2macOS 12.6.1 Monterey / arm64  OK    OK    OK    OK  UNNEEDED, same version is already published
Package 99/538HostnameOS / ArchINSTALLBUILDCHECKBUILD BIN
Cogito 1.6.0  (landing page)
Annika Bürger
git_last_commit: caa4ce9
git_last_commit_date: 2023-04-25 11:33:44 -0400
kjohnson2macOS 12.6.1 Monterey / arm64  OK    OK    OK    OK  UNNEEDED, same version is already published
Package 100/538HostnameOS / ArchINSTALLBUILDCHECKBUILD BIN
comapr 1.4.0  (landing page)
Ruqian Lyu
git_last_commit: a4a9282
git_last_commit_date: 2023-04-25 11:35:25 -0400
kjohnson2macOS 12.6.1 Monterey / arm64  OK    OK    ERROR    OK  
Package 101/538HostnameOS / ArchINSTALLBUILDCHECKBUILD BIN
coMET 1.32.0  (landing page)
Tiphaine Martin
git_last_commit: 208d035
git_last_commit_date: 2023-04-25 11:41:26 -0400
kjohnson2macOS 12.6.1 Monterey / arm64  OK    OK    WARNINGS    OK  UNNEEDED, same version is already published
Package 102/538HostnameOS / ArchINSTALLBUILDCHECKBUILD BIN
coMethDMR 1.4.0  (landing page)
Fernanda Veitzman
git_last_commit: 40e80ff
git_last_commit_date: 2023-04-25 11:35:11 -0400
kjohnson2macOS 12.6.1 Monterey / arm64  OK    OK    OK    OK  UNNEEDED, same version is already published
Package 103/538HostnameOS / ArchINSTALLBUILDCHECKBUILD BIN
compartmap 1.18.0  (landing page)
Benjamin Johnson
git_last_commit: cbaef97
git_last_commit_date: 2023-04-25 11:06:12 -0400
kjohnson2macOS 12.6.1 Monterey / arm64  OK    OK    OK    OK  UNNEEDED, same version is already published
Package 104/538HostnameOS / ArchINSTALLBUILDCHECKBUILD BIN
compEpiTools 1.34.1  (landing page)
Mattia Furlan
git_last_commit: 4f44f42
git_last_commit_date: 2023-05-02 15:23:53 -0400
kjohnson2macOS 12.6.1 Monterey / arm64  OK    OK    WARNINGS    OK  UNNEEDED, same version is already published
Package 105/538HostnameOS / ArchINSTALLBUILDCHECKBUILD BIN
consensusSeekeR 1.28.0  (landing page)
Astrid Deschenes
git_last_commit: e96278e
git_last_commit_date: 2023-04-25 10:42:44 -0400
kjohnson2macOS 12.6.1 Monterey / arm64  OK    OK    OK    OK  UNNEEDED, same version is already published
Package 106/538HostnameOS / ArchINSTALLBUILDCHECKBUILD BIN
contiBAIT 1.28.0  (landing page)
Kieran O'Neill
git_last_commit: 48f8245
git_last_commit_date: 2023-04-25 10:44:16 -0400
kjohnson2macOS 12.6.1 Monterey / arm64  OK    OK    WARNINGS    OK  UNNEEDED, same version is already published
Package 107/538HostnameOS / ArchINSTALLBUILDCHECKBUILD BIN
conumee 1.34.0  (landing page)
Volker Hovestadt
git_last_commit: 71c85be
git_last_commit_date: 2023-04-25 10:39:14 -0400
kjohnson2macOS 12.6.1 Monterey / arm64  OK    OK    TIMEOUT    OK  
Package 108/538HostnameOS / ArchINSTALLBUILDCHECKBUILD BIN
copynumber 1.40.0  (landing page)
Gro Nilsen
git_last_commit: 0c087da
git_last_commit_date: 2023-04-25 10:26:46 -0400
kjohnson2macOS 12.6.1 Monterey / arm64  OK    ERROR  skippedskipped
Package 109/538HostnameOS / ArchINSTALLBUILDCHECKBUILD BIN
CopyNumberPlots 1.16.0  (landing page)
Bernat Gel
git_last_commit: 07720e2
git_last_commit_date: 2023-04-25 11:09:48 -0400
kjohnson2macOS 12.6.1 Monterey / arm64  OK    OK    OK    OK  UNNEEDED, same version is already published
Package 110/538HostnameOS / ArchINSTALLBUILDCHECKBUILD BIN
CopywriteR 2.32.0  (landing page)
Oscar Krijgsman
git_last_commit: b14b332
git_last_commit_date: 2023-04-25 10:39:03 -0400
kjohnson2macOS 12.6.1 Monterey / arm64  OK    ERROR  skippedskipped
Package 111/538HostnameOS / ArchINSTALLBUILDCHECKBUILD BIN
CoverageView 1.38.0  (landing page)
Ernesto Lowy
git_last_commit: 970269c
git_last_commit_date: 2023-04-25 10:31:32 -0400
kjohnson2macOS 12.6.1 Monterey / arm64  OK    OK    WARNINGS    OK  UNNEEDED, same version is already published
Package 112/538HostnameOS / ArchINSTALLBUILDCHECKBUILD BIN
crisprBase 1.4.0  (landing page)
Jean-Philippe Fortin
git_last_commit: b8d0906
git_last_commit_date: 2023-04-25 11:35:16 -0400
kjohnson2macOS 12.6.1 Monterey / arm64  OK    OK    OK    OK  UNNEEDED, same version is already published
Package 113/538HostnameOS / ArchINSTALLBUILDCHECKBUILD BIN
crisprBowtie 1.4.0  (landing page)
Jean-Philippe Fortin
git_last_commit: 64a92ed
git_last_commit_date: 2023-04-25 11:36:03 -0400
kjohnson2macOS 12.6.1 Monterey / arm64  OK    OK    OK    OK  UNNEEDED, same version is already published
Package 114/538HostnameOS / ArchINSTALLBUILDCHECKBUILD BIN
crisprDesign 1.2.0  (landing page)
Jean-Philippe Fortin
git_last_commit: 16ad3b4
git_last_commit_date: 2023-04-25 11:39:18 -0400
kjohnson2macOS 12.6.1 Monterey / arm64  OK    OK    OK    OK  UNNEEDED, same version is already published
Package 115/538HostnameOS / ArchINSTALLBUILDCHECKBUILD BIN
CRISPRseek 1.40.0  (landing page)
Lihua Julie Zhu
git_last_commit: 9be9a24
git_last_commit_date: 2023-04-25 10:29:39 -0400
kjohnson2macOS 12.6.1 Monterey / arm64  OK    OK    TIMEOUT    OK  
Package 116/538HostnameOS / ArchINSTALLBUILDCHECKBUILD BIN
crisprseekplus 1.26.0  (landing page)
Alper Kucukural
git_last_commit: 5172ddb
git_last_commit_date: 2023-04-25 10:50:33 -0400
kjohnson2macOS 12.6.1 Monterey / arm64  OK    OK    OK    OK  UNNEEDED, same version is already published
Package 117/538HostnameOS / ArchINSTALLBUILDCHECKBUILD BIN
CrispRVariants 1.28.0  (landing page)
Helen Lindsay
git_last_commit: 8694ad0
git_last_commit_date: 2023-04-25 10:43:23 -0400
kjohnson2macOS 12.6.1 Monterey / arm64  OK    OK    WARNINGS    OK  UNNEEDED, same version is already published
Package 118/538HostnameOS / ArchINSTALLBUILDCHECKBUILD BIN
crisprViz 1.2.0  (landing page)
Jean-Philippe Fortin
git_last_commit: fe18025
git_last_commit_date: 2023-04-25 11:40:13 -0400
kjohnson2macOS 12.6.1 Monterey / arm64  OK    OK    OK    OK  UNNEEDED, same version is already published
Package 119/538HostnameOS / ArchINSTALLBUILDCHECKBUILD BIN
CSAR 1.52.0  (landing page)
Jose M Muino
git_last_commit: d3f67ed
git_last_commit_date: 2023-04-25 09:49:58 -0400
kjohnson2macOS 12.6.1 Monterey / arm64  OK    OK    OK    OK  UNNEEDED, same version is already published
Package 120/538HostnameOS / ArchINSTALLBUILDCHECKBUILD BIN
csaw 1.34.0  (landing page)
Aaron Lun
git_last_commit: a93327e
git_last_commit_date: 2023-04-25 10:35:43 -0400
kjohnson2macOS 12.6.1 Monterey / arm64  OK    OK    ERROR    OK  
Package 121/538HostnameOS / ArchINSTALLBUILDCHECKBUILD BIN
CSSQ 1.12.1  (landing page)
Fan Lab at Georgia Institute of Technology
git_last_commit: 29426c5
git_last_commit_date: 2023-06-27 15:44:29 -0400
kjohnson2macOS 12.6.1 Monterey / arm64  OK    OK    OK    OK  UNNEEDED, same version is already published
Package 122/538HostnameOS / ArchINSTALLBUILDCHECKBUILD BIN
customProDB 1.40.0  (landing page)
Xiaojing Wang
git_last_commit: 267665c
git_last_commit_date: 2023-04-25 10:27:25 -0400
kjohnson2macOS 12.6.1 Monterey / arm64  OK    OK    OK    OK  UNNEEDED, same version is already published
Package 123/538HostnameOS / ArchINSTALLBUILDCHECKBUILD BIN
DAMEfinder 1.12.0  (landing page)
Stephany Orjuela
git_last_commit: de191b2
git_last_commit_date: 2023-04-25 11:15:03 -0400
kjohnson2macOS 12.6.1 Monterey / arm64  OK    OK    OK    OK  UNNEEDED, same version is already published
Package 124/538HostnameOS / ArchINSTALLBUILDCHECKBUILD BIN
dasper 1.10.0  (landing page)
David Zhang
git_last_commit: 3a1d835
git_last_commit_date: 2023-04-25 11:24:39 -0400
kjohnson2macOS 12.6.1 Monterey / arm64  OK    ERROR  skippedskipped
Package 125/538HostnameOS / ArchINSTALLBUILDCHECKBUILD BIN
debrowser 1.28.3  (landing page)
Alper Kucukural
git_last_commit: f25c541
git_last_commit_date: 2023-07-16 18:03:41 -0400
kjohnson2macOS 12.6.1 Monterey / arm64  OK    OK    OK    OK  UNNEEDED, same version is already published
Package 126/538HostnameOS / ArchINSTALLBUILDCHECKBUILD BIN
decompTumor2Sig 2.16.0  (landing page)
Rosario M. Piro
git_last_commit: cc7095d
git_last_commit_date: 2023-04-25 11:06:30 -0400
kjohnson2macOS 12.6.1 Monterey / arm64  OK    TIMEOUT  skippedskipped
Package 127/538HostnameOS / ArchINSTALLBUILDCHECKBUILD BIN
deconvR 1.6.0  (landing page)
Irem B. Gündüz
git_last_commit: 57e9e23
git_last_commit_date: 2023-04-25 11:34:02 -0400
kjohnson2macOS 12.6.1 Monterey / arm64  OK    OK    OK    OK  UNNEEDED, same version is already published
Package 128/538HostnameOS / ArchINSTALLBUILDCHECKBUILD BIN
DeepBlueR 1.26.0  (landing page)
Felipe Albrecht , Markus List , Quirin Manz
git_last_commit: 422a55a
git_last_commit_date: 2023-04-25 10:48:12 -0400
kjohnson2macOS 12.6.1 Monterey / arm64  ERROR    ERROR  skippedskipped
Package 129/538HostnameOS / ArchINSTALLBUILDCHECKBUILD BIN
deepSNV 1.46.0  (landing page)
Moritz Gerstung
git_last_commit: 68b63ba
git_last_commit_date: 2023-04-25 10:22:16 -0400
kjohnson2macOS 12.6.1 Monterey / arm64  OK    OK    WARNINGS    OK  UNNEEDED, same version is already published
Package 130/538HostnameOS / ArchINSTALLBUILDCHECKBUILD BIN
DEFormats 1.28.0  (landing page)
Andrzej Oleś
git_last_commit: 208c3aa
git_last_commit_date: 2023-04-25 10:45:38 -0400
kjohnson2macOS 12.6.1 Monterey / arm64  OK    OK    OK    OK  UNNEEDED, same version is already published
Package 131/538HostnameOS / ArchINSTALLBUILDCHECKBUILD BIN
DegNorm 1.10.1  (landing page)
Ji-Ping Wang
git_last_commit: 3d3414b
git_last_commit_date: 2023-05-01 20:07:15 -0400
kjohnson2macOS 12.6.1 Monterey / arm64  OK    OK    OK    OK  UNNEEDED, same version is already published
Package 132/538HostnameOS / ArchINSTALLBUILDCHECKBUILD BIN
deltaCaptureC 1.14.0  (landing page)
Michael Shapiro
git_last_commit: fd52a9f
git_last_commit_date: 2023-04-25 11:12:09 -0400
kjohnson2macOS 12.6.1 Monterey / arm64  OK    OK    OK    OK  UNNEEDED, same version is already published
Package 133/538HostnameOS / ArchINSTALLBUILDCHECKBUILD BIN
derfinder 1.34.0  (landing page)
Leonardo Collado-Torres
git_last_commit: dd81839
git_last_commit_date: 2023-04-25 10:35:03 -0400
kjohnson2macOS 12.6.1 Monterey / arm64  OK    OK    OK    OK  UNNEEDED, same version is already published
Package 134/538HostnameOS / ArchINSTALLBUILDCHECKBUILD BIN
derfinderPlot 1.34.0  (landing page)
Leonardo Collado-Torres
git_last_commit: a4e6dde
git_last_commit_date: 2023-04-25 10:35:05 -0400
kjohnson2macOS 12.6.1 Monterey / arm64  OK    OK    OK    OK  UNNEEDED, same version is already published
Package 135/538HostnameOS / ArchINSTALLBUILDCHECKBUILD BIN
DEScan2 1.20.1  (landing page)
Dario Righelli
git_last_commit: f431536
git_last_commit_date: 2023-05-01 20:07:09 -0400
kjohnson2macOS 12.6.1 Monterey / arm64  OK    OK    WARNINGS    OK  UNNEEDED, same version is already published
Package 136/538HostnameOS / ArchINSTALLBUILDCHECKBUILD BIN
DESeq2 1.40.2  (landing page)
Michael Love
git_last_commit: a037e41
git_last_commit_date: 2023-06-23 12:15:22 -0400
kjohnson2macOS 12.6.1 Monterey / arm64  OK    OK    OK    OK  UNNEEDED, same version is already published
Package 137/538HostnameOS / ArchINSTALLBUILDCHECKBUILD BIN
DEWSeq 1.14.0  (landing page)
bioinformatics team Hentze
git_last_commit: d9a8908
git_last_commit_date: 2023-04-25 11:13:39 -0400
kjohnson2macOS 12.6.1 Monterey / arm64  OK    OK    OK    OK  UNNEEDED, same version is already published
Package 138/538HostnameOS / ArchINSTALLBUILDCHECKBUILD BIN
DEXSeq 1.46.1  (landing page)
Alejandro Reyes
git_last_commit: dad9607
git_last_commit_date: 2023-10-02 03:44:51 -0400
kjohnson2macOS 12.6.1 Monterey / arm64  OK    OK    OK    OK  UNNEEDED, same version is already published
Package 139/538HostnameOS / ArchINSTALLBUILDCHECKBUILD BIN
DiffBind 3.10.1  (landing page)
Rory Stark
git_last_commit: 5846014
git_last_commit_date: 2023-08-30 08:24:15 -0400
kjohnson2macOS 12.6.1 Monterey / arm64  OK    OK    WARNINGS    OK  UNNEEDED, same version is already published
Package 140/538HostnameOS / ArchINSTALLBUILDCHECKBUILD BIN
diffHic 1.32.0  (landing page)
Aaron Lun
git_last_commit: 6c577d2
git_last_commit_date: 2023-04-25 10:39:29 -0400
kjohnson2macOS 12.6.1 Monterey / arm64  OK    OK    WARNINGS    OK  UNNEEDED, same version is already published
Package 141/538HostnameOS / ArchINSTALLBUILDCHECKBUILD BIN
diffUTR 1.8.0  (landing page)
Pierre-Luc Germain
git_last_commit: 740683a
git_last_commit_date: 2023-04-25 11:29:40 -0400
kjohnson2macOS 12.6.1 Monterey / arm64  OK    OK    OK    OK  UNNEEDED, same version is already published
Package 142/538HostnameOS / ArchINSTALLBUILDCHECKBUILD BIN
DMCFB 1.14.0  (landing page)
Farhad Shokoohi
git_last_commit: 072bd32
git_last_commit_date: 2023-04-25 11:12:51 -0400
kjohnson2macOS 12.6.1 Monterey / arm64  OK    OK    OK    OK  UNNEEDED, same version is already published
Package 143/538HostnameOS / ArchINSTALLBUILDCHECKBUILD BIN
DMCHMM 1.22.0  (landing page)
Farhad Shokoohi
git_last_commit: b4f404a
git_last_commit_date: 2023-04-25 10:56:06 -0400
kjohnson2macOS 12.6.1 Monterey / arm64  OK    OK    OK    OK  UNNEEDED, same version is already published
Package 144/538HostnameOS / ArchINSTALLBUILDCHECKBUILD BIN
DMRcaller 1.32.0  (landing page)
Nicolae Radu Zabet
git_last_commit: 5bfd754
git_last_commit_date: 2023-04-25 10:38:50 -0400
kjohnson2macOS 12.6.1 Monterey / arm64  OK    OK    OK    OK  UNNEEDED, same version is already published
Package 145/538HostnameOS / ArchINSTALLBUILDCHECKBUILD BIN
DMRcate 2.14.1  (landing page)
Tim Peters
git_last_commit: 06b0a3c
git_last_commit_date: 2023-07-28 03:37:58 -0400
kjohnson2macOS 12.6.1 Monterey / arm64  OK    OK    TIMEOUT    OK  
Package 146/538HostnameOS / ArchINSTALLBUILDCHECKBUILD BIN
DMRforPairs 1.36.0  (landing page)
Martin Rijlaarsdam
git_last_commit: 54dad00
git_last_commit_date: 2023-04-25 10:31:37 -0400
kjohnson2macOS 12.6.1 Monterey / arm64  OK    ERROR  skippedskipped
Package 147/538HostnameOS / ArchINSTALLBUILDCHECKBUILD BIN
DMRScan 1.22.0  (landing page)
Christian M Page
git_last_commit: 81371c9
git_last_commit_date: 2023-04-25 10:51:59 -0400
kjohnson2macOS 12.6.1 Monterey / arm64  OK    ERROR  skippedskipped
Package 148/538HostnameOS / ArchINSTALLBUILDCHECKBUILD BIN
dmrseq 1.20.1  (landing page)
Keegan Korthauer
git_last_commit: ed96d9e
git_last_commit_date: 2023-08-08 15:22:46 -0400
kjohnson2macOS 12.6.1 Monterey / arm64  OK    OK    OK    OK  UNNEEDED, same version is already published
Package 149/538HostnameOS / ArchINSTALLBUILDCHECKBUILD BIN
DNAfusion 1.2.0  (landing page)
Christoffer Trier Maansson
git_last_commit: aef3ca8
git_last_commit_date: 2023-04-26 05:41:57 -0400
kjohnson2macOS 12.6.1 Monterey / arm64  OK    OK    OK    OK  UNNEEDED, same version is already published
Package 150/538HostnameOS / ArchINSTALLBUILDCHECKBUILD BIN
DNAshapeR 1.28.0  (landing page)
Tsu-Pei Chiu
git_last_commit: 57b9eef
git_last_commit_date: 2023-04-25 10:45:16 -0400
kjohnson2macOS 12.6.1 Monterey / arm64  OK    OK    OK    OK  UNNEEDED, same version is already published
Package 151/538HostnameOS / ArchINSTALLBUILDCHECKBUILD BIN
DominoEffect 1.20.1  (landing page)
Marija Buljan
git_last_commit: 8093c63
git_last_commit_date: 2023-07-01 11:00:28 -0400
kjohnson2macOS 12.6.1 Monterey / arm64  OK    OK    OK    OK  UNNEEDED, same version is already published
Package 152/538HostnameOS / ArchINSTALLBUILDCHECKBUILD BIN
doubletrouble 1.0.0  (landing page)
Fabrício Almeida-Silva
git_last_commit: c7acec6
git_last_commit_date: 2023-04-25 11:41:36 -0400
kjohnson2macOS 12.6.1 Monterey / arm64  OK    OK    OK    OK  UNNEEDED, same version is already published
Package 153/538HostnameOS / ArchINSTALLBUILDCHECKBUILD BIN
DRIMSeq 1.28.0  (landing page)
Malgorzata Nowicka
git_last_commit: 83a8b21
git_last_commit_date: 2023-04-25 10:45:22 -0400
kjohnson2macOS 12.6.1 Monterey / arm64  OK    OK    WARNINGS    OK  UNNEEDED, same version is already published
Package 154/538HostnameOS / ArchINSTALLBUILDCHECKBUILD BIN
DropletUtils 1.20.0  (landing page)
Jonathan Griffiths
git_last_commit: 855762f
git_last_commit_date: 2023-04-25 10:58:49 -0400
kjohnson2macOS 12.6.1 Monterey / arm64  OK    OK    WARNINGS    OK  UNNEEDED, same version is already published
Package 155/538HostnameOS / ArchINSTALLBUILDCHECKBUILD BIN
easyRNASeq 2.36.0  (landing page)
Nicolas Delhomme
git_last_commit: e5e1842
git_last_commit_date: 2023-04-25 10:22:04 -0400
kjohnson2macOS 12.6.1 Monterey / arm64  OK    OK    OK    OK  UNNEEDED, same version is already published
Package 156/538HostnameOS / ArchINSTALLBUILDCHECKBUILD BIN
EDASeq 2.34.0  (landing page)
Davide Risso
git_last_commit: 71b52e3
git_last_commit_date: 2023-04-25 10:20:57 -0400
kjohnson2macOS 12.6.1 Monterey / arm64  OK    OK    OK    OK  UNNEEDED, same version is already published
Package 157/538HostnameOS / ArchINSTALLBUILDCHECKBUILD BIN
EDIRquery 1.0.0  (landing page)
Laura D.T. Vo Ngoc
git_last_commit: 6799187
git_last_commit_date: 2023-04-25 11:44:15 -0400
kjohnson2macOS 12.6.1 Monterey / arm64  OK    OK    OK    OK  UNNEEDED, same version is already published
Package 158/538HostnameOS / ArchINSTALLBUILDCHECKBUILD BIN
eisaR 1.12.0  (landing page)
Michael Stadler
git_last_commit: a520f29
git_last_commit_date: 2023-04-25 11:16:12 -0400
kjohnson2macOS 12.6.1 Monterey / arm64  OK    OK    OK    OK  UNNEEDED, same version is already published
Package 159/538HostnameOS / ArchINSTALLBUILDCHECKBUILD BIN
ELMER 2.24.1  (landing page)
Tiago Chedraoui Silva
git_last_commit: 5c6fd17
git_last_commit_date: 2023-05-07 16:43:07 -0400
kjohnson2macOS 12.6.1 Monterey / arm64  OK    OK    WARNINGS    OK  UNNEEDED, same version is already published
Package 160/538HostnameOS / ArchINSTALLBUILDCHECKBUILD BIN
enhancerHomologSearch 1.6.1  (landing page)
Jianhong Ou
git_last_commit: 6ff2947
git_last_commit_date: 2023-05-01 20:09:59 -0400
kjohnson2macOS 12.6.1 Monterey / arm64  OK    OK    WARNINGS    OK  UNNEEDED, same version is already published
Package 161/538HostnameOS / ArchINSTALLBUILDCHECKBUILD BIN
EnrichedHeatmap 1.30.0  (landing page)
Zuguang Gu
git_last_commit: c26c1f0
git_last_commit_date: 2023-04-25 10:41:37 -0400
kjohnson2macOS 12.6.1 Monterey / arm64  OK    OK    OK    OK  UNNEEDED, same version is already published
Package 162/538HostnameOS / ArchINSTALLBUILDCHECKBUILD BIN
enrichTF 1.16.0  (landing page)
Zheng Wei
git_last_commit: 5dc47d9
git_last_commit_date: 2023-04-25 11:10:05 -0400
kjohnson2macOS 12.6.1 Monterey / arm64  OK    OK    OK    OK  UNNEEDED, same version is already published
Package 163/538HostnameOS / ArchINSTALLBUILDCHECKBUILD BIN
ensembldb 2.24.1  (landing page)
Johannes Rainer
git_last_commit: c7713b8
git_last_commit_date: 2023-09-21 11:20:52 -0400
kjohnson2macOS 12.6.1 Monterey / arm64  OK    OK    OK    OK  UNNEEDED, same version is already published
Package 164/538HostnameOS / ArchINSTALLBUILDCHECKBUILD BIN
ensemblVEP 1.42.0  (landing page)
Bioconductor Package Maintainer
git_last_commit: 700e0fd
git_last_commit_date: 2023-04-25 10:25:01 -0400
kjohnson2macOS 12.6.1 Monterey / arm64  OK    ERROR  skippedskipped
Package 165/538HostnameOS / ArchINSTALLBUILDCHECKBUILD BIN
epialleleR 1.8.1  (landing page)
Oleksii Nikolaienko
git_last_commit: 82910fb
git_last_commit_date: 2023-08-21 11:24:52 -0400
kjohnson2macOS 12.6.1 Monterey / arm64  OK    OK    WARNINGS    OK  UNNEEDED, same version is already published
Package 166/538HostnameOS / ArchINSTALLBUILDCHECKBUILD BIN
EpiCompare 1.4.0  (landing page)
Sera Choi
git_last_commit: 9b39948
git_last_commit_date: 2023-04-25 11:38:09 -0400
kjohnson2macOS 12.6.1 Monterey / arm64  OK    OK    OK    OK  UNNEEDED, same version is already published
Package 167/538HostnameOS / ArchINSTALLBUILDCHECKBUILD BIN
epidecodeR 1.8.0  (landing page)
Kandarp Joshi
git_last_commit: e31929f
git_last_commit_date: 2023-04-25 11:28:19 -0400
kjohnson2macOS 12.6.1 Monterey / arm64  OK    OK    OK    OK  UNNEEDED, same version is already published
Package 168/538HostnameOS / ArchINSTALLBUILDCHECKBUILD BIN
epigenomix 1.40.0  (landing page)
Hans-Ulrich Klein
git_last_commit: 98e9d36
git_last_commit_date: 2023-04-25 10:26:05 -0400
kjohnson2macOS 12.6.1 Monterey / arm64  OK    OK    OK    OK  UNNEEDED, same version is already published
Package 169/538HostnameOS / ArchINSTALLBUILDCHECKBUILD BIN
epigraHMM 1.8.3  (landing page)
Pedro Baldoni
git_last_commit: 7a4ec94
git_last_commit_date: 2023-10-04 18:42:56 -0400
kjohnson2macOS 12.6.1 Monterey / arm64  OK    OK    WARNINGS    OK  UNNEEDED, same version is already published
Package 170/538HostnameOS / ArchINSTALLBUILDCHECKBUILD BIN
epihet 1.16.0  (landing page)
Xiaowen Chen
git_last_commit: 7a56e16
git_last_commit_date: 2023-04-25 11:06:43 -0400
kjohnson2macOS 12.6.1 Monterey / arm64  ERROR    ERROR  skippedskipped
Package 171/538HostnameOS / ArchINSTALLBUILDCHECKBUILD BIN
EpiMix 1.2.4  (landing page)
Yuanning Zheng
git_last_commit: 56a0a9d
git_last_commit_date: 2023-07-11 00:24:46 -0400
kjohnson2macOS 12.6.1 Monterey / arm64  ERROR    ERROR  skippedskipped
Package 172/538HostnameOS / ArchINSTALLBUILDCHECKBUILD BIN
epimutacions 1.4.0  (landing page)
Dolors Pelegri-Siso
git_last_commit: 78170ad
git_last_commit_date: 2023-04-25 11:37:33 -0400
kjohnson2macOS 12.6.1 Monterey / arm64  OK    OK    OK    OK  UNNEEDED, same version is already published
Package 173/538HostnameOS / ArchINSTALLBUILDCHECKBUILD BIN
epistack 1.6.0  (landing page)
DEVAILLY Guillaume
git_last_commit: c0e3cbb
git_last_commit_date: 2023-04-25 11:33:47 -0400
kjohnson2macOS 12.6.1 Monterey / arm64  OK    OK    OK    OK  UNNEEDED, same version is already published
Package 174/538HostnameOS / ArchINSTALLBUILDCHECKBUILD BIN
EpiTxDb 1.12.0  (landing page)
Felix G.M. Ernst
git_last_commit: f967697
git_last_commit_date: 2023-04-25 11:16:15 -0400
kjohnson2macOS 12.6.1 Monterey / arm64  OK    OK    OK    OK  UNNEEDED, same version is already published
Package 175/538HostnameOS / ArchINSTALLBUILDCHECKBUILD BIN
epivizr 2.30.0  (landing page)
Hector Corrada Bravo
git_last_commit: 6d20ad8
git_last_commit_date: 2023-04-25 10:29:04 -0400
kjohnson2macOS 12.6.1 Monterey / arm64  OK    OK    OK    OK  UNNEEDED, same version is already published
Package 176/538HostnameOS / ArchINSTALLBUILDCHECKBUILD BIN
epivizrData 1.28.0  (landing page)
Hector Corrada Bravo
git_last_commit: fee5b60
git_last_commit_date: 2023-04-25 10:46:48 -0400
kjohnson2macOS 12.6.1 Monterey / arm64  OK    OK    OK    OK  UNNEEDED, same version is already published
Package 177/538HostnameOS / ArchINSTALLBUILDCHECKBUILD BIN
erma 1.16.0  (landing page)
VJ Carey
git_last_commit: 52c2891
git_last_commit_date: 2023-04-25 10:40:09 -0400
kjohnson2macOS 12.6.1 Monterey / arm64  OK    OK    OK    OK  UNNEEDED, same version is already published
Package 178/538HostnameOS / ArchINSTALLBUILDCHECKBUILD BIN
esATAC 1.22.0  (landing page)
Zheng Wei
git_last_commit: 02846bd
git_last_commit_date: 2023-04-25 10:58:10 -0400
kjohnson2macOS 12.6.1 Monterey / arm64  OK    OK    OK    OK  UNNEEDED, same version is already published
Package 179/538HostnameOS / ArchINSTALLBUILDCHECKBUILD BIN
EventPointer 3.8.0  (landing page)
Juan A. Ferrer-Bonsoms
git_last_commit: a9ab053
git_last_commit_date: 2023-04-25 10:52:37 -0400
kjohnson2macOS 12.6.1 Monterey / arm64  OK    OK    OK    OK  UNNEEDED, same version is already published
Package 180/538HostnameOS / ArchINSTALLBUILDCHECKBUILD BIN
ExCluster 1.18.0  (landing page)
R. Matthew Tanner
git_last_commit: 7f9c987
git_last_commit_date: 2023-04-25 11:04:45 -0400
kjohnson2macOS 12.6.1 Monterey / arm64  OK    OK    OK    OK  UNNEEDED, same version is already published
Package 181/538HostnameOS / ArchINSTALLBUILDCHECKBUILD BIN
exomeCopy 1.46.0  (landing page)
Michael Love
git_last_commit: b282adb
git_last_commit_date: 2023-04-25 10:21:32 -0400
kjohnson2macOS 12.6.1 Monterey / arm64  OK    OK    OK    OK  UNNEEDED, same version is already published
Package 182/538HostnameOS / ArchINSTALLBUILDCHECKBUILD BIN
exomePeak2 1.12.0  (landing page)
Zhen Wei
git_last_commit: 4843089
git_last_commit_date: 2023-04-25 11:15:50 -0400
kjohnson2macOS 12.6.1 Monterey / arm64  OK    OK    OK    OK  UNNEEDED, same version is already published
Package 183/538HostnameOS / ArchINSTALLBUILDCHECKBUILD BIN
extraChIPs 1.4.6  (landing page)
Stephen Pederson
git_last_commit: 099625f
git_last_commit_date: 2023-07-08 04:51:32 -0400
kjohnson2macOS 12.6.1 Monterey / arm64  OK    OK    OK    OK  UNNEEDED, same version is already published
Package 184/538HostnameOS / ArchINSTALLBUILDCHECKBUILD BIN
factR 1.2.0  (landing page)
Fursham Hamid
git_last_commit: 399210e
git_last_commit_date: 2023-04-25 11:38:52 -0400
kjohnson2macOS 12.6.1 Monterey / arm64  OK    ERROR  skippedskipped
Package 185/538HostnameOS / ArchINSTALLBUILDCHECKBUILD BIN
fastseg 1.46.0  (landing page)
Alexander Blume
git_last_commit: f51432c
git_last_commit_date: 2023-04-25 10:21:47 -0400
kjohnson2macOS 12.6.1 Monterey / arm64  OK    OK    OK    OK  UNNEEDED, same version is already published
Package 186/538HostnameOS / ArchINSTALLBUILDCHECKBUILD BIN
fCCAC 1.26.0  (landing page)
Pedro Madrigal
git_last_commit: 0d3206e
git_last_commit_date: 2023-04-25 10:50:59 -0400
kjohnson2macOS 12.6.1 Monterey / arm64  OK    OK    OK    OK  UNNEEDED, same version is already published
Package 187/538HostnameOS / ArchINSTALLBUILDCHECKBUILD BIN
fcScan 1.14.0  (landing page)
Pierre Khoueiry Abdullah El-Kurdi
git_last_commit: 76e3033
git_last_commit_date: 2023-04-25 11:11:44 -0400
kjohnson2macOS 12.6.1 Monterey / arm64  OK    OK    OK    OK  UNNEEDED, same version is already published
Package 188/538HostnameOS / ArchINSTALLBUILDCHECKBUILD BIN
FilterFFPE 1.10.0  (landing page)
Lanying Wei
git_last_commit: acf651f
git_last_commit_date: 2023-04-25 11:22:40 -0400
kjohnson2macOS 12.6.1 Monterey / arm64  OK    OK    OK    OK  UNNEEDED, same version is already published
Package 189/538HostnameOS / ArchINSTALLBUILDCHECKBUILD BIN
FindIT2 1.6.0  (landing page)
Guandong Shang
git_last_commit: ed293ae
git_last_commit_date: 2023-04-25 11:31:01 -0400
kjohnson2macOS 12.6.1 Monterey / arm64  OK    OK    OK    OK  UNNEEDED, same version is already published
Package 190/538HostnameOS / ArchINSTALLBUILDCHECKBUILD BIN
fishpond 2.6.2  (landing page)
Michael Love
git_last_commit: 1d6855b
git_last_commit_date: 2023-06-19 06:52:56 -0400
kjohnson2macOS 12.6.1 Monterey / arm64  OK    OK    OK    OK  UNNEEDED, same version is already published
Package 191/538HostnameOS / ArchINSTALLBUILDCHECKBUILD BIN
FLAMES 1.6.0  (landing page)
Oliver Voogd
git_last_commit: 31277b6
git_last_commit_date: 2023-04-25 11:31:20 -0400
kjohnson2macOS 12.6.1 Monterey / arm64  OK    OK    WARNINGS    OK  UNNEEDED, same version is already published
Package 192/538HostnameOS / ArchINSTALLBUILDCHECKBUILD BIN
FRASER 1.12.1  (landing page)
Christian Mertes
git_last_commit: 72d97bf
git_last_commit_date: 2023-05-01 20:07:22 -0400
kjohnson2macOS 12.6.1 Monterey / arm64  OK    OK    OK    OK  UNNEEDED, same version is already published
Package 193/538HostnameOS / ArchINSTALLBUILDCHECKBUILD BIN
FunChIP 1.26.0  (landing page)
Alice Parodi
git_last_commit: de91900
git_last_commit_date: 2023-04-25 10:47:22 -0400
kjohnson2macOS 12.6.1 Monterey / arm64  OK    OK    OK    OK  UNNEEDED, same version is already published
Package 194/538HostnameOS / ArchINSTALLBUILDCHECKBUILD BIN
GA4GHclient 1.24.0  (landing page)
Welliton Souza
git_last_commit: 6c208db
git_last_commit_date: 2023-04-25 10:53:13 -0400
kjohnson2macOS 12.6.1 Monterey / arm64  OK    OK    OK    OK  UNNEEDED, same version is already published
Package 195/538HostnameOS / ArchINSTALLBUILDCHECKBUILD BIN
gcapc 1.24.0  (landing page)
Mingxiang Teng
git_last_commit: e7a1d17
git_last_commit_date: 2023-04-25 10:51:22 -0400
kjohnson2macOS 12.6.1 Monterey / arm64  OK    OK    OK    OK  UNNEEDED, same version is already published
Package 196/538HostnameOS / ArchINSTALLBUILDCHECKBUILD BIN
genbankr 1.28.0  (landing page)
Gabriel Becker
git_last_commit: 397e5bb
git_last_commit_date: 2023-04-25 10:46:27 -0400
kjohnson2macOS 12.6.1 Monterey / arm64  OK    ERROR  skippedskipped
Package 197/538HostnameOS / ArchINSTALLBUILDCHECKBUILD BIN
geneAttribution 1.26.0  (landing page)
Arthur Wuster
git_last_commit: 622b748
git_last_commit_date: 2023-04-25 10:49:16 -0400
kjohnson2macOS 12.6.1 Monterey / arm64  OK    OK    OK    OK  UNNEEDED, same version is already published
Package 198/538HostnameOS / ArchINSTALLBUILDCHECKBUILD BIN
GeneBreak 1.30.0  (landing page)
Evert van den Broek
git_last_commit: 6e11bd8
git_last_commit_date: 2023-04-25 10:42:17 -0400
kjohnson2macOS 12.6.1 Monterey / arm64  OK    OK    OK    OK  UNNEEDED, same version is already published
Package 199/538HostnameOS / ArchINSTALLBUILDCHECKBUILD BIN
GeneGeneInteR 1.26.0  (landing page)
Mathieu Emily
git_last_commit: df80f33
git_last_commit_date: 2023-04-25 10:48:27 -0400
kjohnson2macOS 12.6.1 Monterey / arm64  OK    OK    OK    OK  UNNEEDED, same version is already published
Package 200/538HostnameOS / ArchINSTALLBUILDCHECKBUILD BIN
geneRxCluster 1.36.0  (landing page)
Charles Berry
git_last_commit: 0f71d7f
git_last_commit_date: 2023-04-25 10:29:56 -0400
kjohnson2macOS 12.6.1 Monterey / arm64  OK    OK    OK    OK  UNNEEDED, same version is already published
Package 201/538HostnameOS / ArchINSTALLBUILDCHECKBUILD BIN
GENESIS 2.30.0  (landing page)
Stephanie M. Gogarten
git_last_commit: 4b00d85
git_last_commit_date: 2023-04-25 10:38:20 -0400
kjohnson2macOS 12.6.1 Monterey / arm64  OK    OK    OK    OK  UNNEEDED, same version is already published
Package 202/538HostnameOS / ArchINSTALLBUILDCHECKBUILD BIN
GeneStructureTools 1.20.0  (landing page)
Beth Signal
git_last_commit: 1e8862b
git_last_commit_date: 2023-04-25 10:59:49 -0400
kjohnson2macOS 12.6.1 Monterey / arm64  OK    OK    OK    OK  UNNEEDED, same version is already published
Package 203/538HostnameOS / ArchINSTALLBUILDCHECKBUILD BIN
genomation 1.32.0  (landing page)
Altuna Akalin , Vedran Franke
git_last_commit: f8dc939
git_last_commit_date: 2023-04-25 10:36:42 -0400
kjohnson2macOS 12.6.1 Monterey / arm64  OK    OK    WARNINGS    OK  UNNEEDED, same version is already published
Package 204/538HostnameOS / ArchINSTALLBUILDCHECKBUILD BIN
GenomAutomorphism 1.2.0  (landing page)
Robersy Sanchez
git_last_commit: 1587377
git_last_commit_date: 2023-04-25 11:39:24 -0400
kjohnson2macOS 12.6.1 Monterey / arm64  OK    OK    ERROR    OK  
Package 205/538HostnameOS / ArchINSTALLBUILDCHECKBUILD BIN
genomeIntervals 1.56.0  (landing page)
Julien Gagneur
git_last_commit: 3118724
git_last_commit_date: 2023-04-25 09:48:24 -0400
kjohnson2macOS 12.6.1 Monterey / arm64  OK    OK    WARNINGS    OK  UNNEEDED, same version is already published
Package 206/538HostnameOS / ArchINSTALLBUILDCHECKBUILD BIN
GenomicAlignments 1.36.0  (landing page)
Hervé Pagès
git_last_commit: cdc1aa4
git_last_commit_date: 2023-04-25 10:29:36 -0400
kjohnson2macOS 12.6.1 Monterey / arm64  OK    OK    WARNINGS    OK  UNNEEDED, same version is already published
Package 207/538HostnameOS / ArchINSTALLBUILDCHECKBUILD BIN
GenomicDataCommons 1.24.3  (landing page)
Sean Davis
git_last_commit: 0bd1369
git_last_commit_date: 2023-09-05 16:56:09 -0400
kjohnson2macOS 12.6.1 Monterey / arm64  OK    OK    OK    OK  UNNEEDED, same version is already published
Package 208/538HostnameOS / ArchINSTALLBUILDCHECKBUILD BIN
GenomicDistributions 1.8.0  (landing page)
Kristyna Kupkova
git_last_commit: 5481f07
git_last_commit_date: 2023-04-25 11:25:50 -0400
kjohnson2macOS 12.6.1 Monterey / arm64  OK    OK    OK    OK  UNNEEDED, same version is already published
Package 209/538HostnameOS / ArchINSTALLBUILDCHECKBUILD BIN
GenomicFeatures 1.52.2  (landing page)
H. Pagès
git_last_commit: b430ea1
git_last_commit_date: 2023-08-25 11:15:43 -0400
kjohnson2macOS 12.6.1 Monterey / arm64  OK    OK    ERROR    OK  
Package 210/538HostnameOS / ArchINSTALLBUILDCHECKBUILD BIN
GenomicFiles 1.36.0  (landing page)
Bioconductor Package Maintainer
git_last_commit: 8697b9a
git_last_commit_date: 2023-04-25 10:31:49 -0400
kjohnson2macOS 12.6.1 Monterey / arm64  OK    OK    WARNINGS    OK  UNNEEDED, same version is already published
Package 211/538HostnameOS / ArchINSTALLBUILDCHECKBUILD BIN
GenomicInteractionNodes 1.4.0  (landing page)
Jianhong Ou
git_last_commit: ba14b80
git_last_commit_date: 2023-04-25 11:37:36 -0400
kjohnson2macOS 12.6.1 Monterey / arm64  OK    OK    OK    OK  UNNEEDED, same version is already published
Package 212/538HostnameOS / ArchINSTALLBUILDCHECKBUILD BIN
GenomicInteractions 1.34.0  (landing page)
Liz Ing-Simmons
git_last_commit: 9f6a4ce
git_last_commit_date: 2023-04-25 10:34:50 -0400
kjohnson2macOS 12.6.1 Monterey / arm64  OK    OK    OK    OK  UNNEEDED, same version is already published
Package 213/538HostnameOS / ArchINSTALLBUILDCHECKBUILD BIN
GenomicOZone 1.14.0  (landing page)
Hua Zhong, Mingzhou Song
git_last_commit: c40c429
git_last_commit_date: 2023-04-25 11:11:47 -0400
kjohnson2macOS 12.6.1 Monterey / arm64  OK    OK    OK    OK  UNNEEDED, same version is already published
Package 214/538HostnameOS / ArchINSTALLBUILDCHECKBUILD BIN
GenomicScores 2.12.1  (landing page)
Robert Castelo
git_last_commit: 11580f3
git_last_commit_date: 2023-10-06 11:47:02 -0400
kjohnson2macOS 12.6.1 Monterey / arm64  OK    OK    OK    OK  UNNEEDED, same version is already published
Package 215/538HostnameOS / ArchINSTALLBUILDCHECKBUILD BIN
GenomicTuples 1.34.0  (landing page)
Peter Hickey
git_last_commit: a121b3b
git_last_commit_date: 2023-04-25 10:35:32 -0400
kjohnson2macOS 12.6.1 Monterey / arm64  OK    OK    WARNINGS    OK  UNNEEDED, same version is already published
Package 216/538HostnameOS / ArchINSTALLBUILDCHECKBUILD BIN
genotypeeval 1.32.0  (landing page)
Jennifer Tom
git_last_commit: b541dbb
git_last_commit_date: 2023-04-25 10:40:30 -0400
kjohnson2macOS 12.6.1 Monterey / arm64  OK    OK    ERROR    OK  
Package 217/538HostnameOS / ArchINSTALLBUILDCHECKBUILD BIN
GenVisR 1.32.0  (landing page)
Zachary Skidmore
git_last_commit: 8b1b564
git_last_commit_date: 2023-04-25 10:43:51 -0400
kjohnson2macOS 12.6.1 Monterey / arm64  OK    OK    ERROR    OK  
Package 218/538HostnameOS / ArchINSTALLBUILDCHECKBUILD BIN
ggbio 1.48.0  (landing page)
Michael Lawrence
git_last_commit: fd4ebca
git_last_commit_date: 2023-04-25 10:21:27 -0400
kjohnson2macOS 12.6.1 Monterey / arm64  OK    OK    WARNINGS    OK  UNNEEDED, same version is already published
Package 219/538HostnameOS / ArchINSTALLBUILDCHECKBUILD BIN
gmapR 1.42.0  (landing page)
Michael Lawrence
git_last_commit: 506bc70
git_last_commit_date: 2023-04-25 10:23:34 -0400
kjohnson2macOS 12.6.1 Monterey / arm64  ERROR    ERROR  skippedskipped
Package 220/538HostnameOS / ArchINSTALLBUILDCHECKBUILD BIN
gmoviz 1.12.0  (landing page)
Kathleen Zeglinski
git_last_commit: 3f10d0a
git_last_commit_date: 2023-04-25 11:16:28 -0400
kjohnson2macOS 12.6.1 Monterey / arm64  OK    OK    OK    OK  UNNEEDED, same version is already published
Package 221/538HostnameOS / ArchINSTALLBUILDCHECKBUILD BIN
GMRP 1.28.0  (landing page)
Yuan-De Tan
git_last_commit: c4c33b1
git_last_commit_date: 2023-04-25 11:02:39 -0400
kjohnson2macOS 12.6.1 Monterey / arm64  OK    OK    WARNINGS    OK  UNNEEDED, same version is already published
Package 222/538HostnameOS / ArchINSTALLBUILDCHECKBUILD BIN
GOfuncR 1.20.0  (landing page)
Steffi Grote
git_last_commit: 2374d68
git_last_commit_date: 2023-04-25 10:58:27 -0400
kjohnson2macOS 12.6.1 Monterey / arm64  ERROR    ERROR  skippedskipped
Package 223/538HostnameOS / ArchINSTALLBUILDCHECKBUILD BIN
GOTHiC 1.36.0  (landing page)
Borbala Mifsud
git_last_commit: ade51bc
git_last_commit_date: 2023-04-25 11:11:06 -0400
kjohnson2macOS 12.6.1 Monterey / arm64  OK    OK    OK    OK  UNNEEDED, same version is already published
Package 224/538HostnameOS / ArchINSTALLBUILDCHECKBUILD BIN
GRaNIE 1.4.1  (landing page)
Christian Arnold
git_last_commit: d3d7da1
git_last_commit_date: 2023-06-19 10:19:10 -0400
kjohnson2macOS 12.6.1 Monterey / arm64  OK    OK    WARNINGS    OK  UNNEEDED, same version is already published
Package 225/538HostnameOS / ArchINSTALLBUILDCHECKBUILD BIN
GreyListChIP 1.32.1  (landing page)
Matt Eldridge
git_last_commit: 8ebff15
git_last_commit_date: 2023-08-29 09:42:09 -0400
kjohnson2macOS 12.6.1 Monterey / arm64  OK    OK    OK    OK  UNNEEDED, same version is already published
Package 226/538HostnameOS / ArchINSTALLBUILDCHECKBUILD BIN
groHMM 1.34.0  (landing page)
Tulip Nandu , W. Lee Kraus
git_last_commit: cfb04ec
git_last_commit_date: 2023-04-25 10:35:53 -0400
kjohnson2macOS 12.6.1 Monterey / arm64  OK    OK    OK    OK  UNNEEDED, same version is already published
Package 227/538HostnameOS / ArchINSTALLBUILDCHECKBUILD BIN
gtrellis 1.32.0  (landing page)
Zuguang Gu
git_last_commit: 4c2361b
git_last_commit_date: 2023-04-25 10:38:30 -0400
kjohnson2macOS 12.6.1 Monterey / arm64  OK    OK    OK    OK  UNNEEDED, same version is already published
Package 228/538HostnameOS / ArchINSTALLBUILDCHECKBUILD BIN
GUIDEseq 1.30.0  (landing page)
Lihua Julie Zhu
git_last_commit: 3970f96
git_last_commit_date: 2023-04-25 10:42:14 -0400
kjohnson2macOS 12.6.1 Monterey / arm64  OK    OK    OK    OK  UNNEEDED, same version is already published
Package 229/538HostnameOS / ArchINSTALLBUILDCHECKBUILD BIN
Guitar 2.16.0  (landing page)
Jia Meng
git_last_commit: 8b7b2fe
git_last_commit_date: 2023-04-25 10:41:40 -0400
kjohnson2macOS 12.6.1 Monterey / arm64  OK    OK    OK    OK  UNNEEDED, same version is already published
Package 230/538HostnameOS / ArchINSTALLBUILDCHECKBUILD BIN
Gviz 1.44.2  (landing page)
Robert Ivanek
git_last_commit: 846307d
git_last_commit_date: 2023-09-29 05:56:24 -0400
kjohnson2macOS 12.6.1 Monterey / arm64  OK    OK    OK    OK  UNNEEDED, same version is already published
Package 231/538HostnameOS / ArchINSTALLBUILDCHECKBUILD BIN
gwascat 2.32.0  (landing page)
VJ Carey
git_last_commit: 8c1533d
git_last_commit_date: 2023-04-25 10:22:24 -0400
kjohnson2macOS 12.6.1 Monterey / arm64  OK    OK    OK    OK  UNNEEDED, same version is already published
Package 232/538HostnameOS / ArchINSTALLBUILDCHECKBUILD BIN
h5vc 2.34.0  (landing page)
Paul Theodor Pyl
git_last_commit: 9324f25
git_last_commit_date: 2023-04-25 10:29:31 -0400
kjohnson2macOS 12.6.1 Monterey / arm64  OK    OK    WARNINGS    OK  UNNEEDED, same version is already published
Package 233/538HostnameOS / ArchINSTALLBUILDCHECKBUILD BIN
heatmaps 1.24.0  (landing page)
Malcolm Perry
git_last_commit: 04b7413
git_last_commit_date: 2023-04-25 10:54:09 -0400
kjohnson2macOS 12.6.1 Monterey / arm64  OK    OK    OK    OK  UNNEEDED, same version is already published
Package 234/538HostnameOS / ArchINSTALLBUILDCHECKBUILD BIN
HelloRanges 1.26.0  (landing page)
Michael Lawrence
git_last_commit: a20611c
git_last_commit_date: 2023-04-25 10:50:31 -0400
kjohnson2macOS 12.6.1 Monterey / arm64  OK    OK    OK    OK  UNNEEDED, same version is already published
Package 235/538HostnameOS / ArchINSTALLBUILDCHECKBUILD BIN
hermes 1.4.0  (landing page)
Daniel Sabanés Bové
git_last_commit: 66d78db
git_last_commit_date: 2023-04-25 11:35:06 -0400
kjohnson2macOS 12.6.1 Monterey / arm64  OK    OK    OK    OK  UNNEEDED, same version is already published
Package 236/538HostnameOS / ArchINSTALLBUILDCHECKBUILD BIN
hiAnnotator 1.34.0  (landing page)
Nirav V Malani
git_last_commit: 76d13c7
git_last_commit_date: 2023-04-25 10:32:09 -0400
kjohnson2macOS 12.6.1 Monterey / arm64  OK    OK    OK    OK  UNNEEDED, same version is already published
Package 237/538HostnameOS / ArchINSTALLBUILDCHECKBUILD BIN
HiCBricks 1.18.0  (landing page)
Koustav Pal
git_last_commit: b4ffe28
git_last_commit_date: 2023-04-25 11:05:30 -0400
kjohnson2macOS 12.6.1 Monterey / arm64  OK    OK    OK    OK  UNNEEDED, same version is already published
Package 238/538HostnameOS / ArchINSTALLBUILDCHECKBUILD BIN
HiCcompare 1.22.1  (landing page)
Mikhail Dozmorov
git_last_commit: 1376bee
git_last_commit_date: 2023-06-04 07:37:43 -0400
kjohnson2macOS 12.6.1 Monterey / arm64  OK    OK    OK    OK  UNNEEDED, same version is already published
Package 239/538HostnameOS / ArchINSTALLBUILDCHECKBUILD BIN
HiCDCPlus 1.8.0  (landing page)
Merve Sahin
git_last_commit: bfc6528
git_last_commit_date: 2023-04-25 11:26:47 -0400
kjohnson2macOS 12.6.1 Monterey / arm64  OK    OK    OK    OK  UNNEEDED, same version is already published
Package 240/538HostnameOS / ArchINSTALLBUILDCHECKBUILD BIN
HiCDOC 1.2.0  (landing page)
Maigné Élise
git_last_commit: b6ac9d9
git_last_commit_date: 2023-04-25 11:39:04 -0400
kjohnson2macOS 12.6.1 Monterey / arm64  OK    OK    OK    OK  UNNEEDED, same version is already published
Package 241/538HostnameOS / ArchINSTALLBUILDCHECKBUILD BIN
HiCExperiment 1.0.0  (landing page)
Jacques Serizay
git_last_commit: 832e197
git_last_commit_date: 2023-04-25 11:42:38 -0400
kjohnson2macOS 12.6.1 Monterey / arm64  OK    OK    OK    OK  UNNEEDED, same version is already published
Package 242/538HostnameOS / ArchINSTALLBUILDCHECKBUILD BIN
HiContacts 1.2.0  (landing page)
Jacques Serizay
git_last_commit: b522f1d
git_last_commit_date: 2023-04-25 11:40:18 -0400
kjohnson2macOS 12.6.1 Monterey / arm64  OK    OK    OK    OK  UNNEEDED, same version is already published
Package 243/538HostnameOS / ArchINSTALLBUILDCHECKBUILD BIN
HiCool 1.0.0  (landing page)
Jacques Serizay
git_last_commit: 11c964b
git_last_commit_date: 2023-04-25 11:43:17 -0400
kjohnson2macOS 12.6.1 Monterey / arm64  OK    ERROR  skippedskipped
Package 244/538HostnameOS / ArchINSTALLBUILDCHECKBUILD BIN
HilbertCurve 1.30.0  (landing page)
Zuguang Gu
git_last_commit: 0e4056d
git_last_commit_date: 2023-04-25 10:40:41 -0400
kjohnson2macOS 12.6.1 Monterey / arm64  OK    OK    OK    OK  UNNEEDED, same version is already published
Package 245/538HostnameOS / ArchINSTALLBUILDCHECKBUILD BIN
HiLDA 1.14.0  (landing page)
Zhi Yang
git_last_commit: 1e8b9dc
git_last_commit_date: 2023-04-25 11:11:23 -0400
kjohnson2macOS 12.6.1 Monterey / arm64  OK    OK    OK    OK  UNNEEDED, same version is already published
Package 246/538HostnameOS / ArchINSTALLBUILDCHECKBUILD BIN
hiReadsProcessor 1.36.0  (landing page)
Nirav V Malani
git_last_commit: 314f0b8
git_last_commit_date: 2023-04-25 10:34:04 -0400
kjohnson2macOS 12.6.1 Monterey / arm64  OK    OK    OK    OK  UNNEEDED, same version is already published
Package 247/538HostnameOS / ArchINSTALLBUILDCHECKBUILD BIN
HiTC 1.44.0  (landing page)
Nicolas Servant
git_last_commit: 32e63b6
git_last_commit_date: 2023-04-25 10:22:49 -0400
kjohnson2macOS 12.6.1 Monterey / arm64  OK    OK    WARNINGS    OK  UNNEEDED, same version is already published
Package 248/538HostnameOS / ArchINSTALLBUILDCHECKBUILD BIN
hummingbird 1.10.0  (landing page)
Eleni Adam
git_last_commit: 3181b7d
git_last_commit_date: 2023-04-25 11:21:35 -0400
kjohnson2macOS 12.6.1 Monterey / arm64  OK    OK    OK    OK  UNNEEDED, same version is already published
Package 249/538HostnameOS / ArchINSTALLBUILDCHECKBUILD BIN
icetea 1.18.1  (landing page)
Vivek Bhardwaj
git_last_commit: 234416f
git_last_commit_date: 2023-06-27 10:02:59 -0400
kjohnson2macOS 12.6.1 Monterey / arm64  OK    OK    WARNINGS    OK  UNNEEDED, same version is already published
Package 250/538HostnameOS / ArchINSTALLBUILDCHECKBUILD BIN
ideal 1.24.1  (landing page)
Federico Marini
git_last_commit: 82c7e8b
git_last_commit_date: 2023-04-28 17:05:35 -0400
kjohnson2macOS 12.6.1 Monterey / arm64  OK    OK    OK    OK  UNNEEDED, same version is already published
Package 251/538HostnameOS / ArchINSTALLBUILDCHECKBUILD BIN
IdeoViz 1.36.0  (landing page)
Shraddha Pai
git_last_commit: b83dbb6
git_last_commit_date: 2023-04-25 10:35:14 -0400
kjohnson2macOS 12.6.1 Monterey / arm64  OK    OK    ERROR    OK  
Package 252/538HostnameOS / ArchINSTALLBUILDCHECKBUILD BIN
idr2d 1.14.0  (landing page)
Konstantin Krismer
git_last_commit: 9bb309b
git_last_commit_date: 2023-04-25 11:12:16 -0400
kjohnson2macOS 12.6.1 Monterey / arm64  OK    OK    OK    OK  UNNEEDED, same version is already published
Package 253/538HostnameOS / ArchINSTALLBUILDCHECKBUILD BIN
igvR 1.20.0  (landing page)
Paul Shannon
git_last_commit: 274e1a2
git_last_commit_date: 2023-04-25 11:01:27 -0400
kjohnson2macOS 12.6.1 Monterey / arm64  OK    OK    WARNINGS    OK  UNNEEDED, same version is already published
Package 254/538HostnameOS / ArchINSTALLBUILDCHECKBUILD BIN
IMAS 1.24.0  (landing page)
Seonggyun Han
git_last_commit: 2a5c9ed
git_last_commit_date: 2023-04-25 10:53:46 -0400
kjohnson2macOS 12.6.1 Monterey / arm64  OK    OK    OK    OK  UNNEEDED, same version is already published
Package 255/538HostnameOS / ArchINSTALLBUILDCHECKBUILD BIN
InPAS 2.8.0  (landing page)
Jianhong Ou
git_last_commit: 0a681a9
git_last_commit_date: 2023-04-25 10:38:23 -0400
kjohnson2macOS 12.6.1 Monterey / arm64  OK    OK    OK    OK  UNNEEDED, same version is already published
Package 256/538HostnameOS / ArchINSTALLBUILDCHECKBUILD BIN
INSPEcT 1.30.0  (landing page)
Stefano de Pretis
git_last_commit: d98fcb7
git_last_commit_date: 2023-04-25 10:40:18 -0400
kjohnson2macOS 12.6.1 Monterey / arm64  OK    OK    OK    OK  UNNEEDED, same version is already published
Package 257/538HostnameOS / ArchINSTALLBUILDCHECKBUILD BIN
InTAD 1.20.0  (landing page)
Konstantin Okonechnikov
git_last_commit: c031674
git_last_commit_date: 2023-04-25 11:00:59 -0400
kjohnson2macOS 12.6.1 Monterey / arm64  OK    OK    OK    OK  UNNEEDED, same version is already published
Package 258/538HostnameOS / ArchINSTALLBUILDCHECKBUILD BIN
intansv 1.40.0  (landing page)
Wen Yao
git_last_commit: 5d35830
git_last_commit_date: 2023-04-25 10:27:57 -0400
kjohnson2macOS 12.6.1 Monterey / arm64  OK    OK    OK    OK  UNNEEDED, same version is already published
Package 259/538HostnameOS / ArchINSTALLBUILDCHECKBUILD BIN
InteractionSet 1.28.1  (landing page)
Aaron Lun
git_last_commit: 294ab75
git_last_commit_date: 2023-01-27 01:57:11 -0400
kjohnson2macOS 12.6.1 Monterey / arm64  OK    OK    WARNINGS    OK  UNNEEDED, same version is already published
Package 260/538HostnameOS / ArchINSTALLBUILDCHECKBUILD BIN
IntEREst 1.24.0  (landing page)
Ali Oghabian , Mikko Frilander
git_last_commit: 6d87a26
git_last_commit_date: 2023-04-25 10:52:53 -0400
kjohnson2macOS 12.6.1 Monterey / arm64  OK    OK    OK    OK  UNNEEDED, same version is already published
Package 261/538HostnameOS / ArchINSTALLBUILDCHECKBUILD BIN
InterMineR 1.22.0  (landing page)
InterMine Team
git_last_commit: 1773f7a
git_last_commit_date: 2023-04-25 10:56:21 -0400
kjohnson2macOS 12.6.1 Monterey / arm64  OK    OK    WARNINGS    OK  UNNEEDED, same version is already published
Package 262/538HostnameOS / ArchINSTALLBUILDCHECKBUILD BIN
ipdDb 1.18.0  (landing page)
Steffen Klasberg
git_last_commit: de41d05
git_last_commit_date: 2023-04-25 11:02:53 -0400
kjohnson2macOS 12.6.1 Monterey / arm64  OK    OK    OK    OK  UNNEEDED, same version is already published
Package 263/538HostnameOS / ArchINSTALLBUILDCHECKBUILD BIN
IsoformSwitchAnalyzeR 2.0.1  (landing page)
Kristoffer Vitting-Seerup
git_last_commit: c946bb6
git_last_commit_date: 2023-06-27 09:57:00 -0400
kjohnson2macOS 12.6.1 Monterey / arm64  OK    OK    OK    OK  UNNEEDED, same version is already published
Package 264/538HostnameOS / ArchINSTALLBUILDCHECKBUILD BIN
isomiRs 1.28.0  (landing page)
Lorena Pantano
git_last_commit: cd76cdf
git_last_commit_date: 2023-04-25 10:45:46 -0400
kjohnson2macOS 12.6.1 Monterey / arm64  OK    OK    OK    OK  UNNEEDED, same version is already published
Package 265/538HostnameOS / ArchINSTALLBUILDCHECKBUILD BIN
IVAS 2.20.0  (landing page)
Seonggyun Han
git_last_commit: e2f07a5
git_last_commit_date: 2023-04-25 10:37:26 -0400
kjohnson2macOS 12.6.1 Monterey / arm64  OK    OK    WARNINGS    OK  UNNEEDED, same version is already published
Package 266/538HostnameOS / ArchINSTALLBUILDCHECKBUILD BIN
IWTomics 1.24.0  (landing page)
Marzia A Cremona
git_last_commit: 08e8e1a
git_last_commit_date: 2023-04-25 10:51:15 -0400
kjohnson2macOS 12.6.1 Monterey / arm64  OK    OK    WARNINGS    OK  UNNEEDED, same version is already published
Package 267/538HostnameOS / ArchINSTALLBUILDCHECKBUILD BIN
karyoploteR 1.26.0  (landing page)
Bernat Gel
git_last_commit: 473f8eb
git_last_commit_date: 2023-04-25 10:52:09 -0400
kjohnson2macOS 12.6.1 Monterey / arm64  OK    OK    OK    OK  UNNEEDED, same version is already published
Package 268/538HostnameOS / ArchINSTALLBUILDCHECKBUILD BIN
katdetectr 1.2.0  (landing page)
Daan Hazelaar
git_last_commit: c4808c6
git_last_commit_date: 2023-04-25 11:38:44 -0400
kjohnson2macOS 12.6.1 Monterey / arm64  OK    OK    OK    OK  UNNEEDED, same version is already published
Package 269/538HostnameOS / ArchINSTALLBUILDCHECKBUILD BIN
loci2path 1.20.0  (landing page)
Tianlei Xu
git_last_commit: d5a373d
git_last_commit_date: 2023-04-25 10:58:20 -0400
kjohnson2macOS 12.6.1 Monterey / arm64  OK    OK    OK    OK  UNNEEDED, same version is already published
Package 270/538HostnameOS / ArchINSTALLBUILDCHECKBUILD BIN
LOLA 1.30.0  (landing page)
Nathan Sheffield
git_last_commit: 5e1d8ec
git_last_commit_date: 2023-04-25 10:41:21 -0400
kjohnson2macOS 12.6.1 Monterey / arm64  OK    OK    OK    OK  UNNEEDED, same version is already published
Package 271/538HostnameOS / ArchINSTALLBUILDCHECKBUILD BIN
LoomExperiment 1.18.0  (landing page)
Bioconductor Package Maintainer
git_last_commit: 4035664
git_last_commit_date: 2023-04-25 11:06:18 -0400
kjohnson2macOS 12.6.1 Monterey / arm64  OK    OK    OK    OK  UNNEEDED, same version is already published
Package 272/538HostnameOS / ArchINSTALLBUILDCHECKBUILD BIN
lumi 2.52.0  (landing page)
Lei Huang
git_last_commit: c6aa992
git_last_commit_date: 2023-04-25 09:44:43 -0400
kjohnson2macOS 12.6.1 Monterey / arm64  OK    OK    WARNINGS    OK  UNNEEDED, same version is already published
Package 273/538HostnameOS / ArchINSTALLBUILDCHECKBUILD BIN
m6Aboost 1.6.0  (landing page)
You Zhou
git_last_commit: 38ae029
git_last_commit_date: 2023-04-25 11:30:47 -0400
kjohnson2macOS 12.6.1 Monterey / arm64  OK    OK    OK    OK  UNNEEDED, same version is already published
Package 274/538HostnameOS / ArchINSTALLBUILDCHECKBUILD BIN
MADSEQ 1.26.0  (landing page)
Yu Kong
git_last_commit: 8105206
git_last_commit_date: 2023-04-25 10:47:27 -0400
kjohnson2macOS 12.6.1 Monterey / arm64  OK    OK    OK    OK  UNNEEDED, same version is already published
Package 275/538HostnameOS / ArchINSTALLBUILDCHECKBUILD BIN
magpie 1.0.0  (landing page)
Daoyu Duan
git_last_commit: 6a69484
git_last_commit_date: 2023-04-25 11:43:24 -0400
kjohnson2macOS 12.6.1 Monterey / arm64  OK    OK    OK    OK  UNNEEDED, same version is already published
Package 276/538HostnameOS / ArchINSTALLBUILDCHECKBUILD BIN
mariner 1.0.0  (landing page)
Eric Davis
git_last_commit: 7f2a96d
git_last_commit_date: 2023-04-25 11:44:49 -0400
kjohnson2macOS 12.6.1 Monterey / arm64  OK    OK    OK    OK  UNNEEDED, same version is already published
Package 277/538HostnameOS / ArchINSTALLBUILDCHECKBUILD BIN
maser 1.18.0  (landing page)
Diogo F.T. Veiga
git_last_commit: 32d84cc
git_last_commit_date: 2023-04-25 11:02:11 -0400
kjohnson2macOS 12.6.1 Monterey / arm64  OK    OK    OK    OK  UNNEEDED, same version is already published
Package 278/538HostnameOS / ArchINSTALLBUILDCHECKBUILD BIN
MBASED 1.34.0  (landing page)
Oleg Mayba
git_last_commit: a8cbff2
git_last_commit_date: 2023-04-25 10:34:07 -0400
kjohnson2macOS 12.6.1 Monterey / arm64  OK    OK    OK    OK  UNNEEDED, same version is already published
Package 279/538HostnameOS / ArchINSTALLBUILDCHECKBUILD BIN
mCSEA 1.20.0  (landing page)
Jordi Martorell-Marugán
git_last_commit: 3e18b13
git_last_commit_date: 2023-04-25 10:58:54 -0400
kjohnson2macOS 12.6.1 Monterey / arm64  OK    OK    OK    OK  UNNEEDED, same version is already published
Package 280/538HostnameOS / ArchINSTALLBUILDCHECKBUILD BIN
MDTS 1.20.0  (landing page)
Jack M.. Fu
git_last_commit: 61a202d
git_last_commit_date: 2023-04-25 10:59:51 -0400
kjohnson2macOS 12.6.1 Monterey / arm64  OK    OK    OK    OK  UNNEEDED, same version is already published
Package 281/538HostnameOS / ArchINSTALLBUILDCHECKBUILD BIN
MEAL 1.30.0  (landing page)
Xavier Escribà Montagut
git_last_commit: 86a897e
git_last_commit_date: 2023-04-25 10:41:57 -0400
kjohnson2macOS 12.6.1 Monterey / arm64  OK    OK    WARNINGS    OK  UNNEEDED, same version is already published
Package 282/538HostnameOS / ArchINSTALLBUILDCHECKBUILD BIN
MEDIPS 1.52.0  (landing page)
Lukas Chavez
git_last_commit: 435df87
git_last_commit_date: 2023-04-25 10:18:20 -0400
kjohnson2macOS 12.6.1 Monterey / arm64  OK    OK    OK    OK  UNNEEDED, same version is already published
Package 283/538HostnameOS / ArchINSTALLBUILDCHECKBUILD BIN
megadepth 1.10.0  (landing page)
David Zhang
git_last_commit: b79de0c
git_last_commit_date: 2023-05-06 21:54:52 -0400
kjohnson2macOS 12.6.1 Monterey / arm64  OK    ERROR  skippedskipped
Package 284/538HostnameOS / ArchINSTALLBUILDCHECKBUILD BIN
Melissa 1.16.0  (landing page)
C. A. Kapourani
git_last_commit: c581869
git_last_commit_date: 2023-04-25 11:07:39 -0400
kjohnson2macOS 12.6.1 Monterey / arm64  OK    OK    OK    OK  UNNEEDED, same version is already published
Package 285/538HostnameOS / ArchINSTALLBUILDCHECKBUILD BIN
memes 1.8.0  (landing page)
Spencer Nystrom
git_last_commit: d19360d
git_last_commit_date: 2023-04-25 11:27:46 -0400
kjohnson2macOS 12.6.1 Monterey / arm64  OK    OK    WARNINGS    OK  UNNEEDED, same version is already published
Package 286/538HostnameOS / ArchINSTALLBUILDCHECKBUILD BIN
metagene 2.32.0  (landing page)
Charles Joly Beauparlant
git_last_commit: db86b4a
git_last_commit_date: 2023-04-25 10:33:38 -0400
kjohnson2macOS 12.6.1 Monterey / arm64  OK    OK    ERROR    OK  
Package 287/538HostnameOS / ArchINSTALLBUILDCHECKBUILD BIN
metagene2 1.16.0  (landing page)
Eric Fournier
git_last_commit: f0a5b2c
git_last_commit_date: 2023-04-25 11:10:10 -0400
kjohnson2macOS 12.6.1 Monterey / arm64  OK    OK    WARNINGS    OK  UNNEEDED, same version is already published
Package 288/538HostnameOS / ArchINSTALLBUILDCHECKBUILD BIN
metaseqR2 1.12.0  (landing page)
Panagiotis Moulos
git_last_commit: c37a5a4
git_last_commit_date: 2023-04-25 11:18:06 -0400
kjohnson2macOS 12.6.1 Monterey / arm64  OK    OK    OK    OK  NO, package depends on 'baySeq' which is not available
Package 289/538HostnameOS / ArchINSTALLBUILDCHECKBUILD BIN
MethCP 1.14.0  (landing page)
Boying Gong
git_last_commit: 01b8f0e
git_last_commit_date: 2023-04-25 11:13:32 -0400
kjohnson2macOS 12.6.1 Monterey / arm64  OK    OK    ERROR    OK  
Package 290/538HostnameOS / ArchINSTALLBUILDCHECKBUILD BIN
methimpute 1.22.0  (landing page)
Aaron Taudt
git_last_commit: 3c51a55
git_last_commit_date: 2023-04-25 10:57:06 -0400
kjohnson2macOS 12.6.1 Monterey / arm64  OK    OK    OK    OK  UNNEEDED, same version is already published
Package 291/538HostnameOS / ArchINSTALLBUILDCHECKBUILD BIN
methInheritSim 1.22.0  (landing page)
Pascal Belleau
git_last_commit: 648dc09
git_last_commit_date: 2023-04-25 10:54:30 -0400
kjohnson2macOS 12.6.1 Monterey / arm64  OK    OK    OK    OK  UNNEEDED, same version is already published
Package 292/538HostnameOS / ArchINSTALLBUILDCHECKBUILD BIN
MethReg 1.10.2  (landing page)
Tiago Silva
git_last_commit: 21c4a4d
git_last_commit_date: 2023-07-24 12:45:17 -0400
kjohnson2macOS 12.6.1 Monterey / arm64  OK    OK    WARNINGS    OK  UNNEEDED, same version is already published
Package 293/538HostnameOS / ArchINSTALLBUILDCHECKBUILD BIN
methrix 1.14.0  (landing page)
Anand Mayakonda
git_last_commit: 7e3f893
git_last_commit_date: 2023-04-25 11:13:54 -0400
kjohnson2macOS 12.6.1 Monterey / arm64  OK    OK    OK    OK  UNNEEDED, same version is already published
Package 294/538HostnameOS / ArchINSTALLBUILDCHECKBUILD BIN
methylCC 1.14.0  (landing page)
Stephanie C. Hicks
git_last_commit: 48b8a64
git_last_commit_date: 2023-04-25 11:12:54 -0400
kjohnson2macOS 12.6.1 Monterey / arm64  OK    OK    OK    OK  UNNEEDED, same version is already published
Package 295/538HostnameOS / ArchINSTALLBUILDCHECKBUILD BIN
methylInheritance 1.24.0  (landing page)
Astrid Deschênes
git_last_commit: 4c831cb
git_last_commit_date: 2023-04-25 10:53:51 -0400
kjohnson2macOS 12.6.1 Monterey / arm64  OK    OK    OK    OK  UNNEEDED, same version is already published
Package 296/538HostnameOS / ArchINSTALLBUILDCHECKBUILD BIN
methylKit 1.26.0  (landing page)
Altuna Akalin , Alexander Gosdschan
git_last_commit: a15614f
git_last_commit_date: 2023-04-25 10:48:14 -0400
kjohnson2macOS 12.6.1 Monterey / arm64  OK    OK    WARNINGS    OK  UNNEEDED, same version is already published
Package 297/538HostnameOS / ArchINSTALLBUILDCHECKBUILD BIN
methylPipe 1.34.1  (landing page)
Mattia Furlan
git_last_commit: 3fd2516
git_last_commit_date: 2023-06-12 08:15:24 -0400
kjohnson2macOS 12.6.1 Monterey / arm64  OK    OK    ERROR    OK  
Package 298/538HostnameOS / ArchINSTALLBUILDCHECKBUILD BIN
MethylSeekR 1.40.0  (landing page)
Lukas Burger
git_last_commit: 5f85a72
git_last_commit_date: 2023-04-25 10:25:35 -0400
kjohnson2macOS 12.6.1 Monterey / arm64  OK    OK    ERROR    OK  
Package 299/538HostnameOS / ArchINSTALLBUILDCHECKBUILD BIN
methylSig 1.12.0  (landing page)
Raymond G. Cavalcante
git_last_commit: a0ea71f
git_last_commit_date: 2023-04-25 11:17:38 -0400
kjohnson2macOS 12.6.1 Monterey / arm64  OK    OK    OK    OK  UNNEEDED, same version is already published
Package 300/538HostnameOS / ArchINSTALLBUILDCHECKBUILD BIN
methylumi 2.46.0  (landing page)
Sean Davis
git_last_commit: eb09e65
git_last_commit_date: 2023-04-25 09:48:47 -0400
kjohnson2macOS 12.6.1 Monterey / arm64  OK    OK    OK    OK  UNNEEDED, same version is already published
Package 301/538HostnameOS / ArchINSTALLBUILDCHECKBUILD BIN
minfi 1.46.0  (landing page)
Kasper Daniel Hansen
git_last_commit: 1d06317
git_last_commit_date: 2023-04-25 10:21:20 -0400
kjohnson2macOS 12.6.1 Monterey / arm64  OK    OK    OK    OK  UNNEEDED, same version is already published
Package 302/538HostnameOS / ArchINSTALLBUILDCHECKBUILD BIN
MinimumDistance 1.44.0  (landing page)
Robert Scharpf
git_last_commit: c329604
git_last_commit_date: 2023-04-25 10:22:56 -0400
kjohnson2macOS 12.6.1 Monterey / arm64  OK    OK    WARNINGS    OK  UNNEEDED, same version is already published
Package 303/538HostnameOS / ArchINSTALLBUILDCHECKBUILD BIN
MIRA 1.22.0  (landing page)
John Lawson
git_last_commit: 405695d
git_last_commit_date: 2023-04-25 10:56:59 -0400
kjohnson2macOS 12.6.1 Monterey / arm64  OK    OK    OK    OK  UNNEEDED, same version is already published
Package 304/538HostnameOS / ArchINSTALLBUILDCHECKBUILD BIN
missMethyl 1.34.0  (landing page)
Belinda Phipson
git_last_commit: 57db57c
git_last_commit_date: 2023-04-25 10:33:22 -0400
kjohnson2macOS 12.6.1 Monterey / arm64  OK    OK    OK    OK  UNNEEDED, same version is already published
Package 305/538HostnameOS / ArchINSTALLBUILDCHECKBUILD BIN
mitoClone2 1.6.0  (landing page)
Benjamin Story
git_last_commit: add7e6c
git_last_commit_date: 2023-04-25 11:31:33 -0400
kjohnson2macOS 12.6.1 Monterey / arm64  ERROR    ERROR  skippedskipped
Package 306/538HostnameOS / ArchINSTALLBUILDCHECKBUILD BIN
MMAPPR2 1.14.0  (landing page)
Jonathon Hill
git_last_commit: d534509
git_last_commit_date: 2023-04-25 11:10:54 -0400
kjohnson2macOS 12.6.1 Monterey / arm64  ERROR    ERROR  skippedskipped
Package 307/538HostnameOS / ArchINSTALLBUILDCHECKBUILD BIN
MMDiff2 1.28.0  (landing page)
Gabriele Schweikert
git_last_commit: c860c9b
git_last_commit_date: 2023-04-25 10:46:55 -0400
kjohnson2macOS 12.6.1 Monterey / arm64  OK    OK    OK    OK  UNNEEDED, same version is already published
Package 308/538HostnameOS / ArchINSTALLBUILDCHECKBUILD BIN
Modstrings 1.16.0  (landing page)
Felix G.M. Ernst
git_last_commit: c11469e
git_last_commit_date: 2023-04-25 11:08:24 -0400
kjohnson2macOS 12.6.1 Monterey / arm64  OK    OK    OK    OK  UNNEEDED, same version is already published
Package 309/538HostnameOS / ArchINSTALLBUILDCHECKBUILD BIN
monaLisa 1.6.0  (landing page)
Michael Stadler
git_last_commit: 2245db2
git_last_commit_date: 2023-04-25 11:33:05 -0400
kjohnson2macOS 12.6.1 Monterey / arm64  OK    OK    ERROR    OK  
Package 310/538HostnameOS / ArchINSTALLBUILDCHECKBUILD BIN
mosaics 2.38.0  (landing page)
Dongjun Chung
git_last_commit: df7626d
git_last_commit_date: 2023-04-25 10:18:47 -0400
kjohnson2macOS 12.6.1 Monterey / arm64  OK    OK    OK    OK  UNNEEDED, same version is already published
Package 311/538HostnameOS / ArchINSTALLBUILDCHECKBUILD BIN
Motif2Site 1.4.0  (landing page)
Peyman Zarrineh
git_last_commit: 6d3a455
git_last_commit_date: 2023-04-25 11:36:00 -0400
kjohnson2macOS 12.6.1 Monterey / arm64  OK    OK    OK    OK  UNNEEDED, same version is already published
Package 312/538HostnameOS / ArchINSTALLBUILDCHECKBUILD BIN
motifbreakR 2.14.2  (landing page)
Simon Gert Coetzee
git_last_commit: e5de5ba
git_last_commit_date: 2023-07-05 17:47:26 -0400
kjohnson2macOS 12.6.1 Monterey / arm64  OK    OK    WARNINGS    OK  UNNEEDED, same version is already published
Package 313/538HostnameOS / ArchINSTALLBUILDCHECKBUILD BIN
MotifDb 1.42.0  (landing page)
Paul Shannon
git_last_commit: 1b9f24c
git_last_commit_date: 2023-04-25 10:23:46 -0400
kjohnson2macOS 12.6.1 Monterey / arm64  OK    OK    WARNINGS    OK  UNNEEDED, same version is already published
Package 314/538HostnameOS / ArchINSTALLBUILDCHECKBUILD BIN
motifmatchr 1.22.0  (landing page)
Alicia Schep
git_last_commit: e765b1d
git_last_commit_date: 2023-04-25 10:54:35 -0400
kjohnson2macOS 12.6.1 Monterey / arm64  OK    OK    OK    OK  UNNEEDED, same version is already published
Package 315/538HostnameOS / ArchINSTALLBUILDCHECKBUILD BIN
MouseFM 1.10.0  (landing page)
Matthias Munz
git_last_commit: a8fb2bf
git_last_commit_date: 2023-04-25 11:34:54 -0400
kjohnson2macOS 12.6.1 Monterey / arm64  OK    OK    OK    OK  UNNEEDED, same version is already published
Package 316/538HostnameOS / ArchINSTALLBUILDCHECKBUILD BIN
MSA2dist 1.4.0  (landing page)
Kristian K Ullrich
git_last_commit: 1f16259
git_last_commit_date: 2023-04-25 11:35:33 -0400
kjohnson2macOS 12.6.1 Monterey / arm64  OK    OK    OK    OK  UNNEEDED, same version is already published
Package 317/538HostnameOS / ArchINSTALLBUILDCHECKBUILD BIN
msgbsR 1.24.0  (landing page)
Benjamin Mayne
git_last_commit: c8508d3
git_last_commit_date: 2023-04-25 10:54:20 -0400
kjohnson2macOS 12.6.1 Monterey / arm64  OK    OK    OK    OK  UNNEEDED, same version is already published
Package 318/538HostnameOS / ArchINSTALLBUILDCHECKBUILD BIN
MultiAssayExperiment 1.26.0  (landing page)
Marcel Ramos
git_last_commit: 4fa272a
git_last_commit_date: 2023-04-25 10:45:43 -0400
kjohnson2macOS 12.6.1 Monterey / arm64  OK    OK    OK    OK  UNNEEDED, same version is already published
Package 319/538HostnameOS / ArchINSTALLBUILDCHECKBUILD BIN
multicrispr 1.10.1  (landing page)
Aditya Bhagwat
git_last_commit: 192e6ab
git_last_commit_date: 2023-05-17 05:44:54 -0400
kjohnson2macOS 12.6.1 Monterey / arm64  OK    OK    OK    OK  UNNEEDED, same version is already published
Package 320/538HostnameOS / ArchINSTALLBUILDCHECKBUILD BIN
MultiDataSet 1.28.0  (landing page)
Xavier Escribà Montagut
git_last_commit: d677ed3
git_last_commit_date: 2023-04-25 10:46:40 -0400
kjohnson2macOS 12.6.1 Monterey / arm64  OK    OK    WARNINGS    OK  UNNEEDED, same version is already published
Package 321/538HostnameOS / ArchINSTALLBUILDCHECKBUILD BIN
multiHiCcompare 1.18.1  (landing page)
Mikhail Dozmorov
git_last_commit: b295eb4
git_last_commit_date: 2023-07-01 21:55:38 -0400
kjohnson2macOS 12.6.1 Monterey / arm64  OK    OK    OK    OK  UNNEEDED, same version is already published
Package 322/538HostnameOS / ArchINSTALLBUILDCHECKBUILD BIN
MungeSumstats 1.8.0  (landing page)
Alan Murphy
git_last_commit: 0c974c2
git_last_commit_date: 2023-04-25 11:28:40 -0400
kjohnson2macOS 12.6.1 Monterey / arm64  OK    OK    ERROR    OK  
Package 323/538HostnameOS / ArchINSTALLBUILDCHECKBUILD BIN
musicatk 1.10.0  (landing page)
Aaron Chevalier
git_last_commit: 8e47184
git_last_commit_date: 2023-04-25 11:24:11 -0400
kjohnson2macOS 12.6.1 Monterey / arm64  OK    OK    OK    OK  UNNEEDED, same version is already published
Package 324/538HostnameOS / ArchINSTALLBUILDCHECKBUILD BIN
MutationalPatterns 3.10.0  (landing page)
Mark van Roosmalen
git_last_commit: 1ee8048
git_last_commit_date: 2023-04-25 10:50:27 -0400
kjohnson2macOS 12.6.1 Monterey / arm64  OK    ERROR  skippedskipped
Package 325/538HostnameOS / ArchINSTALLBUILDCHECKBUILD BIN
NADfinder 1.24.0  (landing page)
Jianhong Ou
git_last_commit: eb65d7f
git_last_commit_date: 2023-04-25 10:53:25 -0400
kjohnson2macOS 12.6.1 Monterey / arm64  OK    OK    OK    OK  UNNEEDED, same version is already published
Package 326/538HostnameOS / ArchINSTALLBUILDCHECKBUILD BIN
NanoMethViz 2.6.0  (landing page)
Shian Su
git_last_commit: 6c72058
git_last_commit_date: 2023-04-25 11:24:26 -0400
kjohnson2macOS 12.6.1 Monterey / arm64  OK    OK    OK    OK  UNNEEDED, same version is already published
Package 327/538HostnameOS / ArchINSTALLBUILDCHECKBUILD BIN
nanotatoR 1.16.0  (landing page)
Surajit Bhattacharya
git_last_commit: 3b06cd8
git_last_commit_date: 2023-04-25 11:10:03 -0400
kjohnson2macOS 12.6.1 Monterey / arm64  OK    OK    OK    OK  UNNEEDED, same version is already published
Package 328/538HostnameOS / ArchINSTALLBUILDCHECKBUILD BIN
ncRNAtools 1.10.0  (landing page)
Lara Selles Vidal
git_last_commit: 84f0904
git_last_commit_date: 2023-04-25 11:22:33 -0400
kjohnson2macOS 12.6.1 Monterey / arm64  OK    OK    OK    OK  UNNEEDED, same version is already published
Package 329/538HostnameOS / ArchINSTALLBUILDCHECKBUILD BIN
nearBynding 1.10.0  (landing page)
Veronica Busa
git_last_commit: 6367769
git_last_commit_date: 2023-04-25 11:22:45 -0400
kjohnson2macOS 12.6.1 Monterey / arm64  OK    OK    OK    OK  UNNEEDED, same version is already published
Package 330/538HostnameOS / ArchINSTALLBUILDCHECKBUILD BIN
netDx 1.12.0  (landing page)
Shraddha Pai
git_last_commit: a2c338f
git_last_commit_date: 2023-04-25 11:15:11 -0400
kjohnson2macOS 12.6.1 Monterey / arm64  OK    OK    ERROR    OK  
Package 331/538HostnameOS / ArchINSTALLBUILDCHECKBUILD BIN
NoRCE 1.12.0  (landing page)
Gulden Olgun
git_last_commit: 8432e2f
git_last_commit_date: 2023-04-25 11:16:17 -0400
kjohnson2macOS 12.6.1 Monterey / arm64  OK    OK    OK    OK  UNNEEDED, same version is already published
Package 332/538HostnameOS / ArchINSTALLBUILDCHECKBUILD BIN
normr 1.26.0  (landing page)
Johannes Helmuth
git_last_commit: 0063e5c
git_last_commit_date: 2023-04-25 10:47:47 -0400
kjohnson2macOS 12.6.1 Monterey / arm64  OK    OK    WARNINGS    OK  UNNEEDED, same version is already published
Package 333/538HostnameOS / ArchINSTALLBUILDCHECKBUILD BIN
nucleR 2.32.0  (landing page)
Alba Sala
git_last_commit: fbbd6e9
git_last_commit_date: 2023-04-25 10:20:23 -0400
kjohnson2macOS 12.6.1 Monterey / arm64  OK    OK    WARNINGS    OK  UNNEEDED, same version is already published
Package 334/538HostnameOS / ArchINSTALLBUILDCHECKBUILD BIN
nullranges 1.6.2  (landing page)
Michael Love
git_last_commit: 111e34f
git_last_commit_date: 2023-06-02 11:35:03 -0400
kjohnson2macOS 12.6.1 Monterey / arm64  OK    OK    OK    OK  UNNEEDED, same version is already published
Package 335/538HostnameOS / ArchINSTALLBUILDCHECKBUILD BIN
NxtIRFcore 1.6.0  (landing page)
Alex Chit Hei Wong
git_last_commit: 2829efa
git_last_commit_date: 2023-04-25 11:34:18 -0400
kjohnson2macOS 12.6.1 Monterey / arm64  OK    OK    WARNINGS    OK  UNNEEDED, same version is already published
Package 336/538HostnameOS / ArchINSTALLBUILDCHECKBUILD BIN
ODER 1.6.0  (landing page)
David Zhang
git_last_commit: bba2c50
git_last_commit_date: 2023-04-25 11:33:24 -0400
kjohnson2macOS 12.6.1 Monterey / arm64  OK    ERROR  skippedskipped
Package 337/538HostnameOS / ArchINSTALLBUILDCHECKBUILD BIN
OGRE 1.4.0  (landing page)
Sven Berres
git_last_commit: 4f0404e
git_last_commit_date: 2023-04-25 11:35:27 -0400
kjohnson2macOS 12.6.1 Monterey / arm64  OK    OK    ERROR    OK  
Package 338/538HostnameOS / ArchINSTALLBUILDCHECKBUILD BIN
oligoClasses 1.62.0  (landing page)
Benilton Carvalho and Robert Scharpf
git_last_commit: 2de6126
git_last_commit_date: 2023-04-25 09:45:53 -0400
kjohnson2macOS 12.6.1 Monterey / arm64  OK    OK    WARNINGS    OK  UNNEEDED, same version is already published
Package 339/538HostnameOS / ArchINSTALLBUILDCHECKBUILD BIN
OmaDB 2.16.0  (landing page)
Klara Kaleb , Adrian Altenhoff
git_last_commit: 660c372
git_last_commit_date: 2023-04-25 10:58:18 -0400
kjohnson2macOS 12.6.1 Monterey / arm64  OK    OK    OK    OK  UNNEEDED, same version is already published
Package 340/538HostnameOS / ArchINSTALLBUILDCHECKBUILD BIN
OmicCircos 1.38.0  (landing page)
Ying Hu
git_last_commit: 33c77c5
git_last_commit_date: 2023-04-25 10:27:45 -0400
kjohnson2macOS 12.6.1 Monterey / arm64  OK    OK    WARNINGS    OK  UNNEEDED, same version is already published
Package 341/538HostnameOS / ArchINSTALLBUILDCHECKBUILD BIN
oncoscanR 1.2.0  (landing page)
Yann Christinat
git_last_commit: 0149dc8
git_last_commit_date: 2023-04-25 11:39:29 -0400
kjohnson2macOS 12.6.1 Monterey / arm64  OK    OK    OK    OK  UNNEEDED, same version is already published
Package 342/538HostnameOS / ArchINSTALLBUILDCHECKBUILD BIN
openPrimeR 1.22.0  (landing page)
Matthias Döring
git_last_commit: eb3763b
git_last_commit_date: 2023-04-25 10:56:32 -0400
kjohnson2macOS 12.6.1 Monterey / arm64  OK    OK    OK    OK  UNNEEDED, same version is already published
Package 343/538HostnameOS / ArchINSTALLBUILDCHECKBUILD BIN
ORFik 1.20.2  (landing page)
Haakon Tjeldnes
git_last_commit: 2536088
git_last_commit_date: 2023-08-09 05:14:15 -0400
kjohnson2macOS 12.6.1 Monterey / arm64  OK    OK    OK    OK  UNNEEDED, same version is already published
Package 344/538HostnameOS / ArchINSTALLBUILDCHECKBUILD BIN
Organism.dplyr 1.28.0  (landing page)
Martin Morgan
git_last_commit: dc941a7
git_last_commit_date: 2023-04-25 10:52:39 -0400
kjohnson2macOS 12.6.1 Monterey / arm64  OK    OK    OK    OK  UNNEEDED, same version is already published
Package 345/538HostnameOS / ArchINSTALLBUILDCHECKBUILD BIN
OrganismDbi 1.42.0  (landing page)
Bioconductor Package Maintainer
git_last_commit: 29fcd5c
git_last_commit_date: 2023-04-25 10:23:59 -0400
kjohnson2macOS 12.6.1 Monterey / arm64  OK    OK    WARNINGS    OK  UNNEEDED, same version is already published
Package 346/538HostnameOS / ArchINSTALLBUILDCHECKBUILD BIN
OUTRIDER 1.18.1  (landing page)
Christian Mertes
git_last_commit: 56d52a3
git_last_commit_date: 2023-05-01 20:07:43 -0400
kjohnson2macOS 12.6.1 Monterey / arm64  OK    OK    OK    OK  UNNEEDED, same version is already published
Package 347/538HostnameOS / ArchINSTALLBUILDCHECKBUILD BIN
OutSplice 1.0.1  (landing page)
Theresa Guo
git_last_commit: 432912b
git_last_commit_date: 2023-07-13 18:28:28 -0400
kjohnson2macOS 12.6.1 Monterey / arm64  OK    OK    OK    OK  UNNEEDED, same version is already published
Package 348/538HostnameOS / ArchINSTALLBUILDCHECKBUILD BIN
packFinder 1.12.0  (landing page)
Jack Gisby
git_last_commit: 7a703ed
git_last_commit_date: 2023-04-25 11:14:51 -0400
kjohnson2macOS 12.6.1 Monterey / arm64  OK    OK    OK    OK  UNNEEDED, same version is already published
Package 349/538HostnameOS / ArchINSTALLBUILDCHECKBUILD BIN
pageRank 1.10.0  (landing page)
Hongxu Ding
git_last_commit: 84604a3
git_last_commit_date: 2023-04-25 11:22:52 -0400
kjohnson2macOS 12.6.1 Monterey / arm64  OK    OK    OK    OK  UNNEEDED, same version is already published
Package 350/538HostnameOS / ArchINSTALLBUILDCHECKBUILD BIN
panelcn.mops 1.22.0  (landing page)
Gundula Povysil
git_last_commit: df2ce2b
git_last_commit_date: 2023-04-25 10:56:44 -0400
kjohnson2macOS 12.6.1 Monterey / arm64  OK    OK    OK    OK  UNNEEDED, same version is already published
Package 351/538HostnameOS / ArchINSTALLBUILDCHECKBUILD BIN
PAST 1.16.0  (landing page)
Thrash Adam
git_last_commit: c43bb98
git_last_commit_date: 2023-04-25 11:10:31 -0400
kjohnson2macOS 12.6.1 Monterey / arm64  OK    OK    WARNINGS    OK  UNNEEDED, same version is already published
Package 352/538HostnameOS / ArchINSTALLBUILDCHECKBUILD BIN
pcaExplorer 2.26.1  (landing page)
Federico Marini
git_last_commit: 2fced96
git_last_commit_date: 2023-04-28 17:04:12 -0400
kjohnson2macOS 12.6.1 Monterey / arm64  OK    OK    OK    OK  UNNEEDED, same version is already published
Package 353/538HostnameOS / ArchINSTALLBUILDCHECKBUILD BIN
pepStat 1.34.0  (landing page)
Gregory C Imholte
git_last_commit: b4acb1b
git_last_commit_date: 2023-04-25 10:32:57 -0400
kjohnson2macOS 12.6.1 Monterey / arm64  OK    OK    OK    OK  UNNEEDED, same version is already published
Package 354/538HostnameOS / ArchINSTALLBUILDCHECKBUILD BIN
periodicDNA 1.10.0  (landing page)
Jacques Serizay
git_last_commit: 92ca5f6
git_last_commit_date: 2023-04-25 11:22:25 -0400
kjohnson2macOS 12.6.1 Monterey / arm64  OK    OK    WARNINGS    OK  UNNEEDED, same version is already published
Package 355/538HostnameOS / ArchINSTALLBUILDCHECKBUILD BIN
PhIPData 1.8.0  (landing page)
Athena Chen
git_last_commit: a9ab936
git_last_commit_date: 2023-04-25 11:27:16 -0400
kjohnson2macOS 12.6.1 Monterey / arm64  OK    OK    OK    OK  UNNEEDED, same version is already published
Package 356/538HostnameOS / ArchINSTALLBUILDCHECKBUILD BIN
Pi 2.12.0  (landing page)
Hai Fang
git_last_commit: e800362
git_last_commit_date: 2023-04-25 10:49:44 -0400
kjohnson2macOS 12.6.1 Monterey / arm64  OK    OK    WARNINGS    OK  UNNEEDED, same version is already published
Package 357/538HostnameOS / ArchINSTALLBUILDCHECKBUILD BIN
PICS 2.44.0  (landing page)
Renan Sauteraud
git_last_commit: b6a12cc
git_last_commit_date: 2023-04-25 09:50:48 -0400
kjohnson2macOS 12.6.1 Monterey / arm64  OK    OK    OK    OK  UNNEEDED, same version is already published
Package 358/538HostnameOS / ArchINSTALLBUILDCHECKBUILD BIN
PING 2.44.0  (landing page)
Renan Sauteraud
git_last_commit: d9de980
git_last_commit_date: 2023-04-25 10:22:26 -0400
kjohnson2macOS 12.6.1 Monterey / arm64  OK    OK    WARNINGS    OK  UNNEEDED, same version is already published
Package 359/538HostnameOS / ArchINSTALLBUILDCHECKBUILD BIN
plyranges 1.20.0  (landing page)
Stuart Lee
git_last_commit: dd4c068
git_last_commit_date: 2023-04-25 11:00:35 -0400
kjohnson2macOS 12.6.1 Monterey / arm64  OK    OK    ERROR    OK  
Package 360/538HostnameOS / ArchINSTALLBUILDCHECKBUILD BIN
podkat 1.32.0  (landing page)
Ulrich Bodenhofer
git_last_commit: 68a149b
git_last_commit_date: 2023-04-25 10:38:38 -0400
kjohnson2macOS 12.6.1 Monterey / arm64  OK    OK    WARNINGS    OK  UNNEEDED, same version is already published
Package 361/538HostnameOS / ArchINSTALLBUILDCHECKBUILD BIN
pqsfinder 2.16.0  (landing page)
Jiri Hon
git_last_commit: a798b81
git_last_commit_date: 2023-04-25 10:46:21 -0400
kjohnson2macOS 12.6.1 Monterey / arm64  OK    OK    WARNINGS    OK  UNNEEDED, same version is already published
Package 362/538HostnameOS / ArchINSTALLBUILDCHECKBUILD BIN
pram 1.16.0  (landing page)
Peng Liu
git_last_commit: b641349
git_last_commit_date: 2023-04-25 11:08:29 -0400
kjohnson2macOS 12.6.1 Monterey / arm64  OK    OK    OK    OK  UNNEEDED, same version is already published
Package 363/538HostnameOS / ArchINSTALLBUILDCHECKBUILD BIN
prebs 1.40.0  (landing page)
Karolis Uziela
git_last_commit: 1f139cc
git_last_commit_date: 2023-04-25 10:26:54 -0400
kjohnson2macOS 12.6.1 Monterey / arm64  OK    OK    OK    OK  UNNEEDED, same version is already published
Package 364/538HostnameOS / ArchINSTALLBUILDCHECKBUILD BIN
preciseTAD 1.10.0  (landing page)
Mikhail Dozmorov
git_last_commit: b9ffa42
git_last_commit_date: 2023-04-25 11:22:47 -0400
kjohnson2macOS 12.6.1 Monterey / arm64  OK    OK    OK    OK  UNNEEDED, same version is already published
Package 365/538HostnameOS / ArchINSTALLBUILDCHECKBUILD BIN
PrecisionTrialDrawer 1.16.0  (landing page)
Giorgio Melloni
git_last_commit: c38b8db
git_last_commit_date: 2023-04-25 11:06:37 -0400
kjohnson2macOS 12.6.1 Monterey / arm64  OK    ERROR  skippedskipped
Package 366/538HostnameOS / ArchINSTALLBUILDCHECKBUILD BIN
primirTSS 1.18.0  (landing page)
Pumin Li
git_last_commit: 6d7b700
git_last_commit_date: 2023-04-25 11:04:12 -0400
kjohnson2macOS 12.6.1 Monterey / arm64  OK    OK    WARNINGS    OK  UNNEEDED, same version is already published
Package 367/538HostnameOS / ArchINSTALLBUILDCHECKBUILD BIN
proActiv 1.10.0  (landing page)
Joseph Lee
git_last_commit: da3d324
git_last_commit_date: 2023-04-25 11:22:38 -0400
kjohnson2macOS 12.6.1 Monterey / arm64  OK    OK    OK    OK  UNNEEDED, same version is already published
Package 368/538HostnameOS / ArchINSTALLBUILDCHECKBUILD BIN
proBAMr 1.34.0  (landing page)
Xiaojing Wang
git_last_commit: 60bf197
git_last_commit_date: 2023-04-25 10:35:18 -0400
kjohnson2macOS 12.6.1 Monterey / arm64  OK    OK    OK    OK  UNNEEDED, same version is already published
Package 369/538HostnameOS / ArchINSTALLBUILDCHECKBUILD BIN
profileplyr 1.16.0  (landing page)
Tom Carroll , Doug Barrows
git_last_commit: ec48684
git_last_commit_date: 2023-04-25 11:09:25 -0400
kjohnson2macOS 12.6.1 Monterey / arm64  OK    OK    OK    OK  UNNEEDED, same version is already published
Package 370/538HostnameOS / ArchINSTALLBUILDCHECKBUILD BIN
ProteoDisco 1.6.0  (landing page)
Job van Riet
git_last_commit: ad361e5
git_last_commit_date: 2023-04-25 11:32:23 -0400
kjohnson2macOS 12.6.1 Monterey / arm64  OK    OK    WARNINGS    OK  UNNEEDED, same version is already published
Package 371/538HostnameOS / ArchINSTALLBUILDCHECKBUILD BIN
PureCN 2.6.4  (landing page)
Markus Riester
git_last_commit: efeb6db
git_last_commit_date: 2023-06-20 11:03:31 -0400
kjohnson2macOS 12.6.1 Monterey / arm64  OK    OK    OK    OK  UNNEEDED, same version is already published
Package 372/538HostnameOS / ArchINSTALLBUILDCHECKBUILD BIN
Pviz 1.34.0  (landing page)
Renan Sauteraud
git_last_commit: 62a5ac8
git_last_commit_date: 2023-04-25 10:33:03 -0400
kjohnson2macOS 12.6.1 Monterey / arm64  OK    OK    WARNINGS    OK  UNNEEDED, same version is already published
Package 373/538HostnameOS / ArchINSTALLBUILDCHECKBUILD BIN
pwOmics 1.32.0  (landing page)
Maren Sitte
git_last_commit: b7a7328
git_last_commit_date: 2023-04-25 10:39:39 -0400
kjohnson2macOS 12.6.1 Monterey / arm64  OK    OK    WARNINGS    OK  UNNEEDED, same version is already published
Package 374/538HostnameOS / ArchINSTALLBUILDCHECKBUILD BIN
QDNAseq 1.36.0  (landing page)
Daoud Sie
git_last_commit: 22a474f
git_last_commit_date: 2023-04-25 10:30:57 -0400
kjohnson2macOS 12.6.1 Monterey / arm64  OK    OK    OK    OK  UNNEEDED, same version is already published
Package 375/538HostnameOS / ArchINSTALLBUILDCHECKBUILD BIN
qpgraph 2.34.2  (landing page)
Robert Castelo
git_last_commit: 521abb0
git_last_commit_date: 2023-05-01 20:11:38 -0400
kjohnson2macOS 12.6.1 Monterey / arm64  OK    OK    OK    OK  UNNEEDED, same version is already published
Package 376/538HostnameOS / ArchINSTALLBUILDCHECKBUILD BIN
qsea 1.26.0  (landing page)
Matthias Lienhard
git_last_commit: 5307dd6
git_last_commit_date: 2023-04-25 10:47:53 -0400
kjohnson2macOS 12.6.1 Monterey / arm64  OK    OK    OK    OK  UNNEEDED, same version is already published
Package 377/538HostnameOS / ArchINSTALLBUILDCHECKBUILD BIN
Qtlizer 1.14.0  (landing page)
Matthias Munz
git_last_commit: daf2788
git_last_commit_date: 2023-04-25 11:12:11 -0400
kjohnson2macOS 12.6.1 Monterey / arm64  OK    OK    OK    OK  UNNEEDED, same version is already published
Package 378/538HostnameOS / ArchINSTALLBUILDCHECKBUILD BIN
QuasR 1.40.1  (landing page)
Michael Stadler
git_last_commit: ededf94
git_last_commit_date: 2023-06-14 02:04:10 -0400
kjohnson2macOS 12.6.1 Monterey / arm64  OK    OK    WARNINGS    OK  UNNEEDED, same version is already published
Package 379/538HostnameOS / ArchINSTALLBUILDCHECKBUILD BIN
R3CPET 1.32.0  (landing page)
Mohamed Nadhir Djekidel
git_last_commit: 83ee498
git_last_commit_date: 2023-04-25 10:39:26 -0400
kjohnson2macOS 12.6.1 Monterey / arm64  ERROR    ERROR  skippedskipped
Package 380/538HostnameOS / ArchINSTALLBUILDCHECKBUILD BIN
r3Cseq 1.46.0  (landing page)
Supat Thongjuea or
git_last_commit: 8f392a0
git_last_commit_date: 2023-04-25 10:21:25 -0400
kjohnson2macOS 12.6.1 Monterey / arm64  OK    OK    OK    OK  UNNEEDED, same version is already published
Package 381/538HostnameOS / ArchINSTALLBUILDCHECKBUILD BIN
R453Plus1Toolbox 1.50.0  (landing page)
Hans-Ulrich Klein
git_last_commit: 4064694
git_last_commit_date: 2023-04-25 10:18:15 -0400
kjohnson2macOS 12.6.1 Monterey / arm64  OK    OK    OK    OK  UNNEEDED, same version is already published
Package 382/538HostnameOS / ArchINSTALLBUILDCHECKBUILD BIN
RaggedExperiment 1.24.2  (landing page)
Marcel Ramos
git_last_commit: eb1dce2
git_last_commit_date: 2023-08-10 13:52:55 -0400
kjohnson2macOS 12.6.1 Monterey / arm64  OK    OK    OK    OK  UNNEEDED, same version is already published
Package 383/538HostnameOS / ArchINSTALLBUILDCHECKBUILD BIN
ramr 1.8.0  (landing page)
Oleksii Nikolaienko
git_last_commit: 7fce9b8
git_last_commit_date: 2023-04-25 11:25:55 -0400
kjohnson2macOS 12.6.1 Monterey / arm64  OK    OK    OK    OK  UNNEEDED, same version is already published
Package 384/538HostnameOS / ArchINSTALLBUILDCHECKBUILD BIN
RareVariantVis 2.28.0  (landing page)
Tomasz Stokowy
git_last_commit: 7f9b20d
git_last_commit_date: 2023-04-25 10:40:01 -0400
kjohnson2macOS 12.6.1 Monterey / arm64  OK    OK    OK    OK  UNNEEDED, same version is already published
Package 385/538HostnameOS / ArchINSTALLBUILDCHECKBUILD BIN
RCAS 1.26.0  (landing page)
Bora Uyar
git_last_commit: 64293a9
git_last_commit_date: 2023-04-25 10:48:24 -0400
kjohnson2macOS 12.6.1 Monterey / arm64  OK    OK    OK    OK  UNNEEDED, same version is already published
Package 386/538HostnameOS / ArchINSTALLBUILDCHECKBUILD BIN
rCGH 1.30.0  (landing page)
Frederic Commo
git_last_commit: c7ca480
git_last_commit_date: 2023-04-25 10:40:26 -0400
kjohnson2macOS 12.6.1 Monterey / arm64  OK    OK    OK    OK  UNNEEDED, same version is already published
Package 387/538HostnameOS / ArchINSTALLBUILDCHECKBUILD BIN
RcisTarget 1.20.0  (landing page)
Sara Aibar
git_last_commit: e76daff
git_last_commit_date: 2023-04-25 10:59:02 -0400
kjohnson2macOS 12.6.1 Monterey / arm64  OK    OK    OK    OK  UNNEEDED, same version is already published
Package 388/538HostnameOS / ArchINSTALLBUILDCHECKBUILD BIN
recount 1.26.0  (landing page)
Leonardo Collado-Torres
git_last_commit: a596eee
git_last_commit_date: 2023-04-25 10:48:40 -0400
kjohnson2macOS 12.6.1 Monterey / arm64  OK    ERROR  skippedskipped
Package 389/538HostnameOS / ArchINSTALLBUILDCHECKBUILD BIN
recount3 1.10.2  (landing page)
Leonardo Collado-Torres
git_last_commit: e2de6b4
git_last_commit_date: 2023-05-06 19:38:36 -0400
kjohnson2macOS 12.6.1 Monterey / arm64  OK    OK    OK    OK  UNNEEDED, same version is already published
Package 390/538HostnameOS / ArchINSTALLBUILDCHECKBUILD BIN
recoup 1.28.0  (landing page)
Panagiotis Moulos
git_last_commit: 8dc164c
git_last_commit_date: 2023-04-25 10:45:35 -0400
kjohnson2macOS 12.6.1 Monterey / arm64  OK    OK    OK    OK  UNNEEDED, same version is already published
Package 391/538HostnameOS / ArchINSTALLBUILDCHECKBUILD BIN
regioneR 1.32.0  (landing page)
Bernat Gel
git_last_commit: 7d4c5c0
git_last_commit_date: 2023-04-25 10:38:48 -0400
kjohnson2macOS 12.6.1 Monterey / arm64  OK    OK    OK    OK  UNNEEDED, same version is already published
Package 392/538HostnameOS / ArchINSTALLBUILDCHECKBUILD BIN
regionReport 1.34.0  (landing page)
Leonardo Collado-Torres
git_last_commit: 34353ff
git_last_commit_date: 2023-04-25 10:35:11 -0400
kjohnson2macOS 12.6.1 Monterey / arm64  OK    OK    OK    OK  UNNEEDED, same version is already published
Package 393/538HostnameOS / ArchINSTALLBUILDCHECKBUILD BIN
regutools 1.12.0  (landing page)
Joselyn Chavez
git_last_commit: a823588
git_last_commit_date: 2023-04-25 11:17:58 -0400
kjohnson2macOS 12.6.1 Monterey / arm64  OK    OK    OK    OK  UNNEEDED, same version is already published
Package 394/538HostnameOS / ArchINSTALLBUILDCHECKBUILD BIN
REMP 1.24.0  (landing page)
Yinan Zheng
git_last_commit: b860b44
git_last_commit_date: 2023-04-25 10:52:22 -0400
kjohnson2macOS 12.6.1 Monterey / arm64  OK    ERROR  skippedskipped
Package 395/538HostnameOS / ArchINSTALLBUILDCHECKBUILD BIN
Repitools 1.46.0  (landing page)
Mark Robinson
git_last_commit: 6aa2b27
git_last_commit_date: 2023-04-25 10:20:10 -0400
kjohnson2macOS 12.6.1 Monterey / arm64  OK    OK    WARNINGS    OK  UNNEEDED, same version is already published
Package 396/538HostnameOS / ArchINSTALLBUILDCHECKBUILD BIN
RepViz 1.16.0  (landing page)
Thomas Faux, Asta Laiho
git_last_commit: e30b36d
git_last_commit_date: 2023-04-25 11:09:36 -0400
kjohnson2macOS 12.6.1 Monterey / arm64  OK    OK    WARNINGS    OK  UNNEEDED, same version is already published
Package 397/538HostnameOS / ArchINSTALLBUILDCHECKBUILD BIN
RESOLVE 1.2.0  (landing page)
Luca De Sano
git_last_commit: c001a0f
git_last_commit_date: 2023-04-25 11:40:54 -0400
kjohnson2macOS 12.6.1 Monterey / arm64  OK    OK    OK    OK  UNNEEDED, same version is already published
Package 398/538HostnameOS / ArchINSTALLBUILDCHECKBUILD BIN
rfPred 1.38.0  (landing page)
Hugo Varet
git_last_commit: 0fe0002
git_last_commit_date: 2023-04-25 10:28:07 -0400
kjohnson2macOS 12.6.1 Monterey / arm64  OK    OK    OK    OK  UNNEEDED, same version is already published
Package 399/538HostnameOS / ArchINSTALLBUILDCHECKBUILD BIN
rGADEM 2.48.0  (landing page)
Arnaud Droit
git_last_commit: 3e5a408
git_last_commit_date: 2023-04-25 09:50:14 -0400
kjohnson2macOS 12.6.1 Monterey / arm64  OK    OK    OK    OK  UNNEEDED, same version is already published
Package 400/538HostnameOS / ArchINSTALLBUILDCHECKBUILD BIN
RgnTX 1.2.0  (landing page)
Yue Wang
git_last_commit: 85476a7
git_last_commit_date: 2023-04-25 11:38:34 -0400
kjohnson2macOS 12.6.1 Monterey / arm64  OK    OK    OK    OK  UNNEEDED, same version is already published
Package 401/538HostnameOS / ArchINSTALLBUILDCHECKBUILD BIN
rGREAT 2.2.0  (landing page)
Zuguang Gu
git_last_commit: 1089370
git_last_commit_date: 2023-04-25 10:37:39 -0400
kjohnson2macOS 12.6.1 Monterey / arm64  OK    OK    OK    OK  UNNEEDED, same version is already published
Package 402/538HostnameOS / ArchINSTALLBUILDCHECKBUILD BIN
Rhisat2 1.16.0  (landing page)
Charlotte Soneson
git_last_commit: e0da195
git_last_commit_date: 2023-04-25 11:07:12 -0400
kjohnson2macOS 12.6.1 Monterey / arm64  OK    OK    WARNINGS    OK  UNNEEDED, same version is already published
Package 403/538HostnameOS / ArchINSTALLBUILDCHECKBUILD BIN
RiboCrypt 1.6.0  (landing page)
Michal Swirski
git_last_commit: f3b6b4d
git_last_commit_date: 2023-04-25 11:34:32 -0400
kjohnson2macOS 12.6.1 Monterey / arm64  OK    OK    OK    OK  UNNEEDED, same version is already published
Package 404/538HostnameOS / ArchINSTALLBUILDCHECKBUILD BIN
RiboDiPA 1.8.0  (landing page)
Ji-Ping Wang
git_last_commit: 49cff9b
git_last_commit_date: 2023-04-25 11:26:15 -0400
kjohnson2macOS 12.6.1 Monterey / arm64  OK    OK    OK    OK  UNNEEDED, same version is already published
Package 405/538HostnameOS / ArchINSTALLBUILDCHECKBUILD BIN
RiboProfiling 1.30.0  (landing page)
A. Popa
git_last_commit: 8eb9915
git_last_commit_date: 2023-04-25 10:42:20 -0400
kjohnson2macOS 12.6.1 Monterey / arm64  OK    OK    WARNINGS    OK  UNNEEDED, same version is already published
Package 406/538HostnameOS / ArchINSTALLBUILDCHECKBUILD BIN
riboSeqR 1.34.0  (landing page)
Thomas J. Hardcastle
git_last_commit: bd04e8d
git_last_commit_date: 2023-04-25 10:32:48 -0400
kjohnson2macOS 12.6.1 Monterey / arm64  OK    OK    OK    OK  NO, package depends on 'baySeq' which is not available
Package 407/538HostnameOS / ArchINSTALLBUILDCHECKBUILD BIN
ribosomeProfilingQC 1.12.0  (landing page)
Jianhong Ou
git_last_commit: 98f155b
git_last_commit_date: 2023-04-25 11:15:39 -0400
kjohnson2macOS 12.6.1 Monterey / arm64  OK    OK    OK    OK  UNNEEDED, same version is already published
Package 408/538HostnameOS / ArchINSTALLBUILDCHECKBUILD BIN
RIPAT 1.10.0  (landing page)
Min-Jeong Baek
git_last_commit: 711cf3d
git_last_commit_date: 2023-04-25 11:22:02 -0400
kjohnson2macOS 12.6.1 Monterey / arm64  OK    OK    OK    OK  UNNEEDED, same version is already published
Package 409/538HostnameOS / ArchINSTALLBUILDCHECKBUILD BIN
RJMCMCNucleosomes 1.24.0  (landing page)
Astrid Deschênes
git_last_commit: ab64faf
git_last_commit_date: 2023-04-25 10:51:45 -0400
kjohnson2macOS 12.6.1 Monterey / arm64  OK    OK    OK    OK  UNNEEDED, same version is already published
Package 410/538HostnameOS / ArchINSTALLBUILDCHECKBUILD BIN
RLSeq 1.6.0  (landing page)
Henry Miller
git_last_commit: 27816ce
git_last_commit_date: 2023-04-25 11:34:48 -0400
kjohnson2macOS 12.6.1 Monterey / arm64  OK    ERROR  skippedskipped
Package 411/538HostnameOS / ArchINSTALLBUILDCHECKBUILD BIN
Rmmquant 1.18.0  (landing page)
Zytnicki Matthias
git_last_commit: 9a73f73
git_last_commit_date: 2023-04-25 11:02:28 -0400
kjohnson2macOS 12.6.1 Monterey / arm64  OK    OK    OK    OK  UNNEEDED, same version is already published
Package 412/538HostnameOS / ArchINSTALLBUILDCHECKBUILD BIN
rmspc 1.6.0  (landing page)
Meriem Bahda
git_last_commit: 4586a4a
git_last_commit_date: 2023-04-25 11:32:09 -0400
kjohnson2macOS 12.6.1 Monterey / arm64  OK    OK    OK    OK  UNNEEDED, same version is already published
Package 413/538HostnameOS / ArchINSTALLBUILDCHECKBUILD BIN
rnaEditr 1.10.0  (landing page)
Lanyu Zhang
git_last_commit: 19beb2c
git_last_commit_date: 2023-04-25 11:23:33 -0400
kjohnson2macOS 12.6.1 Monterey / arm64  OK    OK    WARNINGS    OK  UNNEEDED, same version is already published
Package 414/538HostnameOS / ArchINSTALLBUILDCHECKBUILD BIN
RNAmodR 1.14.0  (landing page)
Felix G.M. Ernst
git_last_commit: d86ff27
git_last_commit_date: 2023-04-25 11:10:45 -0400
kjohnson2macOS 12.6.1 Monterey / arm64  OK    OK    OK    OK  UNNEEDED, same version is already published
Package 415/538HostnameOS / ArchINSTALLBUILDCHECKBUILD BIN
RNAmodR.AlkAnilineSeq 1.14.0  (landing page)
Felix G.M. Ernst
git_last_commit: 08e3bd5
git_last_commit_date: 2023-04-25 11:10:50 -0400
kjohnson2macOS 12.6.1 Monterey / arm64  OK    OK