Back to Multiple platform build/check report for BioC 3.17: simplified long |
|
This page was generated on 2023-05-27 11:06:33 -0400 (Sat, 27 May 2023).
Hostname | OS | Arch (*) | R version | Installed pkgs |
---|---|---|---|---|
nebbiolo1 | Linux (Ubuntu 22.04.2 LTS) | x86_64 | 4.3.0 RC (2023-04-13 r84269) -- "Already Tomorrow" | 4617 |
palomino3 | Windows Server 2022 Datacenter | x64 | 4.3.0 RC (2023-04-13 r84269 ucrt) -- "Already Tomorrow" | 4368 |
merida1 | macOS 12.6.4 Monterey | x86_64 | 4.3.0 RC (2023-04-13 r84257) -- "Already Tomorrow" | 4326 |
Click on any hostname to see more info about the system (e.g. compilers) (*) as reported by 'uname -p', except on Windows and Mac OS X |
To the developers/maintainers of the cTRAP package: - Allow up to 24 hours (and sometimes 48 hours) for your latest push to git@git.bioconductor.org:packages/cTRAP.git to reflect on this report. See Troubleshooting Build Report for more information. - Use the following Renviron settings to reproduce errors and warnings. Note: If "R CMD check" recently failed on the Linux builder over a missing dependency, add the missing dependency to "Suggests" in your DESCRIPTION file. See the Renviron.bioc for details. |
Package 468/2229 | Hostname | OS / Arch | INSTALL | BUILD | CHECK | BUILD BIN | ||||||||
cTRAP 1.18.0 (landing page) Nuno Saraiva-Agostinho
| nebbiolo1 | Linux (Ubuntu 22.04.2 LTS) / x86_64 | OK | OK | OK | ![]() | ||||||||
palomino3 | Windows Server 2022 Datacenter / x64 | OK | OK | WARNINGS | OK | ![]() | ||||||||
merida1 | macOS 12.6.4 Monterey / x86_64 | OK | OK | OK | OK | ![]() | ||||||||
Package: cTRAP |
Version: 1.18.0 |
Command: /Library/Frameworks/R.framework/Resources/bin/R CMD check --install=check:cTRAP.install-out.txt --library=/Library/Frameworks/R.framework/Resources/library --no-vignettes --timings cTRAP_1.18.0.tar.gz |
StartedAt: 2023-05-27 00:35:23 -0400 (Sat, 27 May 2023) |
EndedAt: 2023-05-27 00:58:43 -0400 (Sat, 27 May 2023) |
EllapsedTime: 1400.3 seconds |
RetCode: 0 |
Status: OK |
CheckDir: cTRAP.Rcheck |
Warnings: 0 |
############################################################################## ############################################################################## ### ### Running command: ### ### /Library/Frameworks/R.framework/Resources/bin/R CMD check --install=check:cTRAP.install-out.txt --library=/Library/Frameworks/R.framework/Resources/library --no-vignettes --timings cTRAP_1.18.0.tar.gz ### ############################################################################## ############################################################################## * using log directory ‘/Users/biocbuild/bbs-3.17-bioc/meat/cTRAP.Rcheck’ * using R version 4.3.0 RC (2023-04-13 r84257) * using platform: x86_64-apple-darwin20 (64-bit) * R was compiled by Apple clang version 14.0.3 (clang-1403.0.22.14.1) GNU Fortran (GCC) 12.2.0 * running under: macOS Monterey 12.6.4 * using session charset: UTF-8 * using option ‘--no-vignettes’ * checking for file ‘cTRAP/DESCRIPTION’ ... OK * this is package ‘cTRAP’ version ‘1.18.0’ * package encoding: UTF-8 * checking package namespace information ... OK * checking package dependencies ... OK * checking if this is a source package ... OK * checking if there is a namespace ... OK * checking for hidden files and directories ... NOTE Found the following hidden files and directories: .devcontainer These were most likely included in error. See section ‘Package structure’ in the ‘Writing R Extensions’ manual. * checking for portable file names ... OK * checking for sufficient/correct file permissions ... OK * checking whether package ‘cTRAP’ can be installed ... OK * checking installed package size ... NOTE installed size is 5.0Mb sub-directories of 1Mb or more: data 4.3Mb * checking package directory ... OK * checking DESCRIPTION meta-information ... OK * checking top-level files ... OK * checking for left-over files ... OK * checking index information ... OK * checking package subdirectories ... OK * checking R files for non-ASCII characters ... OK * checking R files for syntax errors ... OK * checking whether the package can be loaded ... OK * checking whether the package can be loaded with stated dependencies ... OK * checking whether the package can be unloaded cleanly ... OK * checking whether the namespace can be loaded with stated dependencies ... OK * checking whether the namespace can be unloaded cleanly ... OK * checking dependencies in R code ... OK * checking S3 generic/method consistency ... OK * checking replacement functions ... OK * checking foreign function calls ... OK * checking R code for possible problems ... NOTE Found the following possibly unsafe calls: File ‘cTRAP/R/shinyInterface_session.R’: assignInNamespace("dataTablesFilter", dt_mod, "DT") * checking Rd files ... OK * checking Rd metadata ... OK * checking Rd cross-references ... OK * checking for missing documentation entries ... OK * checking for code/documentation mismatches ... OK * checking Rd \usage sections ... OK * checking Rd contents ... OK * checking for unstated dependencies in examples ... OK * checking contents of ‘data’ directory ... OK * checking data for non-ASCII characters ... NOTE Note: found 1 marked UTF-8 string * checking LazyData ... OK * checking data for ASCII and uncompressed saves ... OK * checking R/sysdata.rda ... OK * checking files in ‘vignettes’ ... OK * checking examples ... OK Examples with CPU (user + system) or elapsed time > 5s user system elapsed plotDrugSetEnrichment 400.152 3.397 527.962 convertGeneIdentifiers 28.653 2.943 45.733 plot.referenceComparison 25.197 1.313 38.222 prepareDrugSets 11.365 13.339 31.510 analyseDrugSetEnrichment 21.958 2.610 41.342 plot.perturbationChanges 21.870 0.699 32.278 plotTargetingDrugsVSsimilarPerturbations 9.208 0.721 12.503 filterCMapMetadata 7.085 1.323 12.813 predictTargetingDrugs 6.671 0.603 9.309 prepareCMapPerturbations 6.040 0.395 8.307 downloadENCODEknockdownMetadata 3.446 2.006 12.090 loadExpressionDrugSensitivityAssociation 2.158 2.049 6.342 loadCMapData 3.670 0.241 6.399 loadCMapZscores 3.360 0.183 5.260 * checking for unstated dependencies in ‘tests’ ... OK * checking tests ... Running ‘spelling.R’ Running ‘testthat.R’ OK * checking for unstated dependencies in vignettes ... OK * checking package vignettes in ‘inst/doc’ ... OK * checking running R code from vignettes ... SKIPPED * checking re-building of vignette outputs ... SKIPPED * checking PDF version of manual ... OK * DONE Status: 4 NOTEs See ‘/Users/biocbuild/bbs-3.17-bioc/meat/cTRAP.Rcheck/00check.log’ for details.
cTRAP.Rcheck/00install.out
############################################################################## ############################################################################## ### ### Running command: ### ### /Library/Frameworks/R.framework/Resources/bin/R CMD INSTALL cTRAP ### ############################################################################## ############################################################################## * installing to library ‘/Library/Frameworks/R.framework/Versions/4.3-x86_64/Resources/library’ * installing *source* package ‘cTRAP’ ... ** using staged installation ** R ** data *** moving datasets to lazyload DB ** inst ** byte-compile and prepare package for lazy loading ** help *** installing help indices ** building package indices ** installing vignettes ** testing if installed package can be loaded from temporary location ** testing if installed package can be loaded from final location ** testing if installed package keeps a record of temporary installation path * DONE (cTRAP)
cTRAP.Rcheck/tests/spelling.Rout
R version 4.3.0 RC (2023-04-13 r84257) -- "Already Tomorrow" Copyright (C) 2023 The R Foundation for Statistical Computing Platform: x86_64-apple-darwin20 (64-bit) R is free software and comes with ABSOLUTELY NO WARRANTY. You are welcome to redistribute it under certain conditions. Type 'license()' or 'licence()' for distribution details. R is a collaborative project with many contributors. Type 'contributors()' for more information and 'citation()' on how to cite R or R packages in publications. Type 'demo()' for some demos, 'help()' for on-line help, or 'help.start()' for an HTML browser interface to help. Type 'q()' to quit R. > if(requireNamespace('spelling', quietly = TRUE)) + spelling::spell_check_test(vignettes = TRUE, error = FALSE, + skip_on_cran = TRUE) NULL > > proc.time() user system elapsed 0.361 0.120 0.490
cTRAP.Rcheck/tests/testthat.Rout
R version 4.3.0 RC (2023-04-13 r84257) -- "Already Tomorrow" Copyright (C) 2023 The R Foundation for Statistical Computing Platform: x86_64-apple-darwin20 (64-bit) R is free software and comes with ABSOLUTELY NO WARRANTY. You are welcome to redistribute it under certain conditions. Type 'license()' or 'licence()' for distribution details. R is a collaborative project with many contributors. Type 'contributors()' for more information and 'citation()' on how to cite R or R packages in publications. Type 'demo()' for some demos, 'help()' for on-line help, or 'help.start()' for an HTML browser interface to help. Type 'q()' to quit R. > library(testthat) > library(cTRAP) > > test_check("cTRAP") trying URL 'https://compbio.imm.medicina.ulisboa.pt/public/cTRAP/expressionDrugSensitivityCorGDSC7.qs' downloaded 31.6 MB trying URL 'https://compbio.imm.medicina.ulisboa.pt/public/cTRAP/compound_descriptors_NCI60_2D.qs' downloaded 2.1 MB [ FAIL 0 | WARN 2 | SKIP 2 | PASS 244 ] ══ Skipped tests ═══════════════════════════════════════════════════════════════ • On Bioconductor (1) • empty test (1) [ FAIL 0 | WARN 2 | SKIP 2 | PASS 244 ] > > proc.time() user system elapsed 97.551 7.031 131.563
cTRAP.Rcheck/cTRAP-Ex.timings
name | user | system | elapsed | |
analyseDrugSetEnrichment | 21.958 | 2.610 | 41.342 | |
convertGeneIdentifiers | 28.653 | 2.943 | 45.733 | |
downloadENCODEknockdownMetadata | 3.446 | 2.006 | 12.090 | |
filterCMapMetadata | 7.085 | 1.323 | 12.813 | |
getCMapConditions | 0.004 | 0.002 | 0.009 | |
getCMapPerturbationTypes | 0.001 | 0.000 | 0.001 | |
listExpressionDrugSensitivityAssociation | 0.001 | 0.001 | 0.000 | |
loadCMapData | 3.670 | 0.241 | 6.399 | |
loadCMapZscores | 3.360 | 0.183 | 5.260 | |
loadDrugDescriptors | 0.066 | 0.013 | 0.106 | |
loadENCODEsamples | 0.001 | 0.000 | 0.001 | |
loadExpressionDrugSensitivityAssociation | 2.158 | 2.049 | 6.342 | |
parseCMapID | 0.000 | 0.001 | 0.002 | |
performDifferentialExpression | 0.003 | 0.001 | 0.003 | |
plot.perturbationChanges | 21.870 | 0.699 | 32.278 | |
plot.referenceComparison | 25.197 | 1.313 | 38.222 | |
plotDrugSetEnrichment | 400.152 | 3.397 | 527.962 | |
plotTargetingDrugsVSsimilarPerturbations | 9.208 | 0.721 | 12.503 | |
predictTargetingDrugs | 6.671 | 0.603 | 9.309 | |
prepareCMapPerturbations | 6.040 | 0.395 | 8.307 | |
prepareDrugSets | 11.365 | 13.339 | 31.510 | |
prepareENCODEgeneExpression | 0.001 | 0.001 | 0.001 | |
rankSimilarPerturbations | 2.432 | 0.152 | 3.267 | |