Back to Multiple platform build/check report for BioC 3.17:   simplified   long
ABCDEF[G]HIJKLMNOPQRSTUVWXYZ

This page was generated on 2023-10-04 11:35:41 -0400 (Wed, 04 Oct 2023).

HostnameOSArch (*)R versionInstalled pkgs
nebbiolo1Linux (Ubuntu 22.04.2 LTS)x86_644.3.1 (2023-06-16) -- "Beagle Scouts" 4626
palomino3Windows Server 2022 Datacenterx644.3.1 (2023-06-16 ucrt) -- "Beagle Scouts" 4379
merida1macOS 12.6.4 Montereyx86_644.3.1 (2023-06-16) -- "Beagle Scouts" 4395
Click on any hostname to see more info about the system (e.g. compilers)      (*) as reported by 'uname -p', except on Windows and Mac OS X

Package 838/2230HostnameOS / ArchINSTALLBUILDCHECKBUILD BIN
ggtree 3.8.2  (landing page)
Guangchuang Yu
Snapshot Date: 2023-10-03 14:00:15 -0400 (Tue, 03 Oct 2023)
git_url: https://git.bioconductor.org/packages/ggtree
git_branch: RELEASE_3_17
git_last_commit: 36ae5e5
git_last_commit_date: 2023-07-24 00:00:37 -0400 (Mon, 24 Jul 2023)
nebbiolo1Linux (Ubuntu 22.04.2 LTS) / x86_64  OK    OK    OK  UNNEEDED, same version is already published
palomino3Windows Server 2022 Datacenter / x64  OK    OK    OK    OK  UNNEEDED, same version is already published
merida1macOS 12.6.4 Monterey / x86_64  OK    OK    OK    OK  UNNEEDED, same version is already published

CHECK results for ggtree on nebbiolo1


To the developers/maintainers of the ggtree package:
- Allow up to 24 hours (and sometimes 48 hours) for your latest push to git@git.bioconductor.org:packages/ggtree.git to reflect on this report. See Troubleshooting Build Report for more information.
- Use the following Renviron settings to reproduce errors and warnings.
- If 'R CMD check' started to fail recently on the Linux builder(s) over a missing dependency, add the missing dependency to 'Suggests:' in your DESCRIPTION file. See Renviron.bioc for more information.

raw results


Summary

Package: ggtree
Version: 3.8.2
Command: /home/biocbuild/bbs-3.17-bioc/R/bin/R CMD check --install=check:ggtree.install-out.txt --library=/home/biocbuild/bbs-3.17-bioc/R/site-library --timings ggtree_3.8.2.tar.gz
StartedAt: 2023-10-03 21:43:06 -0400 (Tue, 03 Oct 2023)
EndedAt: 2023-10-03 21:44:07 -0400 (Tue, 03 Oct 2023)
EllapsedTime: 61.5 seconds
RetCode: 0
Status:   OK  
CheckDir: ggtree.Rcheck
Warnings: 0

Command output

##############################################################################
##############################################################################
###
### Running command:
###
###   /home/biocbuild/bbs-3.17-bioc/R/bin/R CMD check --install=check:ggtree.install-out.txt --library=/home/biocbuild/bbs-3.17-bioc/R/site-library --timings ggtree_3.8.2.tar.gz
###
##############################################################################
##############################################################################


* using log directory ‘/home/biocbuild/bbs-3.17-bioc/meat/ggtree.Rcheck’
* using R version 4.3.1 (2023-06-16)
* using platform: x86_64-pc-linux-gnu (64-bit)
* R was compiled by
    gcc (Ubuntu 11.3.0-1ubuntu1~22.04.1) 11.3.0
    GNU Fortran (Ubuntu 11.3.0-1ubuntu1~22.04.1) 11.3.0
* running under: Ubuntu 22.04.3 LTS
* using session charset: UTF-8
* checking for file ‘ggtree/DESCRIPTION’ ... OK
* checking extension type ... Package
* this is package ‘ggtree’ version ‘3.8.2’
* package encoding: UTF-8
* checking package namespace information ... OK
* checking package dependencies ... OK
* checking if this is a source package ... OK
* checking if there is a namespace ... OK
* checking for hidden files and directories ... OK
* checking for portable file names ... OK
* checking for sufficient/correct file permissions ... OK
* checking whether package ‘ggtree’ can be installed ... OK
* checking installed package size ... OK
* checking package directory ... OK
* checking ‘build’ directory ... OK
* checking DESCRIPTION meta-information ... OK
* checking top-level files ... OK
* checking for left-over files ... OK
* checking index information ... OK
* checking package subdirectories ... OK
* checking R files for non-ASCII characters ... OK
* checking R files for syntax errors ... OK
* checking whether the package can be loaded ... OK
* checking whether the package can be loaded with stated dependencies ... OK
* checking whether the package can be unloaded cleanly ... OK
* checking whether the namespace can be loaded with stated dependencies ... OK
* checking whether the namespace can be unloaded cleanly ... OK
* checking loading without being on the library search path ... OK
* checking startup messages can be suppressed ... OK
* checking dependencies in R code ... OK
* checking S3 generic/method consistency ... OK
* checking replacement functions ... OK
* checking foreign function calls ... OK
* checking R code for possible problems ... OK
* checking Rd files ... OK
* checking Rd metadata ... OK
* checking Rd cross-references ... OK
* checking for missing documentation entries ... OK
* checking for code/documentation mismatches ... OK
* checking Rd \usage sections ... OK
* checking Rd contents ... OK
* checking for unstated dependencies in examples ... OK
* checking files in ‘vignettes’ ... OK
* checking examples ... OK
* checking for unstated dependencies in ‘tests’ ... OK
* checking tests ...
  Running ‘testthat.R’
 OK
* checking for unstated dependencies in vignettes ... OK
* checking package vignettes in ‘inst/doc’ ... OK
* checking running R code from vignettes ...
  ‘ggtree.Rmd’ using ‘UTF-8’... OK
 NONE
* checking re-building of vignette outputs ... OK
* checking PDF version of manual ... OK
* DONE

Status: OK


Installation output

ggtree.Rcheck/00install.out

##############################################################################
##############################################################################
###
### Running command:
###
###   /home/biocbuild/bbs-3.17-bioc/R/bin/R CMD INSTALL ggtree
###
##############################################################################
##############################################################################


* installing to library ‘/home/biocbuild/bbs-3.17-bioc/R/site-library’
* installing *source* package ‘ggtree’ ...
** using staged installation
** R
** inst
** byte-compile and prepare package for lazy loading
** help
*** installing help indices
** building package indices
** installing vignettes
** testing if installed package can be loaded from temporary location
** testing if installed package can be loaded from final location
** testing if installed package keeps a record of temporary installation path
* DONE (ggtree)

Tests output

ggtree.Rcheck/tests/testthat.Rout


R version 4.3.1 (2023-06-16) -- "Beagle Scouts"
Copyright (C) 2023 The R Foundation for Statistical Computing
Platform: x86_64-pc-linux-gnu (64-bit)

R is free software and comes with ABSOLUTELY NO WARRANTY.
You are welcome to redistribute it under certain conditions.
Type 'license()' or 'licence()' for distribution details.

R is a collaborative project with many contributors.
Type 'contributors()' for more information and
'citation()' on how to cite R or R packages in publications.

Type 'demo()' for some demos, 'help()' for on-line help, or
'help.start()' for an HTML browser interface to help.
Type 'q()' to quit R.

> library(testthat)
> library(ggtree)
ggtree v3.8.2 For help: https://yulab-smu.top/treedata-book/

If you use the ggtree package suite in published research, please cite
the appropriate paper(s):

Guangchuang Yu, David Smith, Huachen Zhu, Yi Guan, Tommy Tsan-Yuk Lam.
ggtree: an R package for visualization and annotation of phylogenetic
trees with their covariates and other associated data. Methods in
Ecology and Evolution. 2017, 8(1):28-36. doi:10.1111/2041-210X.12628

Guangchuang Yu, Tommy Tsan-Yuk Lam, Huachen Zhu, Yi Guan. Two methods
for mapping and visualizing associated data on phylogeny using ggtree.
Molecular Biology and Evolution. 2018, 35(12):3041-3043.
doi:10.1093/molbev/msy194

G Yu. Data Integration, Manipulation and Visualization of Phylogenetic
Trees (1st ed.). Chapman and Hall/CRC. 2022. ISBN: 9781032233574
> 
> test_check("ggtree")
[ FAIL 0 | WARN 3 | SKIP 0 | PASS 14 ]

[ FAIL 0 | WARN 3 | SKIP 0 | PASS 14 ]
> 
> proc.time()
   user  system elapsed 
  2.274   0.140   2.404 

Example timings

ggtree.Rcheck/ggtree-Ex.timings

nameusersystemelapsed
attacher0.5370.0040.541
collapse0.1690.0360.204
expand0.1300.0200.149
facet-plot0.1830.0040.187
flip0.1480.0000.149
geom-hilight1.4830.0041.487
geom_balance0.1760.0000.176
geom_cladelab0.3500.0000.349
geom_label20.1550.0000.155
geom_point20.7690.0080.778
geom_rootedge0.6460.0240.670
geom_rootpoint0.2420.0000.242
geom_strip0.1430.0000.143
geom_striplab0.1840.0030.188
geom_tiplab0.1350.0000.135
geom_tiplab20.2270.0040.230
geom_tippoint0.1230.0000.123
geom_tree0.1270.0000.127
get_taxa_name0.0270.0000.027
ggdensitree1.4750.0401.515
ggexpand0.1810.0000.181
ggtree-format-painter0.1470.0000.146
ggtree0.1150.0000.115
label_pad0.0010.0000.001
open_tree0.1970.0080.205
revts0.1350.0000.135
rotate0.2370.0000.236
rotate_tree0.3920.0000.392
scaleClade0.2820.0000.282
td_filter0.2340.0000.233
theme_tree0.2350.0030.238
theme_tree20.2280.0000.228
tree-layout0.9680.0441.012
viewClade0.1760.0040.180
xlim_expand0.2200.0000.221
xlim_tree0.2240.0000.224
zoomClade0.0000.0010.000