Back to Multiple platform build/check report for BioC 3.17:   simplified   long
ABCDEFGHIJKLMN[O]PQRSTUVWXYZ

This page was generated on 2023-03-29 11:06:28 -0400 (Wed, 29 Mar 2023).

HostnameOSArch (*)R versionInstalled pkgs
nebbiolo1Linux (Ubuntu 22.04.1 LTS)x86_64R Under development (unstable) (2023-03-16 r83996) -- "Unsuffered Consequences" 4547
palomino3Windows Server 2022 Datacenterx64R Under development (unstable) (2023-03-15 r83984 ucrt) -- "Unsuffered Consequences" 4308
merida1macOS 10.14.6 Mojavex86_64R Under development (unstable) (2023-03-16 r83985) -- "Unsuffered Consequences" 4301
Click on any hostname to see more info about the system (e.g. compilers)      (*) as reported by 'uname -p', except on Windows and Mac OS X

INSTALL results for ORFik on merida1


To the developers/maintainers of the ORFik package:
- Please allow up to 24 hours (and sometimes 48 hours) for your latest push to git@git.bioconductor.org:packages/ORFik.git to
reflect on this report. See How and When does the builder pull? When will my changes propagate? for more information.
- Make sure to use the following settings in order to reproduce any error or warning you see on this page.

raw results

Package 1427/2195HostnameOS / ArchINSTALLBUILDCHECKBUILD BIN
ORFik 1.19.8  (landing page)
Haakon Tjeldnes
Snapshot Date: 2023-03-28 14:00:22 -0400 (Tue, 28 Mar 2023)
git_url: https://git.bioconductor.org/packages/ORFik
git_branch: devel
git_last_commit: 7d13ceb
git_last_commit_date: 2023-03-23 10:21:25 -0400 (Thu, 23 Mar 2023)
nebbiolo1Linux (Ubuntu 22.04.1 LTS) / x86_64  OK    ERROR  skipped
palomino3Windows Server 2022 Datacenter / x64  OK    ERROR  skippedskipped
merida1macOS 10.14.6 Mojave / x86_64  OK    ERROR  skippedskipped

Summary

Package: ORFik
Version: 1.19.8
Command: /Library/Frameworks/R.framework/Resources/bin/R CMD INSTALL ORFik
StartedAt: 2023-03-28 15:41:22 -0400 (Tue, 28 Mar 2023)
EndedAt: 2023-03-28 15:45:37 -0400 (Tue, 28 Mar 2023)
EllapsedTime: 254.8 seconds
RetCode: 0
Status:   OK  

Command output

##############################################################################
##############################################################################
###
### Running command:
###
###   /Library/Frameworks/R.framework/Resources/bin/R CMD INSTALL ORFik
###
##############################################################################
##############################################################################


* installing to library ‘/Library/Frameworks/R.framework/Versions/4.3/Resources/library’
* installing *source* package ‘ORFik’ ...
** using staged installation
** libs
using C++ compiler: ‘Apple clang version 11.0.0 (clang-1100.0.33.17)’
using C++11
using SDK: ‘’
clang++ -mmacosx-version-min=10.13 -std=gnu++11 -I"/Library/Frameworks/R.framework/Resources/include" -DNDEBUG  -I'/Library/Frameworks/R.framework/Versions/4.3/Resources/library/Rcpp/include' -I/usr/local/include    -fPIC  -Wall -g -O2  -c RcppExports.cpp -o RcppExports.o
clang++ -mmacosx-version-min=10.13 -std=gnu++11 -I"/Library/Frameworks/R.framework/Resources/include" -DNDEBUG  -I'/Library/Frameworks/R.framework/Versions/4.3/Resources/library/Rcpp/include' -I/usr/local/include    -fPIC  -Wall -g -O2  -c findORFsHelpers.cpp -o findORFsHelpers.o
clang++ -mmacosx-version-min=10.13 -std=gnu++11 -I"/Library/Frameworks/R.framework/Resources/include" -DNDEBUG  -I'/Library/Frameworks/R.framework/Versions/4.3/Resources/library/Rcpp/include' -I/usr/local/include    -fPIC  -Wall -g -O2  -c findOrfs.cpp -o findOrfs.o
clang++ -mmacosx-version-min=10.13 -std=gnu++11 -I"/Library/Frameworks/R.framework/Resources/include" -DNDEBUG  -I'/Library/Frameworks/R.framework/Versions/4.3/Resources/library/Rcpp/include' -I/usr/local/include    -fPIC  -Wall -g -O2  -c findOrfsFasta.cpp -o findOrfsFasta.o
clang++ -mmacosx-version-min=10.13 -std=gnu++11 -I"/Library/Frameworks/R.framework/Resources/include" -DNDEBUG  -I'/Library/Frameworks/R.framework/Versions/4.3/Resources/library/Rcpp/include' -I/usr/local/include    -fPIC  -Wall -g -O2  -c pmapFromTranscripts.cpp -o pmapFromTranscripts.o
clang++ -mmacosx-version-min=10.13 -std=gnu++11 -I"/Library/Frameworks/R.framework/Resources/include" -DNDEBUG  -I'/Library/Frameworks/R.framework/Versions/4.3/Resources/library/Rcpp/include' -I/usr/local/include    -fPIC  -Wall -g -O2  -c pmapToTranscripts.cpp -o pmapToTranscripts.o
clang++ -mmacosx-version-min=10.13 -std=gnu++11 -dynamiclib -Wl,-headerpad_max_install_names -undefined dynamic_lookup -single_module -multiply_defined suppress -L/Library/Frameworks/R.framework/Resources/lib -L/usr/local/lib -o ORFik.so RcppExports.o findORFsHelpers.o findOrfs.o findOrfsFasta.o pmapFromTranscripts.o pmapToTranscripts.o -F/Library/Frameworks/R.framework/.. -framework R -Wl,-framework -Wl,CoreFoundation
installing to /Library/Frameworks/R.framework/Versions/4.3/Resources/library/00LOCK-ORFik/00new/ORFik/libs
** R
** inst
** byte-compile and prepare package for lazy loading
Creating a new generic function for ‘symbols’ in package ‘ORFik’
** help
*** installing help indices
** building package indices
** installing vignettes
** testing if installed package can be loaded from temporary location
** checking absolute paths in shared objects and dynamic libraries
** testing if installed package can be loaded from final location
** testing if installed package keeps a record of temporary installation path
* DONE (ORFik)