Back to Multiple platform build/check report for BioC 3.17:   simplified   long
[A]BCDEFGHIJKLMNOPQRSTUVWXYZ

This page was generated on 2023-06-02 11:04:11 -0400 (Fri, 02 Jun 2023).

HostnameOSArch (*)R versionInstalled pkgs
nebbiolo1Linux (Ubuntu 22.04.2 LTS)x86_644.3.0 RC (2023-04-13 r84269) -- "Already Tomorrow" 4618
palomino3Windows Server 2022 Datacenterx644.3.0 RC (2023-04-13 r84269 ucrt) -- "Already Tomorrow" 4369
merida1macOS 12.6.4 Montereyx86_644.3.0 RC (2023-04-13 r84257) -- "Already Tomorrow" 4327
Click on any hostname to see more info about the system (e.g. compilers)      (*) as reported by 'uname -p', except on Windows and Mac OS X

All results for package ANCOMBC


To the developers/maintainers of the ANCOMBC package:
- Allow up to 24 hours (and sometimes 48 hours) for your latest push to git@git.bioconductor.org:packages/ANCOMBC.git to reflect on this report. See Troubleshooting Build Report for more information.

- Use the following Renviron settings to reproduce errors and warnings.

Note: If "R CMD check" recently failed on the Linux builder over a missing dependency, add the missing dependency to "Suggests" in your DESCRIPTION file. See the Renviron.bioc for details.

raw results

Package 61/2229HostnameOS / ArchINSTALLBUILDCHECKBUILD BIN
ANCOMBC 2.2.0  (landing page)
Huang Lin
Snapshot Date: 2023-06-01 14:00:08 -0400 (Thu, 01 Jun 2023)
git_url: https://git.bioconductor.org/packages/ANCOMBC
git_branch: RELEASE_3_17
git_last_commit: 92b41f2
git_last_commit_date: 2023-04-25 11:22:30 -0400 (Tue, 25 Apr 2023)
nebbiolo1Linux (Ubuntu 22.04.2 LTS) / x86_64  OK    OK    OK  UNNEEDED, same version is already published
palomino3Windows Server 2022 Datacenter / x64  OK    OK    OK    OK  UNNEEDED, same version is already published
merida1macOS 12.6.4 Monterey / x86_64  OK    OK    OK    OK  NO, package depends on 'mia' which is not available

Results for Bioconductor software packages that depend directly on package ANCOMBC

QUICK STATSOS / ArchINSTALLBUILDCHECKBUILD BIN
nebbiolo1Linux (Ubuntu 22.04.2 LTS) / x86_64
002
002
0002
palomino3Windows Server 2022 Datacenter / x64
002
002
0002
002
merida1macOS 12.6.4 Monterey / x86_64
002
101
0001
001
Package 1/2HostnameOS / ArchINSTALLBUILDCHECKBUILD BIN
benchdamic 1.6.0  (landing page)
Matteo Calgaro
git_last_commit: 399a81c
git_last_commit_date: 2023-04-25 11:33:59 -0400
nebbiolo1Linux (Ubuntu 22.04.2 LTS) / x86_64  OK    OK    OK  UNNEEDED, same version is already published
palomino3Windows Server 2022 Datacenter / x64  OK    OK    OK    OK  UNNEEDED, same version is already published
merida1macOS 12.6.4 Monterey / x86_64  OK    TIMEOUT  skippedskipped
Package 2/2HostnameOS / ArchINSTALLBUILDCHECKBUILD BIN
microbiomeMarker 1.6.0  (landing page)
Yang Cao
git_last_commit: 63594b2
git_last_commit_date: 2023-04-25 11:33:28 -0400
nebbiolo1Linux (Ubuntu 22.04.2 LTS) / x86_64  OK    OK    OK  UNNEEDED, same version is already published
palomino3Windows Server 2022 Datacenter / x64  OK    OK    OK    OK  UNNEEDED, same version is already published
merida1macOS 12.6.4 Monterey / x86_64  OK    OK    OK    OK  NO, package depends on 'metagenomeSeq' which is not available