Back to Multiple platform build/check report for BioC 3.17:   simplified   long
ABCDEFGHIJKL[M]NOPQRSTUVWXYZ

This page was generated on 2023-09-23 11:36:52 -0400 (Sat, 23 Sep 2023).

HostnameOSArch (*)R versionInstalled pkgs
nebbiolo1Linux (Ubuntu 22.04.2 LTS)x86_644.3.1 (2023-06-16) -- "Beagle Scouts" 4625
palomino3Windows Server 2022 Datacenterx644.3.1 (2023-06-16 ucrt) -- "Beagle Scouts" 4378
merida1macOS 12.6.4 Montereyx86_644.3.1 (2023-06-16) -- "Beagle Scouts" 4394
Click on any hostname to see more info about the system (e.g. compilers)      (*) as reported by 'uname -p', except on Windows and Mac OS X

Package 1297/2230HostnameOS / ArchINSTALLBUILDCHECKBUILD BIN
MsBackendRawFileReader 1.6.0  (landing page)
Christian Panse
Snapshot Date: 2023-09-22 14:00:14 -0400 (Fri, 22 Sep 2023)
git_url: https://git.bioconductor.org/packages/MsBackendRawFileReader
git_branch: RELEASE_3_17
git_last_commit: 6ba8d73
git_last_commit_date: 2023-04-25 11:33:39 -0400 (Tue, 25 Apr 2023)
nebbiolo1Linux (Ubuntu 22.04.2 LTS) / x86_64  OK    OK    OK  UNNEEDED, same version is already published
palomino3Windows Server 2022 Datacenter / x64  OK    OK    OK    OK  UNNEEDED, same version is already published
merida1macOS 12.6.4 Monterey / x86_64  OK    OK    OK    OK  UNNEEDED, same version is already published

CHECK results for MsBackendRawFileReader on merida1


To the developers/maintainers of the MsBackendRawFileReader package:
- Allow up to 24 hours (and sometimes 48 hours) for your latest push to git@git.bioconductor.org:packages/MsBackendRawFileReader.git to reflect on this report. See Troubleshooting Build Report for more information.
- Use the following Renviron settings to reproduce errors and warnings.
- If 'R CMD check' started to fail recently on the Linux builder(s) over a missing dependency, add the missing dependency to 'Suggests:' in your DESCRIPTION file. See Renviron.bioc for more information.

raw results


Summary

Package: MsBackendRawFileReader
Version: 1.6.0
Command: /Library/Frameworks/R.framework/Resources/bin/R CMD check --install=check:MsBackendRawFileReader.install-out.txt --library=/Library/Frameworks/R.framework/Resources/library --no-vignettes --timings MsBackendRawFileReader_1.6.0.tar.gz
StartedAt: 2023-09-23 05:14:14 -0400 (Sat, 23 Sep 2023)
EndedAt: 2023-09-23 05:22:32 -0400 (Sat, 23 Sep 2023)
EllapsedTime: 497.7 seconds
RetCode: 0
Status:   OK  
CheckDir: MsBackendRawFileReader.Rcheck
Warnings: 0

Command output

##############################################################################
##############################################################################
###
### Running command:
###
###   /Library/Frameworks/R.framework/Resources/bin/R CMD check --install=check:MsBackendRawFileReader.install-out.txt --library=/Library/Frameworks/R.framework/Resources/library --no-vignettes --timings MsBackendRawFileReader_1.6.0.tar.gz
###
##############################################################################
##############################################################################


* using log directory ‘/Users/biocbuild/bbs-3.17-bioc/meat/MsBackendRawFileReader.Rcheck’
* using R version 4.3.1 (2023-06-16)
* using platform: x86_64-apple-darwin20 (64-bit)
* R was compiled by
    Apple clang version 14.0.3 (clang-1403.0.22.14.1)
    GNU Fortran (GCC) 12.2.0
* running under: macOS Monterey 12.6.4
* using session charset: UTF-8
* using option ‘--no-vignettes’
* checking for file ‘MsBackendRawFileReader/DESCRIPTION’ ... OK
* checking extension type ... Package
* this is package ‘MsBackendRawFileReader’ version ‘1.6.0’
* package encoding: UTF-8
* checking package namespace information ... OK
* checking package dependencies ... OK
* checking if this is a source package ... OK
* checking if there is a namespace ... OK
* checking for hidden files and directories ... OK
* checking for portable file names ... OK
* checking for sufficient/correct file permissions ... OK
* checking whether package ‘MsBackendRawFileReader’ can be installed ... OK
* checking installed package size ... OK
* checking package directory ... OK
* checking ‘build’ directory ... OK
* checking DESCRIPTION meta-information ... OK
* checking top-level files ... OK
* checking for left-over files ... OK
* checking index information ... OK
* checking package subdirectories ... OK
* checking R files for non-ASCII characters ... OK
* checking R files for syntax errors ... OK
* checking whether the package can be loaded ... OK
* checking whether the package can be loaded with stated dependencies ... OK
* checking whether the package can be unloaded cleanly ... OK
* checking whether the namespace can be loaded with stated dependencies ... OK
* checking whether the namespace can be unloaded cleanly ... OK
* checking startup messages can be suppressed ... OK
* checking dependencies in R code ... OK
* checking S3 generic/method consistency ... OK
* checking replacement functions ... OK
* checking foreign function calls ... OK
* checking R code for possible problems ... OK
* checking Rd files ... OK
* checking Rd metadata ... OK
* checking Rd cross-references ... OK
* checking for missing documentation entries ... OK
* checking for code/documentation mismatches ... OK
* checking Rd \usage sections ... OK
* checking Rd contents ... OK
* checking for unstated dependencies in examples ... OK
* checking files in ‘vignettes’ ... OK
* checking examples ... OK
Examples with CPU (user + system) or elapsed time > 5s
                               user system elapsed
ioBenchmark                  61.650 17.544  37.558
MsBackendRawFileReader       11.501  4.833  16.886
MsBackendRawFileReader-class  6.758  2.577  10.057
hidden_aliases                5.419  2.246   7.979
* checking for unstated dependencies in ‘tests’ ... OK
* checking tests ...
  Running ‘testthat.R’
 OK
* checking for unstated dependencies in vignettes ... OK
* checking package vignettes in ‘inst/doc’ ... OK
* checking running R code from vignettes ... SKIPPED
* checking re-building of vignette outputs ... SKIPPED
* checking PDF version of manual ... OK
* DONE

Status: OK


Installation output

MsBackendRawFileReader.Rcheck/00install.out

##############################################################################
##############################################################################
###
### Running command:
###
###   /Library/Frameworks/R.framework/Resources/bin/R CMD INSTALL MsBackendRawFileReader
###
##############################################################################
##############################################################################


* installing to library ‘/Library/Frameworks/R.framework/Versions/4.3-x86_64/Resources/library’
* installing *source* package ‘MsBackendRawFileReader’ ...
** using staged installation
** R
** inst
** byte-compile and prepare package for lazy loading
** help
*** installing help indices
** building package indices
** installing vignettes
** testing if installed package can be loaded from temporary location
** testing if installed package can be loaded from final location
** testing if installed package keeps a record of temporary installation path
* DONE (MsBackendRawFileReader)

Tests output

MsBackendRawFileReader.Rcheck/tests/testthat.Rout


R version 4.3.1 (2023-06-16) -- "Beagle Scouts"
Copyright (C) 2023 The R Foundation for Statistical Computing
Platform: x86_64-apple-darwin20 (64-bit)

R is free software and comes with ABSOLUTELY NO WARRANTY.
You are welcome to redistribute it under certain conditions.
Type 'license()' or 'licence()' for distribution details.

R is a collaborative project with many contributors.
Type 'contributors()' for more information and
'citation()' on how to cite R or R packages in publications.

Type 'demo()' for some demos, 'help()' for on-line help, or
'help.start()' for an HTML browser interface to help.
Type 'q()' to quit R.

> library("testthat")
> library("MsBackendRawFileReader")
Loading required package: Spectra
Loading required package: S4Vectors
Loading required package: stats4
Loading required package: BiocGenerics

Attaching package: 'BiocGenerics'

The following objects are masked from 'package:stats':

    IQR, mad, sd, var, xtabs

The following objects are masked from 'package:base':

    Filter, Find, Map, Position, Reduce, anyDuplicated, aperm, append,
    as.data.frame, basename, cbind, colnames, dirname, do.call,
    duplicated, eval, evalq, get, grep, grepl, intersect, is.unsorted,
    lapply, mapply, match, mget, order, paste, pmax, pmax.int, pmin,
    pmin.int, rank, rbind, rownames, sapply, setdiff, sort, table,
    tapply, union, unique, unsplit, which.max, which.min


Attaching package: 'S4Vectors'

The following object is masked from 'package:utils':

    findMatches

The following objects are masked from 'package:base':

    I, expand.grid, unname

Loading required package: BiocParallel
Loading required package: ProtGenerics

Attaching package: 'ProtGenerics'

The following object is masked from 'package:stats':

    smooth

> library("Spectra")
> 
> 
> sample_raw_file <- file.path(system.file(package = "rawrr"),
+                                 'extdata', 'sample.raw')
> 
> sample_mzXML_file <- file.path(path.package(package = 'MsBackendRawFileReader'),
+                                 'extdata', 'sample.mzXML')
> 
> 
> sample_raw <-  backendInitialize(MsBackendRawFileReader::MsBackendRawFileReader(), files = sample_raw_file)
> 
> 
> #sample_mzr <-  backendInitialize(MsBackendMzR(), files = sample_mzXML_file)
> 
> 
> mgf_file <- file.path(system.file(package = "MsBackendRawFileReader"),
+                              'extdata', '3159619b11ed_4590_9594.mgf')
> 
> 
> rv <- lapply(1:2, function(x){
+   file.copy(from = sample_raw_file, to = tempfile(fileext='.raw'))})
> 
> 
> register(SnowParam(workers = 1, type = "SOCK") , default = TRUE); 
> sample_raw_2 <- backendInitialize(MsBackendRawFileReader(),
+     files = file.path(tempdir(),
+          list.files(path = tempdir(), pattern = 'raw$')))
> 
> 
> test_check("MsBackendRawFileReader")
[ FAIL 0 | WARN 1 | SKIP 2 | PASS 20 ]

══ Skipped tests (2) ═══════════════════════════════════════════════════════════
• isFALSE(file.exists(sample_mzXML_file)) is TRUE (1):
  'test_MsBackendMzR_MsBackendRawFileReader.R:1:1'
• isFALSE(require(MsBackendRawMgf)) is TRUE (1): 'test_top_n_mgf.R:1:1'

[ FAIL 0 | WARN 1 | SKIP 2 | PASS 20 ]
> 
> 
> be <- Spectra::backendInitialize(MsBackendRawFileReader::MsBackendRawFileReader(),
+                                  files = c(sample_raw_file))
> 
> ## Run the MsBackend spectra variable test suite
> test_suite <- system.file("test_backends", "test_MsBackend",
+                           package = "Spectra")
> 
> #res <- test_file(paste0(test_suite, "/test_spectra_variables.R"),
> #                 reporter = check_reporter(), stop_on_failure = TRUE)
> 
> 
> ## Run the whole suite.
> res <- test_dir(test_suite, stop_on_failure = TRUE)
✔ | F W S  OK | Context

⠏ |         0 | spectra_subsetting                                              
⠋ |         1 | spectra_subsetting                                              
⠦ |         7 | spectra_subsetting                                              
⠹ |        13 | spectra_subsetting                                              
⠇ |        19 | spectra_subsetting                                              
⠼ |        25 | spectra_subsetting                                              
⠋ |        31 | spectra_subsetting                                              
⠦ |        37 | spectra_subsetting                                              
⠹ |        43 | spectra_subsetting                                              
⠇ |        49 | spectra_subsetting                                              
⠼ |        55 | spectra_subsetting                                              
⠋ |        61 | spectra_subsetting                                              
⠦ |        67 | spectra_subsetting                                              
⠹ |        73 | spectra_subsetting                                              
⠇ |        79 | spectra_subsetting                                              
⠼ |        85 | spectra_subsetting                                              
⠋ |        91 | spectra_subsetting                                              
⠦ |        97 | spectra_subsetting                                              
⠹ |       103 | spectra_subsetting                                              
⠇ |       109 | spectra_subsetting                                              
⠼ |       115 | spectra_subsetting                                              
⠋ |       121 | spectra_subsetting                                              
⠦ |       127 | spectra_subsetting                                              
⠹ |       133 | spectra_subsetting                                              
⠇ |       139 | spectra_subsetting                                              
⠼ |       145 | spectra_subsetting                                              
⠋ |       151 | spectra_subsetting                                              
⠦ |       157 | spectra_subsetting                                              
⠹ |       163 | spectra_subsetting                                              
⠇ |       169 | spectra_subsetting                                              
⠼ |       175 | spectra_subsetting                                              
⠋ |       181 | spectra_subsetting                                              
⠦ |       187 | spectra_subsetting                                              
⠹ |       193 | spectra_subsetting                                              
⠇ |       199 | spectra_subsetting                                              
⠼ |       205 | spectra_subsetting                                              
⠋ |       211 | spectra_subsetting                                              
⠦ |       217 | spectra_subsetting                                              
⠹ |       223 | spectra_subsetting                                              
⠇ |       229 | spectra_subsetting                                              
⠼ |       235 | spectra_subsetting                                              
⠋ |       241 | spectra_subsetting                                              
⠦ |       247 | spectra_subsetting                                              
⠹ |       253 | spectra_subsetting                                              
⠇ |       259 | spectra_subsetting                                              
⠼ |       265 | spectra_subsetting                                              
⠋ |       271 | spectra_subsetting                                              
⠦ |       277 | spectra_subsetting                                              
⠹ |       283 | spectra_subsetting                                              
⠇ |       289 | spectra_subsetting                                              
⠼ |       295 | spectra_subsetting                                              
⠋ |       301 | spectra_subsetting                                              
⠦ |       307 | spectra_subsetting                                              
⠹ |       313 | spectra_subsetting                                              
⠇ |       319 | spectra_subsetting                                              
⠼ |       325 | spectra_subsetting                                              
⠋ |       331 | spectra_subsetting                                              
⠦ |       337 | spectra_subsetting                                              
⠹ |       343 | spectra_subsetting                                              
⠇ |       349 | spectra_subsetting                                              
⠼ |       355 | spectra_subsetting                                              
⠋ |       361 | spectra_subsetting                                              
⠦ |       367 | spectra_subsetting                                              
⠹ |       373 | spectra_subsetting                                              
⠇ |       379 | spectra_subsetting                                              
⠼ |       385 | spectra_subsetting                                              
⠋ |       391 | spectra_subsetting                                              
⠦ |       397 | spectra_subsetting                                              
⠹ |       403 | spectra_subsetting                                              
⠇ |       409 | spectra_subsetting                                              
⠼ |       415 | spectra_subsetting                                              
⠋ |       421 | spectra_subsetting                                              
⠦ |       427 | spectra_subsetting                                              
⠹ |       433 | spectra_subsetting                                              
⠇ |       439 | spectra_subsetting                                              
⠼ |       445 | spectra_subsetting                                              
⠋ |       451 | spectra_subsetting                                              
⠦ |       457 | spectra_subsetting                                              
⠹ |       463 | spectra_subsetting                                              
⠇ |       469 | spectra_subsetting                                              
⠼ |       475 | spectra_subsetting                                              
⠏ |       480 | spectra_subsetting                                              
⠸ |       484 | spectra_subsetting                                              
⠏ |       490 | spectra_subsetting                                              
⠴ |       496 | spectra_subsetting                                              
⠙ |       502 | spectra_subsetting                                              
⠧ |       508 | spectra_subsetting                                              
⠸ |       514 | spectra_subsetting                                              
⠏ |       520 | spectra_subsetting                                              
⠴ |       526 | spectra_subsetting                                              
⠙ |       532 | spectra_subsetting                                              
⠧ |       538 | spectra_subsetting                                              
⠸ |       544 | spectra_subsetting                                              
⠏ |       550 | spectra_subsetting                                              
⠴ |       556 | spectra_subsetting                                              
⠙ |       562 | spectra_subsetting                                              
⠧ |       568 | spectra_subsetting                                              
⠸ |       574 | spectra_subsetting                                              
⠏ |       580 | spectra_subsetting                                              
⠴ |       586 | spectra_subsetting                                              
⠙ |       592 | spectra_subsetting                                              
⠧ |       598 | spectra_subsetting                                              
⠸ |       604 | spectra_subsetting                                              
⠏ |       610 | spectra_subsetting                                              
⠴ |       616 | spectra_subsetting                                              
⠙ |       622 | spectra_subsetting                                              
⠧ |       628 | spectra_subsetting                                              
⠸ |       634 | spectra_subsetting                                              
⠏ |       640 | spectra_subsetting                                              
⠴ |       646 | spectra_subsetting                                              
⠙ |       652 | spectra_subsetting                                              
⠧ |       658 | spectra_subsetting                                              
⠸ |       664 | spectra_subsetting                                              
⠏ |       670 | spectra_subsetting                                              
⠴ |       676 | spectra_subsetting                                              
⠙ |       682 | spectra_subsetting                                              
⠧ |       688 | spectra_subsetting                                              
⠸ |       694 | spectra_subsetting                                              
⠏ |       700 | spectra_subsetting                                              
⠴ |       706 | spectra_subsetting                                              
⠙ |       712 | spectra_subsetting                                              
⠧ |       718 | spectra_subsetting                                              
⠸ |       724 | spectra_subsetting                                              
⠏ |       730 | spectra_subsetting                                              
⠴ |       736 | spectra_subsetting                                              
⠙ |       742 | spectra_subsetting                                              
⠧ |       748 | spectra_subsetting                                              
⠸ |       754 | spectra_subsetting                                              
⠏ |       760 | spectra_subsetting                                              
⠹ |       763 | spectra_subsetting                                              
⠦ |       767 | spectra_subsetting                                              
⠙ |       772 | spectra_subsetting                                              
⠧ |       778 | spectra_subsetting                                              
⠸ |       784 | spectra_subsetting                                              
⠏ |       790 | spectra_subsetting                                              
⠴ |       796 | spectra_subsetting                                              
⠙ |       802 | spectra_subsetting                                              
⠧ |       808 | spectra_subsetting                                              
⠸ |       814 | spectra_subsetting                                              
⠏ |       820 | spectra_subsetting                                              
⠴ |       826 | spectra_subsetting                                              
⠙ |       832 | spectra_subsetting                                              
⠧ |       838 | spectra_subsetting                                              
⠸ |       844 | spectra_subsetting                                              
⠏ |       850 | spectra_subsetting                                              
⠴ |       856 | spectra_subsetting                                              
⠙ |       862 | spectra_subsetting                                              
⠧ |       868 | spectra_subsetting                                              
⠸ |       874 | spectra_subsetting                                              
⠏ |       880 | spectra_subsetting                                              
⠴ |       886 | spectra_subsetting                                              
⠙ |       892 | spectra_subsetting                                              
⠧ |       898 | spectra_subsetting                                              
⠸ |       904 | spectra_subsetting                                              
⠏ |       910 | spectra_subsetting                                              
⠴ |       916 | spectra_subsetting                                              
⠙ |       922 | spectra_subsetting                                              
⠧ |       928 | spectra_subsetting                                              
⠸ |       934 | spectra_subsetting                                              
⠏ |       940 | spectra_subsetting                                              
⠴ |       946 | spectra_subsetting                                              
⠙ |       952 | spectra_subsetting                                              
⠧ |       958 | spectra_subsetting                                              
⠸ |       964 | spectra_subsetting                                              
⠏ |       970 | spectra_subsetting                                              
⠴ |       976 | spectra_subsetting                                              
⠙ |       982 | spectra_subsetting                                              
⠧ |       988 | spectra_subsetting                                              
⠸ |       994 | spectra_subsetting                                              
⠏ |       1000 | spectra_subsetting                                             
⠴ |       1006 | spectra_subsetting                                             
⠙ |       1012 | spectra_subsetting                                             
⠧ |       1018 | spectra_subsetting                                             
⠸ |       1024 | spectra_subsetting                                             
⠏ |       1030 | spectra_subsetting                                             
⠴ |       1036 | spectra_subsetting                                             
⠙ |       1042 | spectra_subsetting                                             
⠧ |       1048 | spectra_subsetting                                             
⠸ |       1054 | spectra_subsetting                                             
⠏ |       1060 | spectra_subsetting                                             
⠴ |       1066 | spectra_subsetting                                             
⠙ |       1072 | spectra_subsetting                                             
⠧ |       1078 | spectra_subsetting                                             
⠸ |       1084 | spectra_subsetting                                             
⠏ |       1090 | spectra_subsetting                                             
⠴ |       1096 | spectra_subsetting                                             
⠏ |       1100 | spectra_subsetting                                             
⠼ |       1105 | spectra_subsetting                                             
⠋ |       1111 | spectra_subsetting                                             
⠦ |       1117 | spectra_subsetting                                             
⠹ |       1123 | spectra_subsetting                                             
⠇ |       1129 | spectra_subsetting                                             
⠼ |       1135 | spectra_subsetting                                             
⠋ |       1141 | spectra_subsetting                                             
⠦ |       1147 | spectra_subsetting                                             
⠹ |       1153 | spectra_subsetting                                             
⠇ |       1159 | spectra_subsetting                                             
⠼ |       1165 | spectra_subsetting                                             
⠋ |       1171 | spectra_subsetting                                             
⠦ |       1177 | spectra_subsetting                                             
⠹ |       1183 | spectra_subsetting                                             
⠇ |       1189 | spectra_subsetting                                             
⠼ |       1195 | spectra_subsetting                                             
⠋ |       1201 | spectra_subsetting                                             
⠦ |       1207 | spectra_subsetting                                             
⠹ |       1213 | spectra_subsetting                                             
⠇ |       1219 | spectra_subsetting                                             
⠼ |       1225 | spectra_subsetting                                             
⠋ |       1231 | spectra_subsetting                                             
⠦ |       1237 | spectra_subsetting                                             
⠹ |       1243 | spectra_subsetting                                             
⠇ |       1249 | spectra_subsetting                                             
⠼ |       1255 | spectra_subsetting                                             
⠋ |       1261 | spectra_subsetting                                             
⠦ |       1267 | spectra_subsetting                                             
⠹ |       1273 | spectra_subsetting                                             
⠇ |       1279 | spectra_subsetting                                             
⠼ |       1285 | spectra_subsetting                                             
⠋ |       1291 | spectra_subsetting                                             
⠦ |       1297 | spectra_subsetting                                             
⠹ |       1303 | spectra_subsetting                                             
⠇ |       1309 | spectra_subsetting                                             
⠼ |       1315 | spectra_subsetting                                             
⠋ |       1321 | spectra_subsetting                                             
⠦ |       1327 | spectra_subsetting                                             
⠹ |       1333 | spectra_subsetting                                             
⠇ |       1339 | spectra_subsetting                                             
⠼ |       1345 | spectra_subsetting                                             
⠋ |       1351 | spectra_subsetting                                             
⠦ |       1357 | spectra_subsetting                                             
⠹ |       1363 | spectra_subsetting                                             
⠇ |       1369 | spectra_subsetting                                             
⠼ |       1375 | spectra_subsetting                                             
⠋ |       1381 | spectra_subsetting                                             
⠦ |       1387 | spectra_subsetting                                             
⠹ |       1393 | spectra_subsetting                                             
⠇ |       1399 | spectra_subsetting                                             
⠼ |       1405 | spectra_subsetting                                             
⠋ |       1411 | spectra_subsetting                                             
⠦ |       1417 | spectra_subsetting                                             
⠹ |       1423 | spectra_subsetting                                             
⠇ |       1429 | spectra_subsetting                                             
⠼ |       1435 | spectra_subsetting                                             
⠋ |       1441 | spectra_subsetting                                             
⠦ |       1447 | spectra_subsetting                                             
⠹ |       1453 | spectra_subsetting                                             
⠇ |       1459 | spectra_subsetting                                             
⠼ |       1465 | spectra_subsetting                                             
⠋ |       1471 | spectra_subsetting                                             
⠦ |       1477 | spectra_subsetting                                             
⠹ |       1483 | spectra_subsetting                                             
⠇ |       1489 | spectra_subsetting                                             
⠏ |       1490 | spectra_subsetting                                             
⠼ |       1495 | spectra_subsetting                                             
⠋ |       1501 | spectra_subsetting                                             
⠦ |       1507 | spectra_subsetting                                             
⠹ |       1513 | spectra_subsetting                                             
⠇ |       1519 | spectra_subsetting                                             
⠼ |       1525 | spectra_subsetting                                             
⠋ |       1531 | spectra_subsetting                                             
⠦ |       1537 | spectra_subsetting                                             
⠹ |       1543 | spectra_subsetting                                             
⠇ |       1549 | spectra_subsetting                                             
⠼ |       1555 | spectra_subsetting                                             
⠋ |       1561 | spectra_subsetting                                             
⠦ |       1567 | spectra_subsetting                                             
⠹ |       1573 | spectra_subsetting                                             
⠇ |       1579 | spectra_subsetting                                             
⠼ |       1585 | spectra_subsetting                                             
⠋ |       1591 | spectra_subsetting                                             
⠦ |       1597 | spectra_subsetting                                             
⠹ |       1603 | spectra_subsetting                                             
⠇ |       1609 | spectra_subsetting                                             
⠼ |       1615 | spectra_subsetting                                             
⠋ |       1621 | spectra_subsetting                                             
⠦ |       1627 | spectra_subsetting                                             
⠹ |       1633 | spectra_subsetting                                             
⠇ |       1639 | spectra_subsetting                                             
⠼ |       1645 | spectra_subsetting                                             
⠋ |       1651 | spectra_subsetting                                             
⠦ |       1657 | spectra_subsetting                                             
⠹ |       1663 | spectra_subsetting                                             
⠇ |       1669 | spectra_subsetting                                             
⠼ |       1675 | spectra_subsetting                                             
⠋ |       1681 | spectra_subsetting                                             
⠦ |       1687 | spectra_subsetting                                             
⠹ |       1693 | spectra_subsetting                                             
⠇ |       1699 | spectra_subsetting                                             
⠼ |       1705 | spectra_subsetting                                             
⠋ |       1711 | spectra_subsetting                                             
⠦ |       1717 | spectra_subsetting                                             
⠹ |       1723 | spectra_subsetting                                             
⠸ |       1724 | spectra_subsetting                                             
⠼ |       1725 | spectra_subsetting                                             
⠴ |       1726 | spectra_subsetting                                             
⠦ |       1727 | spectra_subsetting                                             
⠧ |       1728 | spectra_subsetting                                             
⠇ |       1729 | spectra_subsetting                                             
⠏ |       1730 | spectra_subsetting                                             
⠋ |       1731 | spectra_subsetting                                             
⠙ |       1732 | spectra_subsetting                                             
⠹ |       1733 | spectra_subsetting                                             
⠸ |       1734 | spectra_subsetting                                             
⠼ |       1735 | spectra_subsetting                                             
⠴ |       1736 | spectra_subsetting                                             
⠦ |       1737 | spectra_subsetting                                             
⠧ |       1738 | spectra_subsetting                                             
⠇ |       1739 | spectra_subsetting                                             
⠏ |       1740 | spectra_subsetting                                             
⠋ |       1741 | spectra_subsetting                                             
⠙ |       1742 | spectra_subsetting                                             
⠹ |       1743 | spectra_subsetting                                             
⠸ |       1744 | spectra_subsetting                                             
⠼ |       1745 | spectra_subsetting                                             
⠴ |       1746 | spectra_subsetting                                             
⠦ |       1747 | spectra_subsetting                                             
⠧ |       1748 | spectra_subsetting                                             
⠇ |       1749 | spectra_subsetting                                             
⠏ |       1750 | spectra_subsetting                                             
⠋ |       1751 | spectra_subsetting                                             
⠙ |       1752 | spectra_subsetting                                             
⠹ |       1753 | spectra_subsetting                                             
⠸ |       1754 | spectra_subsetting                                             
⠼ |       1755 | spectra_subsetting                                             
⠴ |       1756 | spectra_subsetting                                             
⠦ |       1757 | spectra_subsetting                                             
⠧ |       1758 | spectra_subsetting                                             
⠇ |       1759 | spectra_subsetting                                             
⠏ |       1760 | spectra_subsetting                                             
⠋ |       1761 | spectra_subsetting                                             
⠙ |       1762 | spectra_subsetting                                             
⠹ |       1763 | spectra_subsetting                                             
⠸ |       1764 | spectra_subsetting                                             
⠼ |       1765 | spectra_subsetting                                             
⠴ |       1766 | spectra_subsetting                                             
⠦ |       1767 | spectra_subsetting                                             
⠧ |       1768 | spectra_subsetting                                             
⠇ |       1769 | spectra_subsetting                                             
⠏ |       1770 | spectra_subsetting                                             
⠋ |       1771 | spectra_subsetting                                             
⠙ |       1772 | spectra_subsetting                                             
⠹ |       1773 | spectra_subsetting                                             
⠸ |       1774 | spectra_subsetting                                             
⠼ |       1775 | spectra_subsetting                                             
⠴ |       1776 | spectra_subsetting                                             
⠦ |       1777 | spectra_subsetting                                             
⠧ |       1778 | spectra_subsetting                                             
⠇ |       1779 | spectra_subsetting                                             
⠏ |       1780 | spectra_subsetting                                             
⠋ |       1781 | spectra_subsetting                                             
⠙ |       1782 | spectra_subsetting                                             
⠹ |       1783 | spectra_subsetting                                             
⠸ |       1784 | spectra_subsetting                                             
⠼ |       1785 | spectra_subsetting                                             
⠴ |       1786 | spectra_subsetting                                             
⠦ |       1787 | spectra_subsetting                                             
⠧ |       1788 | spectra_subsetting                                             
⠇ |       1789 | spectra_subsetting                                             
⠏ |       1790 | spectra_subsetting                                             
⠋ |       1791 | spectra_subsetting                                             
⠙ |       1792 | spectra_subsetting                                             
⠹ |       1793 | spectra_subsetting                                             
⠸ |       1794 | spectra_subsetting                                             
⠼ |       1795 | spectra_subsetting                                             
⠴ |       1796 | spectra_subsetting                                             
⠦ |       1797 | spectra_subsetting                                             
⠧ |       1798 | spectra_subsetting                                             
⠇ |       1799 | spectra_subsetting                                             
⠏ |       1800 | spectra_subsetting                                             
⠋ |       1801 | spectra_subsetting                                             
⠙ |       1802 | spectra_subsetting                                             
⠹ |       1803 | spectra_subsetting                                             
⠸ |       1804 | spectra_subsetting                                             
⠼ |       1805 | spectra_subsetting                                             
⠴ |       1806 | spectra_subsetting                                             
⠦ |       1807 | spectra_subsetting                                             
⠧ |       1808 | spectra_subsetting                                             
⠇ |       1809 | spectra_subsetting                                             
⠏ |       1810 | spectra_subsetting                                             
⠋ |       1811 | spectra_subsetting                                             
⠙ |       1812 | spectra_subsetting                                             
⠹ |       1813 | spectra_subsetting                                             
⠸ |       1814 | spectra_subsetting                                             
⠼ |       1815 | spectra_subsetting                                             
⠴ |       1816 | spectra_subsetting                                             
⠦ |       1817 | spectra_subsetting                                             
⠧ |       1818 | spectra_subsetting                                             
⠇ |       1819 | spectra_subsetting                                             
⠏ |       1820 | spectra_subsetting                                             
⠋ |       1821 | spectra_subsetting                                             
⠙ |       1822 | spectra_subsetting                                             
⠹ |       1823 | spectra_subsetting                                             
⠸ |       1824 | spectra_subsetting                                             
⠼ |       1825 | spectra_subsetting                                             
⠴ |       1826 | spectra_subsetting                                             
⠦ |       1827 | spectra_subsetting                                             
⠧ |       1828 | spectra_subsetting                                             
⠇ |       1829 | spectra_subsetting                                             
⠏ |       1830 | spectra_subsetting                                             
⠋ |       1831 | spectra_subsetting                                             
⠙ |       1832 | spectra_subsetting                                             
⠹ |       1833 | spectra_subsetting                                             
⠸ |       1834 | spectra_subsetting                                             
⠼ |       1835 | spectra_subsetting                                             
⠴ |       1836 | spectra_subsetting                                             
⠦ |       1837 | spectra_subsetting                                             
⠧ |       1838 | spectra_subsetting                                             
⠇ |       1839 | spectra_subsetting                                             
⠏ |       1840 | spectra_subsetting                                             
⠋ |       1841 | spectra_subsetting                                             
⠙ |       1842 | spectra_subsetting                                             
⠹ |       1843 | spectra_subsetting                                             
⠸ |       1844 | spectra_subsetting                                             
⠼ |       1845 | spectra_subsetting                                             
⠴ |       1846 | spectra_subsetting                                             
⠦ |       1847 | spectra_subsetting                                             
⠧ |       1848 | spectra_subsetting                                             
⠇ |       1849 | spectra_subsetting                                             
⠏ |       1850 | spectra_subsetting                                             
⠋ |       1851 | spectra_subsetting                                             
⠙ |       1852 | spectra_subsetting                                             
⠹ |       1853 | spectra_subsetting                                             
⠸ |       1854 | spectra_subsetting                                             
⠼ |       1855 | spectra_subsetting                                             
⠴ |       1856 | spectra_subsetting                                             
⠦ |       1857 | spectra_subsetting                                             
⠧ |       1858 | spectra_subsetting                                             
⠇ |       1859 | spectra_subsetting                                             
⠏ |       1860 | spectra_subsetting                                             
⠋ |       1861 | spectra_subsetting                                             
⠙ |       1862 | spectra_subsetting                                             
⠹ |       1863 | spectra_subsetting                                             
⠸ |       1864 | spectra_subsetting                                             
⠼ |       1865 | spectra_subsetting                                             
⠴ |       1866 | spectra_subsetting                                             
⠦ |       1867 | spectra_subsetting                                             
⠧ |       1868 | spectra_subsetting                                             
⠇ |       1869 | spectra_subsetting                                             
⠏ |       1870 | spectra_subsetting                                             
⠋ |       1871 | spectra_subsetting                                             
⠙ |       1872 | spectra_subsetting                                             
⠹ |       1873 | spectra_subsetting                                             
⠸ |       1874 | spectra_subsetting                                             
⠼ |       1875 | spectra_subsetting                                             
⠴ |       1876 | spectra_subsetting                                             
⠦ |       1877 | spectra_subsetting                                             
⠧ |       1878 | spectra_subsetting                                             
⠇ |       1879 | spectra_subsetting                                             
⠏ |       1880 | spectra_subsetting                                             
⠋ |       1881 | spectra_subsetting                                             
⠙ |       1882 | spectra_subsetting                                             
⠹ |       1883 | spectra_subsetting                                             
⠸ |       1884 | spectra_subsetting                                             
⠼ |       1885 | spectra_subsetting                                             
⠴ |       1886 | spectra_subsetting                                             
⠦ |       1887 | spectra_subsetting                                             
⠧ |       1888 | spectra_subsetting                                             
⠇ |       1889 | spectra_subsetting                                             
⠏ |       1890 | spectra_subsetting                                             
⠋ |       1891 | spectra_subsetting                                             
⠙ |       1892 | spectra_subsetting                                             
⠹ |       1893 | spectra_subsetting                                             
⠸ |       1894 | spectra_subsetting                                             
⠼ |       1895 | spectra_subsetting                                             
⠴ |       1896 | spectra_subsetting                                             
⠦ |       1897 | spectra_subsetting                                             
⠧ |       1898 | spectra_subsetting                                             
⠇ |       1899 | spectra_subsetting                                             
⠏ |       1900 | spectra_subsetting                                             
⠋ |       1901 | spectra_subsetting                                             
⠙ |       1902 | spectra_subsetting                                             
⠹ |       1903 | spectra_subsetting                                             
⠸ |       1904 | spectra_subsetting                                             
⠼ |       1905 | spectra_subsetting                                             
⠴ |       1906 | spectra_subsetting                                             
⠦ |       1907 | spectra_subsetting                                             
⠧ |       1908 | spectra_subsetting                                             
⠇ |       1909 | spectra_subsetting                                             
⠏ |       1910 | spectra_subsetting                                             
⠋ |       1911 | spectra_subsetting                                             
⠙ |       1912 | spectra_subsetting                                             
⠹ |       1913 | spectra_subsetting                                             
⠸ |       1914 | spectra_subsetting                                             
⠼ |       1915 | spectra_subsetting                                             
⠴ |       1916 | spectra_subsetting                                             
⠦ |       1917 | spectra_subsetting                                             
⠧ |       1918 | spectra_subsetting                                             
⠇ |       1919 | spectra_subsetting                                             
⠏ |       1920 | spectra_subsetting                                             
⠋ |       1921 | spectra_subsetting                                             
⠙ |       1922 | spectra_subsetting                                             
⠹ |       1923 | spectra_subsetting                                             
⠸ |       1924 | spectra_subsetting                                             
⠼ |       1925 | spectra_subsetting                                             
⠴ |       1926 | spectra_subsetting                                             
⠦ |       1927 | spectra_subsetting                                             
⠧ |       1928 | spectra_subsetting                                             
⠇ |       1929 | spectra_subsetting                                             
⠏ |       1930 | spectra_subsetting                                             
⠋ |       1931 | spectra_subsetting                                             
⠙ |       1932 | spectra_subsetting                                             
⠹ |       1933 | spectra_subsetting                                             
⠸ |       1934 | spectra_subsetting                                             
⠼ |       1935 | spectra_subsetting                                             
⠴ |       1936 | spectra_subsetting                                             
⠦ |       1937 | spectra_subsetting                                             
⠧ |       1938 | spectra_subsetting                                             
⠇ |       1939 | spectra_subsetting                                             
⠏ |       1940 | spectra_subsetting                                             
⠋ |       1941 | spectra_subsetting                                             
⠙ |       1942 | spectra_subsetting                                             
⠹ |       1943 | spectra_subsetting                                             
⠸ |       1944 | spectra_subsetting                                             
⠼ |       1945 | spectra_subsetting                                             
⠴ |       1946 | spectra_subsetting                                             
⠦ |       1947 | spectra_subsetting                                             
⠧ |       1948 | spectra_subsetting                                             
⠇ |       1949 | spectra_subsetting                                             
⠏ |       1950 | spectra_subsetting                                             
⠋ |       1951 | spectra_subsetting                                             
⠙ |       1952 | spectra_subsetting                                             
⠹ |       1953 | spectra_subsetting                                             
⠸ |       1954 | spectra_subsetting                                             
⠼ |       1955 | spectra_subsetting                                             
⠴ |       1956 | spectra_subsetting                                             
⠦ |       1957 | spectra_subsetting                                             
⠧ |       1958 | spectra_subsetting                                             
⠇ |       1959 | spectra_subsetting                                             
⠏ |       1960 | spectra_subsetting                                             
⠋ |       1961 | spectra_subsetting                                             
⠙ |       1962 | spectra_subsetting                                             
⠹ |       1963 | spectra_subsetting                                             
⠸ |       1964 | spectra_subsetting                                             
⠼ |       1965 | spectra_subsetting                                             
⠴ |       1966 | spectra_subsetting                                             
⠦ |       1967 | spectra_subsetting                                             
⠧ |       1968 | spectra_subsetting                                             
⠇ |       1969 | spectra_subsetting                                             
⠏ |       1970 | spectra_subsetting                                             
⠋ |       1971 | spectra_subsetting                                             
⠙ |       1972 | spectra_subsetting                                             
⠹ |       1973 | spectra_subsetting                                             
⠸ |       1974 | spectra_subsetting                                             
⠼ |       1975 | spectra_subsetting                                             
⠴ |       1976 | spectra_subsetting                                             
⠦ |       1977 | spectra_subsetting                                             
⠧ |       1978 | spectra_subsetting                                             
⠇ |       1979 | spectra_subsetting                                             
⠏ |       1980 | spectra_subsetting                                             
⠋ |       1981 | spectra_subsetting                                             
⠙ |       1982 | spectra_subsetting                                             
⠹ |       1983 | spectra_subsetting                                             
⠸ |       1984 | spectra_subsetting                                             
⠼ |       1985 | spectra_subsetting                                             
⠴ |       1986 | spectra_subsetting                                             
⠦ |       1987 | spectra_subsetting                                             
⠧ |       1988 | spectra_subsetting                                             
⠇ |       1989 | spectra_subsetting                                             
⠏ |       1990 | spectra_subsetting                                             
⠋ |       1991 | spectra_subsetting                                             
⠙ |       1992 | spectra_subsetting                                             
⠹ |       1993 | spectra_subsetting                                             
⠸ |       1994 | spectra_subsetting                                             
⠼ |       1995 | spectra_subsetting                                             
⠴ |       1996 | spectra_subsetting                                             
⠦ |       1997 | spectra_subsetting                                             
⠧ |       1998 | spectra_subsetting                                             
⠇ |       1999 | spectra_subsetting                                             
⠏ |       2000 | spectra_subsetting                                             
⠋ |       2001 | spectra_subsetting                                             
⠙ |       2002 | spectra_subsetting                                             
⠹ |       2003 | spectra_subsetting                                             
⠸ |       2004 | spectra_subsetting                                             
⠼ |       2005 | spectra_subsetting                                             
⠴ |       2006 | spectra_subsetting                                             
⠦ |       2007 | spectra_subsetting                                             
⠧ |       2008 | spectra_subsetting                                             
⠇ |       2009 | spectra_subsetting                                             
⠏ |       2010 | spectra_subsetting                                             
⠋ |       2011 | spectra_subsetting                                             
⠙ |       2012 | spectra_subsetting                                             
⠹ |       2013 | spectra_subsetting                                             
⠸ |       2014 | spectra_subsetting                                             
⠼ |       2015 | spectra_subsetting                                             
⠴ |       2016 | spectra_subsetting                                             
⠦ |       2017 | spectra_subsetting                                             
⠧ |       2018 | spectra_subsetting                                             
⠇ |       2019 | spectra_subsetting                                             
⠏ |       2020 | spectra_subsetting                                             
⠋ |       2021 | spectra_subsetting                                             
⠙ |       2022 | spectra_subsetting                                             
⠹ |       2023 | spectra_subsetting                                             
⠸ |       2024 | spectra_subsetting                                             
⠼ |       2025 | spectra_subsetting                                             
⠴ |       2026 | spectra_subsetting                                             
⠦ |       2027 | spectra_subsetting                                             
⠧ |       2028 | spectra_subsetting                                             
⠇ |       2029 | spectra_subsetting                                             
⠏ |       2030 | spectra_subsetting                                             
⠋ |       2031 | spectra_subsetting                                             
⠙ |       2032 | spectra_subsetting                                             
⠹ |       2033 | spectra_subsetting                                             
⠸ |       2034 | spectra_subsetting                                             
⠼ |       2035 | spectra_subsetting                                             
⠴ |       2036 | spectra_subsetting                                             
⠦ |       2037 | spectra_subsetting                                             
⠧ |       2038 | spectra_subsetting                                             
⠇ |       2039 | spectra_subsetting                                             
⠏ |       2040 | spectra_subsetting                                             
⠋ |       2041 | spectra_subsetting                                             
⠙ |       2042 | spectra_subsetting                                             
⠹ |       2043 | spectra_subsetting                                             
⠸ |       2044 | spectra_subsetting                                             
⠼ |       2045 | spectra_subsetting                                             
⠴ |       2046 | spectra_subsetting                                             
⠦ |       2047 | spectra_subsetting                                             
⠧ |       2048 | spectra_subsetting                                             
⠇ |       2049 | spectra_subsetting                                             
⠏ |       2050 | spectra_subsetting                                             
⠋ |       2051 | spectra_subsetting                                             
⠙ |       2052 | spectra_subsetting                                             
⠹ |       2053 | spectra_subsetting                                             
⠸ |       2054 | spectra_subsetting                                             
⠼ |       2055 | spectra_subsetting                                             
⠴ |       2056 | spectra_subsetting                                             
⠦ |       2057 | spectra_subsetting                                             
⠧ |       2058 | spectra_subsetting                                             
⠇ |       2059 | spectra_subsetting                                             
⠏ |       2060 | spectra_subsetting                                             
⠋ |       2061 | spectra_subsetting                                             
⠙ |       2062 | spectra_subsetting                                             
⠹ |       2063 | spectra_subsetting                                             
⠸ |       2064 | spectra_subsetting                                             
⠼ |       2065 | spectra_subsetting                                             
⠴ |       2066 | spectra_subsetting                                             
⠦ |       2067 | spectra_subsetting                                             
⠧ |       2068 | spectra_subsetting                                             
⠇ |       2069 | spectra_subsetting                                             
⠏ |       2070 | spectra_subsetting                                             
⠋ |       2071 | spectra_subsetting                                             
⠙ |       2072 | spectra_subsetting                                             
⠹ |       2073 | spectra_subsetting                                             
⠸ |       2074 | spectra_subsetting                                             
⠼ |       2075 | spectra_subsetting                                             
⠴ |       2076 | spectra_subsetting                                             
⠦ |       2077 | spectra_subsetting                                             
⠧ |       2078 | spectra_subsetting                                             
⠇ |       2079 | spectra_subsetting                                             
⠏ |       2080 | spectra_subsetting                                             
⠋ |       2081 | spectra_subsetting                                             
⠙ |       2082 | spectra_subsetting                                             
⠹ |       2083 | spectra_subsetting                                             
⠸ |       2084 | spectra_subsetting                                             
⠼ |       2085 | spectra_subsetting                                             
⠴ |       2086 | spectra_subsetting                                             
⠦ |       2087 | spectra_subsetting                                             
⠧ |       2088 | spectra_subsetting                                             
⠇ |       2089 | spectra_subsetting                                             
⠏ |       2090 | spectra_subsetting                                             
⠋ |       2091 | spectra_subsetting                                             
⠙ |       2092 | spectra_subsetting                                             
⠹ |       2093 | spectra_subsetting                                             
⠸ |       2094 | spectra_subsetting                                             
⠼ |       2095 | spectra_subsetting                                             
⠴ |       2096 | spectra_subsetting                                             
⠦ |       2097 | spectra_subsetting                                             
⠧ |       2098 | spectra_subsetting                                             
⠇ |       2099 | spectra_subsetting                                             
⠏ |       2100 | spectra_subsetting                                             
⠋ |       2101 | spectra_subsetting                                             
⠙ |       2102 | spectra_subsetting                                             
⠹ |       2103 | spectra_subsetting                                             
⠸ |       2104 | spectra_subsetting                                             
⠼ |       2105 | spectra_subsetting                                             
⠴ |       2106 | spectra_subsetting                                             
⠦ |       2107 | spectra_subsetting                                             
⠧ |       2108 | spectra_subsetting                                             
⠇ |       2109 | spectra_subsetting                                             
⠏ |       2110 | spectra_subsetting                                             
⠋ |       2111 | spectra_subsetting                                             
⠙ |       2112 | spectra_subsetting                                             
⠹ |       2113 | spectra_subsetting                                             
⠸ |       2114 | spectra_subsetting                                             
⠼ |       2115 | spectra_subsetting                                             
⠴ |       2116 | spectra_subsetting                                             
⠦ |       2117 | spectra_subsetting                                             
⠧ |       2118 | spectra_subsetting                                             
⠇ |       2119 | spectra_subsetting                                             
⠏ |       2120 | spectra_subsetting                                             
⠋ |       2121 | spectra_subsetting                                             
⠙ |       2122 | spectra_subsetting                                             
⠹ |       2123 | spectra_subsetting                                             
⠸ |       2124 | spectra_subsetting                                             
⠼ |       2125 | spectra_subsetting                                             
⠴ |       2126 | spectra_subsetting                                             
⠦ |       2127 | spectra_subsetting                                             
⠧ |       2128 | spectra_subsetting                                             
⠇ |       2129 | spectra_subsetting                                             
⠏ |       2130 | spectra_subsetting                                             
⠋ |       2131 | spectra_subsetting                                             
⠙ |       2132 | spectra_subsetting                                             
⠹ |       2133 | spectra_subsetting                                             
⠸ |       2134 | spectra_subsetting                                             
⠼ |       2135 | spectra_subsetting                                             
⠴ |       2136 | spectra_subsetting                                             
⠦ |       2137 | spectra_subsetting                                             
⠧ |       2138 | spectra_subsetting                                             
⠇ |       2139 | spectra_subsetting                                             
⠏ |       2140 | spectra_subsetting                                             
⠋ |       2141 | spectra_subsetting                                             
⠙ |       2142 | spectra_subsetting                                             
⠹ |       2143 | spectra_subsetting                                             
⠸ |       2144 | spectra_subsetting                                             
⠼ |       2145 | spectra_subsetting                                             
⠴ |       2146 | spectra_subsetting                                             
⠦ |       2147 | spectra_subsetting                                             
⠧ |       2148 | spectra_subsetting                                             
⠇ |       2149 | spectra_subsetting                                             
⠏ |       2150 | spectra_subsetting                                             
⠋ |       2151 | spectra_subsetting                                             
⠙ |       2152 | spectra_subsetting                                             
⠹ |       2153 | spectra_subsetting                                             
⠸ |       2154 | spectra_subsetting                                             
⠼ |       2155 | spectra_subsetting                                             
⠴ |       2156 | spectra_subsetting                                             
⠦ |       2157 | spectra_subsetting                                             
⠧ |       2158 | spectra_subsetting                                             
⠇ |       2159 | spectra_subsetting                                             
⠏ |       2160 | spectra_subsetting                                             
⠋ |       2161 | spectra_subsetting                                             
⠙ |       2162 | spectra_subsetting                                             
⠹ |       2163 | spectra_subsetting                                             
⠸ |       2164 | spectra_subsetting                                             
⠼ |       2165 | spectra_subsetting                                             
⠴ |       2166 | spectra_subsetting                                             
⠦ |       2167 | spectra_subsetting                                             
⠧ |       2168 | spectra_subsetting                                             
⠇ |       2169 | spectra_subsetting                                             
⠏ |       2170 | spectra_subsetting                                             
⠋ |       2171 | spectra_subsetting                                             
⠙ |       2172 | spectra_subsetting                                             
⠹ |       2173 | spectra_subsetting                                             
⠸ |       2174 | spectra_subsetting                                             
⠼ |       2175 | spectra_subsetting                                             
⠴ |       2176 | spectra_subsetting                                             
⠦ |       2177 | spectra_subsetting                                             
⠧ |       2178 | spectra_subsetting                                             
⠇ |       2179 | spectra_subsetting                                             
⠏ |       2180 | spectra_subsetting                                             
⠋ |       2181 | spectra_subsetting                                             
⠙ |       2182 | spectra_subsetting                                             
⠹ |       2183 | spectra_subsetting                                             
⠸ |       2184 | spectra_subsetting                                             
⠼ |       2185 | spectra_subsetting                                             
⠴ |       2186 | spectra_subsetting                                             
⠦ |       2187 | spectra_subsetting                                             
⠧ |       2188 | spectra_subsetting                                             
⠇ |       2189 | spectra_subsetting                                             
⠏ |       2190 | spectra_subsetting                                             
⠋ |       2191 | spectra_subsetting                                             
⠙ |       2192 | spectra_subsetting                                             
⠹ |       2193 | spectra_subsetting                                             
⠸ |       2194 | spectra_subsetting                                             
⠼ |       2195 | spectra_subsetting                                             
⠴ |       2196 | spectra_subsetting                                             
⠦ |       2197 | spectra_subsetting                                             
⠧ |       2198 | spectra_subsetting                                             
⠇ |       2199 | spectra_subsetting                                             
⠏ |       2200 | spectra_subsetting                                             
⠋ |       2201 | spectra_subsetting                                             
⠙ |       2202 | spectra_subsetting                                             
⠹ |       2203 | spectra_subsetting                                             
⠸ |       2204 | spectra_subsetting                                             
⠼ |       2205 | spectra_subsetting                                             
⠴ |       2206 | spectra_subsetting                                             
⠦ |       2207 | spectra_subsetting                                             
⠧ |       2208 | spectra_subsetting                                             
⠇ |       2209 | spectra_subsetting                                             
⠏ |       2210 | spectra_subsetting                                             
⠋ |       2211 | spectra_subsetting                                             
⠙ |       2212 | spectra_subsetting                                             
⠹ |       2213 | spectra_subsetting                                             
⠸ |       2214 | spectra_subsetting                                             
⠼ |       2215 | spectra_subsetting                                             
⠴ |       2216 | spectra_subsetting                                             
⠦ |       2217 | spectra_subsetting                                             
⠧ |       2218 | spectra_subsetting                                             
⠇ |       2219 | spectra_subsetting                                             
⠏ |       2220 | spectra_subsetting                                             
⠋ |       2221 | spectra_subsetting                                             
⠙ |       2222 | spectra_subsetting                                             
⠹ |       2223 | spectra_subsetting                                             
⠸ |       2224 | spectra_subsetting                                             
⠼ |       2225 | spectra_subsetting                                             
⠴ |       2226 | spectra_subsetting                                             
⠦ |       2227 | spectra_subsetting                                             
⠧ |       2228 | spectra_subsetting                                             
⠇ |       2229 | spectra_subsetting                                             
⠏ |       2230 | spectra_subsetting                                             
⠋ |       2231 | spectra_subsetting                                             
⠙ |       2232 | spectra_subsetting                                             
⠹ |       2233 | spectra_subsetting                                             
⠸ |       2234 | spectra_subsetting                                             
⠼ |       2235 | spectra_subsetting                                             
⠴ |       2236 | spectra_subsetting                                             
⠦ |       2237 | spectra_subsetting                                             
⠧ |       2238 | spectra_subsetting                                             
⠇ |       2239 | spectra_subsetting                                             
⠏ |       2240 | spectra_subsetting                                             
⠋ |       2241 | spectra_subsetting                                             
⠙ |       2242 | spectra_subsetting                                             
⠹ |       2243 | spectra_subsetting                                             
⠸ |       2244 | spectra_subsetting                                             
⠼ |       2245 | spectra_subsetting                                             
⠴ |       2246 | spectra_subsetting                                             
⠦ |       2247 | spectra_subsetting                                             
⠧ |       2248 | spectra_subsetting                                             
⠇ |       2249 | spectra_subsetting                                             
⠏ |       2250 | spectra_subsetting                                             
⠋ |       2251 | spectra_subsetting                                             
⠙ |       2252 | spectra_subsetting                                             
⠹ |       2253 | spectra_subsetting                                             
⠸ |       2254 | spectra_subsetting                                             
⠼ |       2255 | spectra_subsetting                                             
⠴ |       2256 | spectra_subsetting                                             
⠦ |       2257 | spectra_subsetting                                             
⠧ |       2258 | spectra_subsetting                                             
⠇ |       2259 | spectra_subsetting                                             
⠏ |       2260 | spectra_subsetting                                             
⠋ |       2261 | spectra_subsetting                                             
⠙ |       2262 | spectra_subsetting                                             
⠹ |       2263 | spectra_subsetting                                             
⠸ |       2264 | spectra_subsetting                                             
⠼ |       2265 | spectra_subsetting                                             
⠴ |       2266 | spectra_subsetting                                             
⠦ |       2267 | spectra_subsetting                                             
⠧ |       2268 | spectra_subsetting                                             
⠇ |       2269 | spectra_subsetting                                             
⠏ |       2270 | spectra_subsetting                                             
⠋ |       2271 | spectra_subsetting                                             
⠙ |       2272 | spectra_subsetting                                             
⠹ |       2273 | spectra_subsetting                                             
⠸ |       2274 | spectra_subsetting                                             
⠼ |       2275 | spectra_subsetting                                             
⠴ |       2276 | spectra_subsetting                                             
⠦ |       2277 | spectra_subsetting                                             
⠧ |       2278 | spectra_subsetting                                             
⠇ |       2279 | spectra_subsetting                                             
⠏ |       2280 | spectra_subsetting                                             
⠋ |       2281 | spectra_subsetting                                             
⠙ |       2282 | spectra_subsetting                                             
⠹ |       2283 | spectra_subsetting                                             
⠸ |       2284 | spectra_subsetting                                             
⠼ |       2285 | spectra_subsetting                                             
⠴ |       2286 | spectra_subsetting                                             
⠦ |       2287 | spectra_subsetting                                             
⠧ |       2288 | spectra_subsetting                                             
⠇ |       2289 | spectra_subsetting                                             
⠏ |       2290 | spectra_subsetting                                             
⠋ |       2291 | spectra_subsetting                                             
⠙ |       2292 | spectra_subsetting                                             
⠹ |       2293 | spectra_subsetting                                             
⠸ |       2294 | spectra_subsetting                                             
⠼ |       2295 | spectra_subsetting                                             
⠴ |       2296 | spectra_subsetting                                             
⠇ |       2299 | spectra_subsetting                                             
⠋ |       2301 | spectra_subsetting                                             
⠼ |       2305 | spectra_subsetting                                             
⠦ |       2307 | spectra_subsetting                                             
⠏ |       2310 | spectra_subsetting                                             
⠹ |       2313 | spectra_subsetting                                             
✔ |       2313 | spectra_subsetting [143.4s]

⠏ |         0 | spectra_variables                                               
⠴ |         6 | spectra_variables                                               
⠙ |        12 | spectra_variables                                               
⠸ |        14 | spectra_variables                                               
⠴ |        16 | spectra_variables                                               
⠦ |        27 | spectra_variables                                               
⠇ |        39 | spectra_variables                                               
⠹ |        43 | spectra_variables                                               
⠸ |        54 | spectra_variables                                               
⠋ |     1  60 | spectra_variables                                               
✔ |     1  62 | spectra_variables [22.5s]

══ Results ═════════════════════════════════════════════════════════════════════
Duration: 166.0 s

── Skipped tests (1) ───────────────────────────────────────────────────────────
• empty test (1): 'test_spectra_variables.R:262:1'

[ FAIL 0 | WARN 0 | SKIP 1 | PASS 2375 ]
> 
> proc.time()
   user  system elapsed 
189.009  21.053 249.804 

Example timings

MsBackendRawFileReader.Rcheck/MsBackendRawFileReader-Ex.timings

nameusersystemelapsed
MsBackendRawFileReader-class 6.758 2.57710.057
MsBackendRawFileReader11.501 4.83316.886
hidden_aliases5.4192.2467.979
ioBenchmark61.65017.54437.558