Back to Multiple platform build/check report for BioC 3.17: simplified long |
|
This page was generated on 2023-03-21 11:06:14 -0400 (Tue, 21 Mar 2023).
Hostname | OS | Arch (*) | R version | Installed pkgs |
---|---|---|---|---|
nebbiolo1 | Linux (Ubuntu 22.04.1 LTS) | x86_64 | R Under development (unstable) (2023-03-16 r83996) -- "Unsuffered Consequences" | 4305 |
palomino3 | Windows Server 2022 Datacenter | x64 | R Under development (unstable) (2023-03-15 r83984 ucrt) -- "Unsuffered Consequences" | 4287 |
merida1 | macOS 10.14.6 Mojave | x86_64 | R Under development (unstable) (2023-03-16 r83985) -- "Unsuffered Consequences" | 4286 |
Click on any hostname to see more info about the system (e.g. compilers) (*) as reported by 'uname -p', except on Windows and Mac OS X |
To the developers/maintainers of the openCyto package: - Please allow up to 24 hours (and sometimes 48 hours) for your latest push to git@git.bioconductor.org:packages/openCyto.git to reflect on this report. See How and When does the builder pull? When will my changes propagate? for more information. - Make sure to use the following settings in order to reproduce any error or warning you see on this page. |
Package 1411/2189 | Hostname | OS / Arch | INSTALL | BUILD | CHECK | BUILD BIN | ||||||||
openCyto 2.11.1 (landing page) Mike Jiang
| nebbiolo1 | Linux (Ubuntu 22.04.1 LTS) / x86_64 | OK | OK | WARNINGS | ![]() | ||||||||
palomino3 | Windows Server 2022 Datacenter / x64 | OK | OK | WARNINGS | OK | ![]() | ||||||||
merida1 | macOS 10.14.6 Mojave / x86_64 | OK | OK | WARNINGS | OK | ![]() | ||||||||
Package: openCyto |
Version: 2.11.1 |
Command: chmod a+r openCyto -R && F:\biocbuild\bbs-3.17-bioc\R\bin\R.exe CMD build --keep-empty-dirs --no-resave-data openCyto |
StartedAt: 2023-03-20 20:47:52 -0400 (Mon, 20 Mar 2023) |
EndedAt: 2023-03-20 20:58:30 -0400 (Mon, 20 Mar 2023) |
EllapsedTime: 637.4 seconds |
RetCode: 0 |
Status: OK |
PackageFile: openCyto_2.11.1.tar.gz |
PackageFileSize: 1.02 MiB |
############################################################################## ############################################################################## ### ### Running command: ### ### chmod a+r openCyto -R && F:\biocbuild\bbs-3.17-bioc\R\bin\R.exe CMD build --keep-empty-dirs --no-resave-data openCyto ### ############################################################################## ############################################################################## * checking for file 'openCyto/DESCRIPTION' ... OK * preparing 'openCyto': * checking DESCRIPTION meta-information ... OK * cleaning src * installing the package to build vignettes * creating vignettes ... OK * cleaning src * checking for LF line-endings in source and make files and shell scripts * checking for empty or unneeded directories NB: this package now depends on R (>= 3.5.0) WARNING: Added dependency on R >= 3.5.0 because serialized objects in serialize/load version 3 cannot be read in older versions of R. File(s) containing such objects: 'openCyto/tests/testthat/expectResults.rds' * building 'openCyto_2.11.1.tar.gz'