Back to Multiple platform build/check report for BioC 3.17:   simplified   long
AB[C]DEFGHIJKLMNOPQRSTUVWXYZ

This page was generated on 2023-10-16 11:36:01 -0400 (Mon, 16 Oct 2023).

HostnameOSArch (*)R versionInstalled pkgs
nebbiolo1Linux (Ubuntu 22.04.2 LTS)x86_644.3.1 (2023-06-16) -- "Beagle Scouts" 4626
palomino3Windows Server 2022 Datacenterx644.3.1 (2023-06-16 ucrt) -- "Beagle Scouts" 4379
merida1macOS 12.6.4 Montereyx86_644.3.1 (2023-06-16) -- "Beagle Scouts" 4395
Click on any hostname to see more info about the system (e.g. compilers)      (*) as reported by 'uname -p', except on Windows and Mac OS X

Package 398/2230HostnameOS / ArchINSTALLBUILDCHECKBUILD BIN
Cogito 1.6.0  (landing page)
Annika B├╝rger
Snapshot Date: 2023-10-15 14:00:13 -0400 (Sun, 15 Oct 2023)
git_url: https://git.bioconductor.org/packages/Cogito
git_branch: RELEASE_3_17
git_last_commit: caa4ce9
git_last_commit_date: 2023-04-25 11:33:44 -0400 (Tue, 25 Apr 2023)
nebbiolo1Linux (Ubuntu 22.04.2 LTS) / x86_64  OK    OK    OK  UNNEEDED, same version is already published
palomino3Windows Server 2022 Datacenter / x64  OK    OK    OK    OK  UNNEEDED, same version is already published
merida1macOS 12.6.4 Monterey / x86_64  OK    OK    OK    OK  UNNEEDED, same version is already published
kjohnson2macOS 12.6.1 Monterey / arm64see weekly results here

BUILD results for Cogito on palomino3


To the developers/maintainers of the Cogito package:
- Allow up to 24 hours (and sometimes 48 hours) for your latest push to git@git.bioconductor.org:packages/Cogito.git to reflect on this report. See Troubleshooting Build Report for more information.
- Use the following Renviron settings to reproduce errors and warnings.
- If 'R CMD check' started to fail recently on the Linux builder(s) over a missing dependency, add the missing dependency to 'Suggests:' in your DESCRIPTION file. See Renviron.bioc for more information.

raw results


Summary

Package: Cogito
Version: 1.6.0
Command: chmod a+r Cogito -R && F:\biocbuild\bbs-3.17-bioc\R\bin\R.exe CMD build --keep-empty-dirs --no-resave-data Cogito
StartedAt: 2023-10-15 18:16:26 -0400 (Sun, 15 Oct 2023)
EndedAt: 2023-10-15 18:17:33 -0400 (Sun, 15 Oct 2023)
EllapsedTime: 66.8 seconds
RetCode: 0
Status:   OK  
PackageFile: Cogito_1.6.0.tar.gz
PackageFileSize: 869.1 KiB

Command output

##############################################################################
##############################################################################
###
### Running command:
###
###   chmod a+r Cogito -R && F:\biocbuild\bbs-3.17-bioc\R\bin\R.exe CMD build --keep-empty-dirs --no-resave-data Cogito
###
##############################################################################
##############################################################################


* checking for file 'Cogito/DESCRIPTION' ... OK
* preparing 'Cogito':
* checking DESCRIPTION meta-information ... OK
* installing the package to build vignettes
* creating vignettes ... OK
* checking for LF line-endings in source and make files and shell scripts
* checking for empty or unneeded directories
* building 'Cogito_1.6.0.tar.gz'